Workbook

Sheet 対象災害選択シート
A1: 「対象災害選択シート」
A3: ・対象となる災害を選んでください。 ・自衛水防組織の有無を選んでください。
B6: 入力項目 | T6: 入力セル | AM6: 入力例
A7: （対象災害）
B9: 洪水（荒川） | T9: ○ | Y9: ○：対象、✕：対象外 | AM9: ○/✕
B11: 洪水（神田川） | T11: ○ | Y11: ○：対象、✕：対象外 | AM11: ○/✕
B13: 高潮 | T13: ○ | Y13: ○：対象、✕：対象外 | AM13: ○/✕
B15: 土砂災害 | T15: ○ | Y15: ○：対象、✕：対象外 | AM15: ○/✕
A17: （自衛水防組織） | BE17: 防災体制確立の判断時期に基づき、注意、警戒、非常の体制をとり、管理権限者が定めた統括管理者のもと、総括・情報班、避難誘導班が避難誘導等の活動を行う。
B19: 自衛水防組織 | T19: ○ | Y19: ○：有り、✕：無し | AM19: ○/✕ | BE19: 防災体制確立の判断時期に基づき、注意、警戒、非常の体制をとり、管理権限者のもと情報収集伝達要員、避難誘導要員が避難誘導等の活動を行う。
BG28: =IF(BF22<>"",RIGHT(BF22,LEN(BF22)-1),"")
BD29: 表紙 | BE29: =COUNTIF(対象災害選択シート!T9:V14,"○") -> 3 | BF29: =IF(対象災害選択シート!$T$9="○"," 洪水（荒川）","")&IF(対象災害選択シート!$T$11="○"," 洪水（神田川）","")&IF(対象災害選択シート!$T$13="○"," 高潮","") -> 洪水（荒川） 洪水（神田川） 高潮 | BG29: 対象災害：水害（ | BH29: =IF(BF29<>"",RIGHT(BF29,LEN(BF29)-1),"") -> 洪水（荒川） 洪水（神田川） 高潮 | BI29: ） | BJ29: 対象災害：土砂災害
BE30: =COUNTIF(対象災害選択シート!T9:V15,"○") -> 4 | BG30: 土砂災害
BD31: 様式１ | BE31: =COUNTIF(対象災害選択シート!T9:V15,"○") -> 4 | BF31: =IF(対象災害選択シート!T9="○","・洪水（荒川）時","")&IF(対象災害選択シート!T11="○","・洪水（神田川）時","")&IF(対象災害選択シート!T13="○","・高潮時","")&IF(対象災害選択シート!T15="○","・土砂災害の発生時","") -> ・洪水（荒川）時・洪水（神田川）時・高潮時・土砂災害の発生時 | BI31: この計画は、 | BJ31: 本施設の利用者の | BK31: =IF(BF31<>"",RIGHT(BF31,LEN(BF31)-1),"") -> 洪水（荒川）時・洪水（神田川）時・高潮時・土砂災害の発生時 | BL31: の円滑かつ迅速な避難の確保を図ることを目的とする。
BE32: =COUNTIF(対象災害選択シート!$T$9:$V$13,"○") -> 3 | BF32: =IF(対象災害選択シート!T9="○","・洪水（荒川）","")&IF(対象災害選択シート!T11="○","・洪水（神田川）","")&IF(対象災害選択シート!T13="○","・高潮","")&IF(対象災害選択シート!T15="○","・土砂災害","") -> ・洪水（荒川）・洪水（神田川）・高潮・土砂災害 | BI32: また、作成した避難確保計画に基づいて、安全な避難行動を確実に行うことができるよう、防災教育や訓練を行い、施設の職員や利用者に対して、 | BJ32: =IF(BF32<>"",RIGHT(BF32,LEN(BF32)-1),"") -> 洪水（荒川）・洪水（神田川）・高潮・土砂災害 | BK32: に関する知識を深めるとともに、訓練等を通して課題等を抽出し、必要に応じてこの計画を見直ししていくものとする。
BF33: 関連法： | BG33: =IF(BE32<>0,"、水防法","")&IF(対象災害選択シート!T15="○","、土砂災害防止法","") -> 、水防法、土砂災害防止法 | BK33: =IF(BG33<>"",RIGHT(BG33,LEN(BG33)-1),"") -> 水防法、土砂災害防止法 | BL33: =BF33&BK33 -> 関連法：水防法、土砂災害防止法
BD34: 別表1 | BE34: =COUNTIF(対象災害選択シート!T9:V15,"○") -> 4 | BF34: =IF(対象災害選択シート!BF31<>"",RIGHT(対象災害選択シート!BF31,LEN(対象災害選択シート!BF31)-1),"") -> 洪水（荒川）時・洪水（神田川）時・高潮時・土砂災害の発生時 | BG34: の避難場所、避難経路は以下のものとする。

Sheet 作業シート
DS2: 記載例
C4: 学校 | BQ4: 学校
C9: 避難確保計画 | BQ9: 避難確保計画
A16: =IF(対象災害選択シート!BE30=0,"",IF(対象災害選択シート!BE29<>0,対象災害選択シート!BG29&対象災害選択シート!BH29&対象災害選択シート!BI29,対象災害選択シート!BJ29)) -> 対象災害：水害（洪水（荒川） 洪水（神田川） 高潮） | BO16: 対象災害：水害（洪水（荒川） 洪水（神田川） 高潮）
A17: =IF(AND(対象災害選択シート!T15="○",対象災害選択シート!BE29<>0),対象災害選択シート!BG30,"") -> 土砂災害 | BO17: 土砂災害
C32: 【施設名： | BI32: 】 | BQ32: 【施設名： | CC32: ○○○○○ | DW32: 】
AA35: 年 | AI35: 月 | AM35: 作成 | CG35: ○ | CO35: 年 | CS35: ○ | CW35: 月 | DA35: 作成
BO38: このエクセルファイルの使い方
BO39: 作業シートの必要な項目を記入してください。
BO40: 記入する場所は桃色の空欄で示しています。
BO41: 様式２は対象となる災害のみ記入してください。
BO42: 自衛水防組織を設置する場合と設置しない場合があるので、目次を参考に作成してください。
BO43: 記入が終わったら、不要な行を削除してください。
DS47: 記載例
C49: 様式編 目次 | BQ49: 様式編 目次
BQ51: 青色の書類は市町村長に提出してください。
BQ52: 自衛水防組織の有無によって、下記の表をコピーして使用してください。
BS54: 自衛水防組織を設置する場合 | DA54: 自衛水防組織を設置しない場合
V55: 項目 | AN55: 様式等 | AR55: ページ | BU55: 項目 | CM55: 様式等 | CQ55: ページ | DC55: 項目 | DU55: 様式等 | DY55: ページ
BS56: 1 | BU56: 計画の目的 | CM56: 様式１ | CQ56: 1 | DA56: 1 | DC56: 計画の目的 | DU56: 様式１ | DY56: 1
BS57: 2 | BU57: 計画の報告 | CM57: 様式１ | CQ57: 1 | DA57: 2 | DC57: 計画の報告 | DU57: 様式１ | DY57: 1
BS58: 3 | BU58: 計画の適用範囲 | CM58: 様式１ | CQ58: 1 | DA58: 3 | DC58: 計画の適用範囲 | DU58: 様式１ | DY58: 1
BS59: 4 | BU59: 防災体制 | CM59: 様式２ | CQ59: 2～5 | DA59: 4 | DC59: 防災体制 | DU59: 様式２ | DY59: 2～5
BS60: 5 | BU60: 情報収集・伝達 | CM60: 様式３ | CQ60: 6 | DA60: 5 | DC60: 情報収集・伝達 | DU60: 様式３ | DY60: 6
BS61: 6 | BU61: 避難誘導 | CM61: 様式４ | CQ61: 7 | DA61: 6 | DC61: 避難誘導 | DU61: 様式４ | DY61: 7
BS62: 7 | BU62: 避難の確保を図るための施設の整備 | CM62: 様式５ | CQ62: 8 | DA62: 7 | DC62: 避難の確保を図るための施設の整備 | DU62: 様式５ | DY62: 8
BS63: 8 | BU63: 防災教育及び訓練の実施 | CM63: 様式５ | CQ63: 8 | DA63: 8 | DC63: 防災教育及び訓練の実施 | DU63: 様式５ | DY63: 8
BS64: 9 | BU64: 自衛水防組織の業務に関する事項 | CM64: 様式６ | CQ64: 9 | DA64: 10 | DC64: 防災教育及び訓練の年間計画 | DU64: 様式７ | DY64: 9
BS65: 10 | BU65: 防災教育及び訓練の年間計画 | CM65: 様式７ | CQ65: 10 | DA65: 11 | DC65: 利用者緊急連絡先一覧表 | DU65: 様式８ | DY65: 10
BS66: 11 | BU66: 利用者緊急連絡先一覧表 | CM66: 様式８ | CQ66: 11 | DA66: 12 | DC66: 緊急連絡網 | DU66: 様式９ | DY66: 11
BS67: 12 | BU67: 緊急連絡網 | CM67: 様式９ | CQ67: 12 | DA67: 13 | DC67: 外部機関等の緊急連絡先一覧表 | DU67: 様式10 | DY67: 11
BS68: 13 | BU68: 外部機関等の緊急連絡先一覧表 | CM68: 様式10 | CQ68: 12 | DA68: 14 | DC68: 対応別避難誘導一覧表 | DU68: 様式11 | DY68: 12
BS69: 14 | BU69: 対応別避難誘導一覧表 | CM69: 様式11 | CQ69: 13 | DA69: 15 | DC69: 防災体制一覧表 | DU69: 様式12 | DY69: 13
BS70: - | BU70: 自衛水防組織活動要領 | CM70: 別添 | CQ70: 14 | DA70: - | DC70: 施設周辺の避難地図 | DU70: 別紙１ | DY70: －
BS71: - | BU71: 自衛水防組織の編成と任務 | CM71: 別表１ | CQ71: 15
BS72: - | BU72: 自衛水防組織装備品リスト | CM72: 別表２ | CQ72: 15
BS73: - | BU73: 施設周辺の避難地図 | CM73: 別紙１ | CQ73: －
BR76: 自衛水防組織は対象災害に応じて、以下のように定められています。
BR78: （洪水、内水、高潮が対象となる場合）
BR79: 要配慮者利用施設には、自衛水防組織の設置の努力義務が課せられています（水防法第十五条の三第6項）。自衛水防組織を設置する場合、様式６も作成し、合わせて、別添、別表１、別表２を作成します。
...
