Workbook

Sheet 対象災害選択シート
A1: 「対象災害選択シート」
A3: ・対象となる災害を選んでください。 ・自衛水防組織の有無を選んでください。
B6: 入力項目 | T6: 入力セル | AM6: 入力例
A7: （対象災害）
B9: 洪水（荒川） | T9: ○ | Y9: ○：対象、✕：対象外 | AM9: ○/✕
B11: 洪水（神田川） | T11: ○ | Y11: ○：対象、✕：対象外 | AM11: ○/✕
B13: 高潮 | T13: ○ | Y13: ○：対象、✕：対象外 | AM13: ○/✕
B15: 土砂災害 | T15: ○ | Y15: ○：対象、✕：対象外 | AM15: ○/✕
A17: （自衛水防組織） | BE17: 防災体制確立の判断時期に基づき、注意、警戒、非常の体制をとり、管理権限者が定めた統括管理者のもと、総括・情報班、避難誘導班が避難誘導等の活動を行う。
B19: 自衛水防組織 | T19: ○ | Y19: ○：有り、✕：無し | AM19: ○/✕ | BE19: 防災体制確立の判断時期に基づき、注意、警戒、非常の体制をとり、管理権限者のもと情報収集伝達要員、避難誘導要員が避難誘導等の活動を行う。
BG28: =IF(BF22<>"",RIGHT(BF22,LEN(BF22)-1),"")
BD29: 表紙 | BE29: =COUNTIF(対象災害選択シート!T9:V14,"○") -> 3 | BF29: =IF(対象災害選択シート!$T$9="○"," 洪水（荒川）","")&IF(対象災害選択シート!$T$11="○"," 洪水（神田川）","")&IF(対象災害選択シート!$T$13="○"," 高潮","") -> 洪水（荒川） 洪水（神田川） 高潮 | BG29: 対象災害：水害（ | BH29: =IF(BF29<>"",RIGHT(BF29,LEN(BF29)-1),"") -> 洪水（荒川） 洪水（神田川） 高潮 | BI29: ） | BJ29: 対象災害：土砂災害
BE30: =COUNTIF(対象災害選択シート!T9:V15,"○") -> 4 | BG30: 土砂災害
BD31: 様式１ | BE31: =COUNTIF(対象災害選択シート!T9:V15,"○") -> 4 | BF31: =IF(対象災害選択シート!T9="○","・洪水（荒川）時","")&IF(対象災害選択シート!T11="○","・洪水（神田川）時","")&IF(対象災害選択シート!T13="○","・高潮時","")&IF(対象災害選択シート!T15="○","・土砂災害の発生時","") -> ・洪水（荒川）時・洪水（神田川）時・高潮時・土砂災害の発生時 | BI31: この計画は、 | BJ31: 本施設の利用者の | BK31: =IF(BF31<>"",RIGHT(BF31,LEN(BF31)-1),"") -> 洪水（荒川）時・洪水（神田川）時・高潮時・土砂災害の発生時 | BL31: の円滑かつ迅速な避難の確保を図ることを目的とする。
BE32: =COUNTIF(対象災害選択シート!$T$9:$V$13,"○") -> 3 | BF32: =IF(対象災害選択シート!T9="○","・洪水（荒川）","")&IF(対象災害選択シート!T11="○","・洪水（神田川）","")&IF(対象災害選択シート!T13="○","・高潮","")&IF(対象災害選択シート!T15="○","・土砂災害","") -> ・洪水（荒川）・洪水（神田川）・高潮・土砂災害 | BI32: また、作成した避難確保計画に基づいて、安全な避難行動を確実に行うことができるよう、防災教育や訓練を行い、施設の職員や利用者に対して、 | BJ32: =IF(BF32<>"",RIGHT(BF32,LEN(BF32)-1),"") -> 洪水（荒川）・洪水（神田川）・高潮・土砂災害 | BK32: に関する知識を深めるとともに、訓練等を通して課題等を抽出し、必要に応じてこの計画を見直ししていくものとする。
BF33: 関連法： | BG33: =IF(BE32<>0,"、水防法","")&IF(対象災害選択シート!T15="○","、土砂災害防止法","") -> 、水防法、土砂災害防止法 | BK33: =IF(BG33<>"",RIGHT(BG33,LEN(BG33)-1),"") -> 水防法、土砂災害防止法 | BL33: =BF33&BK33 -> 関連法：水防法、土砂災害防止法
BD34: 別表1 | BE34: =COUNTIF(対象災害選択シート!T9:V15,"○") -> 4 | BF34: =IF(対象災害選択シート!BF31<>"",RIGHT(対象災害選択シート!BF31,LEN(対象災害選択シート!BF31)-1),"") -> 洪水（荒川）時・洪水（神田川）時・高潮時・土砂災害の発生時 | BG34: の避難場所、避難経路は以下のものとする。

Sheet 作業シート
DS2: 記載例
C4: 学校 | BQ4: 学校
C9: 避難確保計画 | BQ9: 避難確保計画
A16: =IF(対象災害選択シート!BE30=0,"",IF(対象災害選択シート!BE29<>0,対象災害選択シート!BG29&対象災害選択シート!BH29&対象災害選択シート!BI29,対象災害選択シート!BJ29)) -> 対象災害：水害（洪水（荒川） 洪水（神田川） 高潮） | BO16: 対象災害：水害（洪水（荒川） 洪水（神田川） 高潮）
A17: =IF(AND(対象災害選択シート!T15="○",対象災害選択シート!BE29<>0),対象災害選択シート!BG30,"") -> 土砂災害 | BO17: 土砂災害
C32: 【施設名： | BI32: 】 | BQ32: 【施設名： | CC32: ○○○○○ | DW32: 】
AA35: 年 | AI35: 月 | AM35: 作成 | CG35: ○ | CO35: 年 | CS35: ○ | CW35: 月 | DA35: 作成
BO38: このエクセルファイルの使い方
BO39: 作業シートの必要な項目を記入してください。
BO40: 記入する場所は桃色の空欄で示しています。
BO41: 様式２は対象となる災害のみ記入してください。
BO42: 自衛水防組織を設置する場合と設置しない場合があるので、目次を参考に作成してください。
BO43: 記入が終わったら、不要な行を削除してください。
DS47: 記載例
C49: 様式編 目次 | BQ49: 様式編 目次
BQ51: 青色の書類は市町村長に提出してください。
BQ52: 自衛水防組織の有無によって、下記の表をコピーして使用してください。
BS54: 自衛水防組織を設置する場合 | DA54: 自衛水防組織を設置しない場合
V55: 項目 | AN55: 様式等 | AR55: ページ | BU55: 項目 | CM55: 様式等 | CQ55: ページ | DC55: 項目 | DU55: 様式等 | DY55: ページ
BS56: 1 | BU56: 計画の目的 | CM56: 様式１ | CQ56: 1 | DA56: 1 | DC56: 計画の目的 | DU56: 様式１ | DY56: 1
BS57: 2 | BU57: 計画の報告 | CM57: 様式１ | CQ57: 1 | DA57: 2 | DC57: 計画の報告 | DU57: 様式１ | DY57: 1
BS58: 3 | BU58: 計画の適用範囲 | CM58: 様式１ | CQ58: 1 | DA58: 3 | DC58: 計画の適用範囲 | DU58: 様式１ | DY58: 1
BS59: 4 | BU59: 防災体制 | CM59: 様式２ | CQ59: 2～5 | DA59: 4 | DC59: 防災体制 | DU59: 様式２ | DY59: 2～5
BS60: 5 | BU60: 情報収集・伝達 | CM60: 様式３ | CQ60: 6 | DA60: 5 | DC60: 情報収集・伝達 | DU60: 様式３ | DY60: 6
BS61: 6 | BU61: 避難誘導 | CM61: 様式４ | CQ61: 7 | DA61: 6 | DC61: 避難誘導 | DU61: 様式４ | DY61: 7
BS62: 7 | BU62: 避難の確保を図るための施設の整備 | CM62: 様式５ | CQ62: 8 | DA62: 7 | DC62: 避難の確保を図るための施設の整備 | DU62: 様式５ | DY62: 8
BS63: 8 | BU63: 防災教育及び訓練の実施 | CM63: 様式５ | CQ63: 8 | DA63: 8 | DC63: 防災教育及び訓練の実施 | DU63: 様式５ | DY63: 8
BS64: 9 | BU64: 自衛水防組織の業務に関する事項 | CM64: 様式６ | CQ64: 9 | DA64: 10 | DC64: 防災教育及び訓練の年間計画 | DU64: 様式７ | DY64: 9
BS65: 10 | BU65: 防災教育及び訓練の年間計画 | CM65: 様式７ | CQ65: 10 | DA65: 11 | DC65: 利用者緊急連絡先一覧表 | DU65: 様式８ | DY65: 10
BS66: 11 | BU66: 利用者緊急連絡先一覧表 | CM66: 様式８ | CQ66: 11 | DA66: 12 | DC66: 緊急連絡網 | DU66: 様式９ | DY66: 11
BS67: 12 | BU67: 緊急連絡網 | CM67: 様式９ | CQ67: 12 | DA67: 13 | DC67: 外部機関等の緊急連絡先一覧表 | DU67: 様式10 | DY67: 11
BS68: 13 | BU68: 外部機関等の緊急連絡先一覧表 | CM68: 様式10 | CQ68: 12 | DA68: 14 | DC68: 対応別避難誘導一覧表 | DU68: 様式11 | DY68: 12
BS69: 14 | BU69: 対応別避難誘導一覧表 | CM69: 様式11 | CQ69: 13 | DA69: 15 | DC69: 防災体制一覧表 | DU69: 様式12 | DY69: 13
BS70: - | BU70: 自衛水防組織活動要領 | CM70: 別添 | CQ70: 14 | DA70: - | DC70: 施設周辺の避難地図 | DU70: 別紙１ | DY70: －
BS71: - | BU71: 自衛水防組織の編成と任務 | CM71: 別表１ | CQ71: 15
BS72: - | BU72: 自衛水防組織装備品リスト | CM72: 別表２ | CQ72: 15
BS73: - | BU73: 施設周辺の避難地図 | CM73: 別紙１ | CQ73: －
BR76: 自衛水防組織は対象災害に応じて、以下のように定められています。
BR78: （洪水、内水、高潮が対象となる場合）
BR79: 要配慮者利用施設には、自衛水防組織の設置の努力義務が課せられています（水防法第十五条の三第6項）。自衛水防組織を設置する場合、様式６も作成し、合わせて、別添、別表１、別表２を作成します。
BR82: （津波、土砂災害が対象となる場合）
BR83: 要配慮者利用施設には、自衛水防組織の設置の努力義務規定はありません。
BR85: （参考）自衛水防組織を設置している場合としていない場合の組織図
BS86: 《自衛水防組織を設置する場合》 | DA86: 《自衛水防組織を設置しない場合》
BU88: 管理権限者 | DC88: 管理権限者
BZ89: ↓
BU90: 統括管理者
CC92: 総括・情報班 | DK92: 情報収集伝達要員
CC95: 避難誘導班 | DK95: 避難誘導要員
DS100: 記載例
C103: １ 計画の目的 | BQ103: １ 計画の目的
C104: =IF(対象災害選択シート!BE31=0,"",対象災害選択シート!BI31&対象災害選択シート!BJ31&対象災害選択シート!BK31&対象災害選択シート!BL31&CHAR(10)&対象災害選択シート!BI32&対象災害選択シート!BJ32&対象災害選択シート!BK32) -> この計画は、本施設の利用者の洪水（荒川）時・洪水（神田川）時・高潮時・土砂災害の発生時の円滑かつ迅速な避難の確保を図ることを目的とする。 また、作成した避難確保計画に基づいて、安全な避難行動を確実に行うことができるよう、防災教育や訓練を行い、施設の職員や利用者に対して、洪水（荒川）・洪水（神田川）・高潮・土砂災害に関する知識を深めるとともに、訓練等を通して課題等を抽出し、必要に応じてこの計画を見直ししていくものとする。 | BQ104: この計画は、本施設の利用者の洪水（荒川）時・洪水（神田川）時・高潮時・土砂災害の発生時の円滑かつ迅速な避難の確保を図ることを目的とする。 また、作成した避難確保計画に基づいて、安全な避難行動を確実に行うことができるよう、防災教育や訓練を行い、施設の職員や利用者に対して、洪水（荒川）・洪水（神田川）・高潮・土砂災害に関する知識を深めるとともに、訓練等を通して課題等を抽出し、必要に応じてこの計画を見直ししていくものとする。
C110: =IF(対象災害選択シート!BL33<>"",対象災害選択シート!BL33,"") -> 関連法：水防法、土砂災害防止法 | BQ110: 関連法：水防法、津波防災地域づくりに関する法律、土砂災害防止法
C113: ２ 計画の報告 | BQ113: ２ 計画の報告
C114: 計画を作成又は必要に応じて見直し・修正をしたときは、遅滞なく、当該計画を千代田区へ報告する。 | BQ114: 計画を作成又は必要に応じて見直し・修正をしたときは、遅滞なく、当該計画を千代田区へ報告する。
C118: ３ 計画の適用範囲 | BQ118: ３ 計画の適用範囲
C119: この計画は、本施設に勤務又は利用する全ての者に適用するものとする。 | BQ119: この計画は、本施設に勤務又は利用する全ての者に適用するものとする。
L122: 施設の状況 | BZ122: 施設の状況
T123: 平 日 | AL123: 休 日 | CH123: 平 日 | CZ123: 休 日
T124: 利用者 | AC124: 施設職員 | AL124: 利用者 | AU124: 施設職員 | CH124: 利用者 | CQ124: 施設職員 | CZ124: 利用者 | DI124: 施設職員
L125: 昼 間 | T125: 約 | Z125: 名 | AC125: 約 | AI125: 名 | AL125: 約 | AR125: 名 | AU125: 約 | BA125: 名 | BZ125: 昼 間 | CH125: 約 | CK125: 155 | CN125: 名 | CQ125: 約 | CT125: 52 | CW125: 名 | CZ125: 約 | DF125: 名 | DI125: 約 | DO125: 名
L126: 夜 間 | T126: 約 | Z126: 名 | AC126: 約 | AI126: 名 | AL126: 約 | AR126: 名 | AU126: 約 | BA126: 名 | BZ126: 夜 間 | CH126: 約 | CN126: 名 | CQ126: 約 | CW126: 名 | CZ126: 約 | DF126: 名 | DI126: 約 | DO126: 名
L128: ※利用者数は最大の幼児・児童・生徒数を記載（おおよその数でもよい） | BZ128: ※幼児・児童・生徒数は最大の幼児・児童・生徒数を記載（おおよその幼児・児童・生徒数でもよい）
L129: ※昼間は通学・通園の人数を記載 | BZ129: ※昼間は通学部門の人数を記載
L130: ※夜間は利用者はいない | BZ130: ※夜間は幼児・児童・生徒はいない
L131: ※区民などが施設を利用する場合など、施設管理者が別の部署（地域振興部等）になる状況は考慮しない | BZ131: ※区民などが施設を利用する場合など、施設管理者が別の部署（地域振興部等）になる時は、含めなくてよい
C133: ● 計画の見直し | BQ133: ● 計画の見直し
C134: 避難訓練の結果や社会情勢の変化に伴い、定期的に見直すものとする。 | BQ134: 避難訓練の結果や社会情勢の変化に伴い、定期的に見直すものとする。
C136: ● 事前休業の判断について | BQ136: ● 事前休業の判断について
C137: 大型台風の襲来が予想される場合で、公共交通機関の計画的な運休が予定される場合、臨時休業とする。 | BQ137: 大型台風の襲来が予想される場合で、公共交通機関の計画的な運休が予定される場合、臨時休業とする。
C138: 午前 | I138: 時の時点で、都全域又は「 | W138: 千代田区 | AJ138: 」に以下のいずれかが発表されている場合は、 | BQ138: 午前 | BU138: 7 | BW138: 時の時点で、都全域又は「 | CK138: 千代田区 | CX138: 」に以下のいずれかが発表されている場合は、
C139: 臨時休業とする。 | BQ139: 臨時休業とする。
D141: ・レベル５氾濫特別警報 ・レベル４氾濫危険警報 ・レベル３氾濫警報 | BR141: ・レベル５氾濫特別警報 ・レベル４氾濫危険警報 ・レベル３氾濫警報
D142: ・レベル５大雨特別警報 ・レベル４大雨危険警報 ・レベル３大雨警報 | BR142: ・レベル５大雨特別警報 ・レベル４大雨危険警報 ・レベル３大雨警報
D143: ・レベル５土砂災害特別警報 ・レベル４土砂災害特別警報 ・レベル３土砂災害警報 | BR143: ・レベル５土砂災害特別警報 ・レベル４土砂災害特別警報 ・レベル３土砂災害警報
D144: ・レベル５高潮特別警報 ・レベル４高潮危険警報 ・レベル３高潮警報 | BR144: ・レベル５高潮特別警報 ・レベル４高潮危険警報 ・レベル３高潮警報
BR146: ※幼児・児童・生徒の通学時間も考慮して、休業の判断をする。
C150: 洪水（荒川） | BQ150: 洪水（荒川） | DS150: 記載例
C152: ４ 防災体制 | BQ152: ４ 防災体制
C154: =IF(対象災害選択シート!$T$19="○",対象災害選択シート!$BE$17,対象災害選択シート!$BE$19) -> 防災体制確立の判断時期に基づき、注意、警戒、非常の体制をとり、管理権限者が定めた統括管理者のもと、総括・情報班、避難誘導班が避難誘導等の活動を行う。 | BQ154: 《自衛水防組織を設置する場合》 防災体制確立の判断時期に基づき、注意、警戒、非常の体制をとり、管理権限者が定めた統括管理者のもと、総括・情報班、避難誘導班が避難誘導等の活動を行う。 《自衛水防組織を設置しない場合》 防災体制確立の判断時期に基づき、注意、警戒、非常の体制をとり、管理権限者のもと情報収集伝達要員、避難誘導要員が避難誘導等の活動を行う。
C160: 【防災体制確立の判断時期及び役割分担】 | BQ160: 【防災体制確立の判断時期及び役割分担】
D163: 以下のいずれかに該当する場合 | AD163: ・洪水予報等の情報収集 | AT163: 総括・情報班 | BR163: 以下のいずれかに該当する場合 | CR163: 洪水予報等の情報収集 | DH163: 総括・情報班（情報収集伝達要員）
D164: ・早期注意報で警報級の可能性が | AD164: ・浸水に備えた準備を行う。 | AT164: 避難誘導班 | BR164: ・早期注意報で警報級の可能性が
D165: ［高］もしくは［中］の場合 | BR165: ［高］もしくは［中］の場合
D172: 以下のいずれかに該当する場合 | AD172: ・洪水予報等の情報収集 | AT172: 総括・情報班 | BR172: 以下のいずれかに該当する場合 | CR172: 洪水予報等の情報収集 | DH172: 総括・情報班（情報収集伝達要員）
D173: レベル２氾濫注意報 | AD173: ・使用する資器材の準備 | AT173: 避難誘導班 | BR173: レベル２氾濫注意報 | CR173: 使用する資器材の準備 | DH173: 避難誘導班（避難誘導要員）
D174: ・レベル２大雨注意報 | AD174: ・保護者への事前連絡 | AT174: 総括・情報班 | BR174: ・レベル２大雨注意報 | CR174: 保護者・家族等への事前連絡 | DH174: 総括・情報班（情報収集伝達要員）
D175: ・台風の襲来や局地的な集中豪雨が予想されるとき | BR175: ・台風の襲来や局地的な集中豪雨が予想されるとき | CR175: 周辺住民への事前協力依頼 | DH175: 総括・情報班（情報収集伝達要員）
CR176: 要配慮者の避難誘導 | DH176: 避難誘導班（避難誘導要員）
D181: 以下のいずれかに該当する場合 | AD181: ・施設内全体の避難誘導開始 | AT181: 避難誘導班 | BR181: 以下のいずれかに該当する場合 | CR181: 施設内全体の避難誘導 | DH181: 避難誘導班（避難誘導要員）
D182: ・レベル３氾濫警報 | BR182: ・レベル３氾濫警報
D183: ・レベル３大雨警報 | BR183: ・レベル３大雨警報
D184: ・レベル３高齢者等避難 | BR184: ・レベル３高齢者等避難
D191: レベル２ 注意体制 | AC191: ※判断時期は、気象情報、洪水警報及び避難情報等をもとに設定する。避難情報等は必ずしも発令されない場合があるので、雨の降り方等により自主的な判断に基づき体制を確立することも必要である。 | BR191: レベル２ 注意体制 | CQ191: ※判断時期は、気象情報、洪水警報及び避難情報等をもとに設定する。避難情報等は必ずしも発令されない場合があるので、雨の降り方等により自主的な判断に基づき体制を確立することも必要である。
D192: ・災害モードへ気持ちを切り替える。 ・気象情報等の収集を行う。 | BR192: ・災害モードへ気持ちを切り替える。 ・気象情報等の収集を行う。
M194: ↓ | CA194: ↓
D195: レベル３ 警戒体制 | BR195: レベル３ 警戒体制
D196: ・避難場所へ避難する準備を行う。 ・保護者への引き渡しの準備を行う。 | BR196: ・避難場所へ避難する準備を行う。 ・要配慮者の避難誘導を開始する。
AC197: ※浸水想定区域と土砂災害警戒区域が重複する地域では、避難情報等の発表・発令が早い情報で避難体制を確立し、避難のタイミングを判断する必要がある。 | CQ197: ※浸水想定区域と土砂災害警戒区域が重複する地域では、避難情報等の発表・発令が早い情報で避難体制を確立し、避難のタイミングを判断する必要がある。
M198: ↓ | CA198: ↓
...
