Workbook
Name Val_NotSelected: List!$J$12

Sheet 事前協議書
B2: 千代田区建築物環境計画書制度 事前協議書（非住宅） | W2: 建物ID | X2: 2017998 | Y2: 千代田区番号 | Z2: Demo998
B3: 提出日 | E3: 46113 | I3: 協議の段階 | M3: 計画時 | R3: 工事種別 | S3: 新築 | U3: ※ | V3: ↓xls11_建物概要 | W3: =I3 -> 協議の段階 | X3: {=_xlfn.IFS(M3="事前協議時",2,M3="計画時",3,M3="変更時",4,M3="工事完了時",5)} -> 3 | Y3: →（事前協議時:2,計画時:3,変更時:4,工事完了時:5） | AC3: =R3 -> 工事種別 | AD3: 新築 | AE3: =IF($S$3=AD3,1,0) -> 1 | AF3: 増築 | AG3: =IF($S$3=AF3,1,0) -> 0 | AH3: 改築 | AI3: =IF($S$3=AH3,1,0) -> 0
B4: 建築主 | C4: 氏名 | E4: M株式会社 | U4: ※
C5: 住所 | E5: 千代田区大手町一丁目○番地○号 | U5: ※
B6: 設計者 | C6: 氏名 | E6: 株式会社N設計 | U6: ※
C7: 住所 | E7: 千代田区飯田橋一丁目○番地○号 | U7: ※
B8: 建築計画 | C8: 建築物の名称 | E8: ○●○●ビル | U8: ※
C9: 建築物の所在地 | E9: 千代田区九段北○丁目○番地○号 | U9: ※
C10: 用途 | E10: ■ | F10: 事務所 | I10: □ | J10: 飲食店 | M10: □ | N10: 物販店舗 | Q10: ■ | R10: ホテル | U10: ※ | V10: =C10 -> 用途 | W10: =F10 -> 事務所 | X10: =IF(E10="■",1,0) -> 1 | Y10: =J10 -> 飲食店 | Z10: =IF(I10="■",1,0) -> 0 | AA10: =N10 -> 物販店舗 | AB10: =IF(M10="■",1,0) -> 0 | AC10: =R10 -> ホテル | AD10: =IF(Q10="■",1,0) -> 1
E11: ■ | F11: 駐輪場 | I11: □ | J11: 学校 | M11: □ | N11: 病院 | U11: ※ | W11: =F11 -> 駐輪場 | X11: =IF(E11="■",1,0) -> 1 | Y11: =J11 -> 学校 | Z11: =IF(I11="■",1,0) -> 0 | AA11: =N11 -> 病院 | AB11: =IF(M11="■",1,0) -> 0 | AC11: =R11 -> 0 | AD11: =IF(Q11="■",1,0) -> 0
E12: □ | F12: その他 （ | T12: ） | U12: ※ | W12: =F12 -> その他 （ | X12: =IF(E12="■",1,0) -> 0
C13: =IF($X$3=5,"工事期間","工事期間（予定）") -> 工事期間（予定） | E13: 工事着手 | H13: 46143 | M13: 竣工日 | O13: 46630 | U13: ※
C14: 複合建築物 | E14: □ | F14: 非住宅と住宅の複合建築物 | U14: ※ | V14: =C14 -> 複合建築物 | W14: =F14 -> 非住宅と住宅の複合建築物 | Y14: =IF(E14="■",1,0) -> 0
C15: 建築面積／敷地面積 | E15: 建築面積 | G15: 1000 | J15: ㎡ | N15: 敷地面積 | O15: 1500 | R15: ㎡ | U15: ※
C16: 延べ面積 | E16: 延べ面積 | G16: 6000 | J16: ㎡ | L16: 計算対象床面積の合計 | O16: 5000 | R16: ㎡ | U16: ※
C17: 階数 | E17: 地上 | F17: 6 | G17: 階 | J17: 地下 | K17: 1 | L17: 階 | U17: ※
C18: 構造 | E18: ■ | F18: ＲＣ造 | I18: □ | J18: ＳＲＣ造 | M18: □ | N18: S造 | U18: ※ | V18: ↓xls12_設備概要 | W18: =F18 -> ＲＣ造 | X18: =IF(E18="■",1,0) -> 1 | Y18: =J18 -> ＳＲＣ造 | Z18: =IF(I18="■",1,0) -> 0 | AA18: =N18 -> S造 | AB18: =IF(M18="■",1,0) -> 0
E19: □ | F19: 木造 | I19: □ | J19: その他 （ | T19: ） | U19: ※ | W19: =F19 -> 木造 | X19: =IF(E19="■",1,0) -> 0 | Y19: =J19 -> その他 （ | Z19: =IF(I19="■",1,0) -> 0
C20: 用途別床面積の合計 （計算対象部分） | E20: 用途： | F20: 事務所 | I20: 4000 | K20: ㎡ | L20: 用途： | M20: ホテル | P20: 1000 | R20: ㎡ | U20: ※
E21: 用途： | K21: ㎡ | L21: 用途： | R21: ㎡ | U21: ※
C22: 都市開発諸制度等の適用 | E22: □ | F22: 再開発等促進区を定める地区計画 | L22: □ | M22: 高度利用地区 | Q22: □ | R22: 特定街区 | U22: ※ | V22: =C22 -> 都市開発諸制度等の適用 | W22: =F22 -> 再開発等促進区を定める地区計画 | Z22: =IF(E22="■",1,0) -> 0 | AA22: =M22 -> 高度利用地区 | AB22: =IF(L22="■",1,0) -> 0 | AC22: =R22 -> 特定街区 | AD22: =IF(Q22="■",1,0) -> 0
E23: □ | F23: 総合設計 | I23: □ | J23: その他 （ | T23: ） | U23: ※ | W23: =F23 -> 総合設計 | X23: =IF(E23="■",1,0) -> 0 | Y23: =J23 -> その他 （ | Z23: =IF(I23="■",1,0) -> 0
B24: 設備概要 | C24: 熱源システム | E24: ■ | F24: 分散熱源（パッケージ・ビルマル等） | M24: □ | N24: 中央熱源方式 | Q24: □ | R24: DHC受入 | U24: ※ | W24: 分散熱源（パッケージ・ビルマル等） | Z24: =IF(E24="■",1,0) -> 1 | AA24: 中央熱源方式 | AB24: =IF(M24="■",1,0) -> 0 | AC24: DHC受入 | AD24: =IF(Q24="■",1,0) -> 0
C25: 空調システム | E25: □ | F25: 各階空調機 | I25: □ | J25: 分散空調（ビルマル） | N25: □ | O25: 中央空調機 | U25: ※
E26: □ | F26: その他 （ | T26: ） | U26: ※
C27: 受電方式 | E27: □ | F27: 特別高圧 | I27: □ | J27: 高圧 | N27: □ | O27: 低圧 | U27: ※
B28: 採用する 省CO2対策 | C28: 省CO2建築手法 | E28: ■ | F28: Low-E複層ガラス | I28: □ | J28: 複層ガラス | M28: ■ | N28: 庇・ルーバー・バルコニー・ブラインド | U28: ※ | V28: ↓xls13_環境対策 | W28: =F28 -> Low-E複層ガラス | Y28: =IF(E28="■",1,0) -> 1 | Z28: =J28 -> 複層ガラス | AA28: =IF(I28="■",1,0) -> 0 | AB28: =N28 -> 庇・ルーバー・バルコニー・ブラインド | AE28: =IF(M28="■",1,0) -> 1
E29: ■ | F29: 屋根高断熱化 （屋根断熱材： | K29: 標準_硬質ウレタンフォーム 保温板 2種2号[0.024] | R29: を | S29: 80 | T29: mm） | U29: ※ | V29: =C28 -> 省CO2建築手法 | W29: =F29 -> 屋根高断熱化 （屋根断熱材： | Y29: =IF(E29="■",1,0) -> 1 | Z29: CD | AA29: =IF($K29="",0,_xlfn.XLOOKUP($K29,List!$F$1:$F$99,List!$E$1:$E$99,List!$E$101)) -> 0235
E30: ■ | F30: 壁高断熱化 （壁断熱材： | K30: 標準_硬質ウレタンフォーム 保温板 2種2号[0.024] | R30: を | S30: 50 | T30: mm） | U30: ※ | W30: =F30 -> 壁高断熱化 （壁断熱材： | Y30: =IF(E30="■",1,0) -> 1 | Z30: CD | AA30: =IF($K30="",0,_xlfn.XLOOKUP($K30,List!$F$1:$F$99,List!$E$1:$E$99,List!$E$101)) -> 0235
C31: 省CO2設備手法 ※高効率分散熱源、全熱交換器は過半以上で採用とする。その他の項目は一部採用とする。 | D31: 空調 | E31: ■ | F31: 高効率分散熱源 | I31: □ | J31: 高効率中央熱源 | M31: □ | N31: 高効率空調機(中央熱源) | Q31: ■ | R31: 変流量制御(中央熱源) | U31: ※ | V31: =D31 -> 空調 | W31: =F31 -> 高効率分散熱源 | Y31: =IF(E31="■",1,0) -> 1 | Z31: =J31 -> 高効率中央熱源 | AB31: =IF(I31="■",1,0) -> 0 | AC31: =N31 -> 高効率空調機(中央熱源) | AE31: =IF(M31="■",1,0) -> 0 | AF31: =R31 -> 変流量制御(中央熱源) | AH31: =IF(Q31="■",1,0) -> 1
E32: □ | F32: 大温度差送水(中央熱源) | I32: □ | J32: 変風量制御(中央熱源) | M32: □ | N32: 外気導入量制御 | Q32: □ | R32: 外気冷房 | U32: ※ | W32: =F32 -> 大温度差送水(中央熱源) | Y32: =IF(E32="■",1,0) -> 0 | Z32: =J32 -> 変風量制御(中央熱源) | AB32: =IF(I32="■",1,0) -> 0 | AC32: =N32 -> 外気導入量制御 | AE32: =IF(M32="■",1,0) -> 0 | AF32: =R32 -> 外気冷房 | AH32: =IF(Q32="■",1,0) -> 0
D33: 換気 | E33: □ | F33: 全熱交換器 | I33: ■ | J33: 高効率電動機 | M33: □ | N33: 自然換気(自動制御) | U33: ※ | V33: =D33 -> 換気 | W33: =F33 -> 全熱交換器 | Y33: =IF(E33="■",1,0) -> 0 | Z33: =J33 -> 高効率電動機 | AB33: =IF(I33="■",1,0) -> 1 | AC33: =N33 -> 自然換気(自動制御) | AE33: =IF(M33="■",1,0) -> 0
E34: □ | F34: 送風量制御（CO, CO2濃度・室内温度・インバータ制御等） | U34: ※ | W34: =F34 -> 送風量制御（CO, CO2濃度・室内温度・インバータ制御等） | AB34: =IF(E34="■",1,0) -> 0
D35: 照明 | E35: ■ | F35: 人感センサ | H35: （範囲： | I35: トイレ | T35: ） | U35: ※ | V35: =D35 -> 照明 | W35: =F35 -> 人感センサ | Y35: =IF(E35="■",1,0) -> 1
E36: ■ | F36: 明るさセンサ | H36: （範囲： | I36: 共用部 | T36: ） | U36: ※ | W36: =F36 -> 明るさセンサ | Y36: =IF(E36="■",1,0) -> 1
E37: □ | F37: スケジュール制御 | I37: （範囲： | T37: ） | U37: ※ | W37: =F37 -> スケジュール制御 | Y37: =IF(E37="■",1,0) -> 0
D38: 給湯 | E38: □ | F38: 高効率給湯機 | I38: □ | J38: 自動給湯栓 | M38: □ | N38: 小流量シャワー | Q38: □ | R38: 配管保温 | U38: ※ | V38: =D38 -> 給湯 | W38: =F38 -> 高効率給湯機 | Y38: =IF(E38="■",1,0) -> 0 | Z38: =J38 -> 自動給湯栓 | AB38: =IF(I38="■",1,0) -> 0 | AC38: =N38 -> 小流量シャワー | AE38: =IF(M38="■",1,0) -> 0 | AF38: =R38 -> 配管保温 | AH38: =IF(Q38="■",1,0) -> 0
D39: 昇降機 | E39: □ | F39: VVVF（回生なし） | I39: □ | J39: VVVF（回生あり） | U39: ※ | V39: =D39 -> 昇降機 | W39: =F39 -> VVVF（回生なし） | Y39: =IF(E39="■",1,0) -> 0 | Z39: =J39 -> VVVF（回生あり） | AB39: =IF(I39="■",1,0) -> 0
D40: その他 | E40: □ | F40: BEMS | U40: ※ | V40: =D40 -> その他 | W40: =F40 -> BEMS | Y40: =IF(E40="■",1,0) -> 0
E41: □ | F41: その他 （ | T41: ） | U41: ※ | W41: =F41 -> その他 （ | Y41: =IF(E41="■",1,0) -> 0
C42: 創エネ手法 | E42: ■ | F42: 太陽光発電 | H42: 20 | J42: kW | M42: □ | N42: コージェネ | U42: ※ | V42: =C42 -> 創エネ手法 | W42: =F42 -> 太陽光発電 | Y42: =IF(E42="■",1,0) -> 1 | Z42: =N42 -> コージェネ | AB42: =IF(M42="■",1,0) -> 0
E43: □ | F43: その他 （ | T43: ） | U43: ※ | W43: =F43 -> その他 （ | Y43: =IF(E43="■",1,0) -> 0
C44: 未利用・再生可能エネルギーの活用 | E44: □ | F44: 下水熱 | I44: □ | J44: 河川水熱 | M44: □ | N44: 地下鉄排熱 | Q44: □ | R44: 地中熱 | U44: ※ | V44: =C44 -> 未利用・再生可能エネルギーの活用 | W44: =F44 -> 下水熱 | Y44: =IF(E44="■",1,0) -> 0 | Z44: =J44 -> 河川水熱 | AB44: =IF(I44="■",1,0) -> 0 | AC44: =N44 -> 地下鉄排熱 | AE44: =IF(M44="■",1,0) -> 0 | AF44: =R44 -> 地中熱 | AH44: =IF(Q44="■",1,0) -> 0
E45: □ | F45: 太陽熱利用 | I45: □ | J45: その他 （ | T45: ） | U45: ※ | W45: =F45 -> 太陽熱利用 | Y45: =IF(E45="■",1,0) -> 0 | Z45: =J45 -> その他 （ | AB45: =IF(I45="■",1,0) -> 0
C46: 面的エネルギーの活用 | E46: □ | F46: 地域冷暖房(DHC)の導入 | J46: （区域名称： | T46: ） | U46: ※ | V46: =C46 -> 面的エネルギーの活用 | W46: =F46 -> 地域冷暖房(DHC)の導入 | Y46: =IF(E46="■",1,0) -> 0
E47: □ | F47: 地域冷暖房(DHC)の受入 | J47: （区域名称： | T47: ） | U47: ※ | W47: =F47 -> 地域冷暖房(DHC)の受入 | Y47: =IF(E47="■",1,0) -> 0
E48: □ | F48: 熱融通 | I48: □ | J48: 電力融通 | M48: □ | N48: AEMS（エリアエネルギーマネジメントシステム） | U48: ※ | W48: =F48 -> 熱融通 | Y48: =IF(E48="■",1,0) -> 0 | Z48: =J48 -> 電力融通 | AB48: =IF(I48="■",1,0) -> 0 | AC48: =N48 -> AEMS（エリアエネルギーマネジメントシステム） | AE48: =IF(M48="■",1,0) -> 0
E49: □ | F49: その他 （ | T49: ） | U49: ※ | W49: =F49 -> その他 （ | Y49: =IF(E49="■",1,0) -> 0
B50: 浸水対策 | C50: ハザードマップ | E50: ■ | F50: ハザードエリア内 | I50: □ | J50: ハザードエリア外 | U50: ※ | V50: =C50 -> ハザードマップ | W50: =F50 -> ハザードエリア内 | Y50: =IF(E50="■",1,0) -> 1 | Z50: =J50 -> ハザードエリア外 | AB50: =IF(I50="■",1,0) -> 0
C51: 浸水深（エリア内時記入） | E51: ■ | F51: 0.5m未満 | I51: □ | J51: 3m未満 | M51: □ | N51: 5m未満 | Q51: □ | R51: 5m以上 | U51: ※ | V51: =C51 -> 浸水深（エリア内時記入） | W51: =F51 -> 0.5m未満 | Y51: =IF(E51="■",1,0) -> 1 | Z51: =J51 -> 3m未満 | AB51: =IF(I51="■",1,0) -> 0 | AC51: =N51 -> 5m未満 | AE51: =IF(M51="■",1,0) -> 0 | AF51: =R51 -> 5m以上 | AH51: =IF(Q51="■",1,0) -> 0
C52: 実施する浸水対策 | E52: ■ | F52: 浸水リスクの低い場所への電気設備の設置 | M52: □ | N52: 出入口等における止水板の設置 | U52: ※ | V52: =C52 -> 実施する浸水対策 | W52: =F52 -> 浸水リスクの低い場所への電気設備の設置 | Z52: =IF(E52="■",1,0) -> 1 | AA52: =N52 -> 出入口等における止水板の設置 | AD52: =IF(M52="■",1,0) -> 0
E53: ■ | F53: ソフト面の対策 | I53: （ | J53: 入居者へ浸水リスクの周知、訓練の実施、土のう袋の準備 | T53: ） | U53: ※ | W53: =F53 -> ソフト面の対策 | Y53: =IF(E53="■",1,0) -> 1
E54: □ | F54: その他 （ | T54: ） | U54: ※ | W54: =F54 -> その他 （ | Y54: =IF(E54="■",1,0) -> 0
B55: 被覆対策 | C55: 緑の量、質の確保 生態系への配慮 | E55: ■ | F55: 建築物上の緑化、壁面の緑化 | U55: ※ | V55: =C55 -> 緑の量、質の確保 生態系への配慮 | W55: =F55 -> 建築物上の緑化、壁面の緑化 | Z55: =IF(E55="■",1,0) -> 1
E56: ■ | F56: 千代田区緑化推進要綱の基準を満足 | M56: ※対象：敷地面積250㎡以上 | U56: ※ | W56: =F56 -> 千代田区緑化推進要綱の基準を満足 | Z56: =IF(E56="■",1,0) -> 1
E57: □ | F57: 地表面または屋上に保水性の高い被覆材を採用 | N57: □ | O57: 屋上に高反射率塗料を塗布 | U57: ※ | W57: =F57 -> 地表面または屋上に保水性の高い被覆材を採用 | Z57: =IF(E57="■",1,0) -> 0 | AA57: =O57 -> 屋上に高反射率塗料を塗布 | AC57: =IF(N57="■",1,0) -> 0
B58: 水循環 | E58: □ | F58: 雨水または中水を利用する設備を設置 | U58: ※ | V58: =B58 -> 水循環 | W58: =F58 -> 雨水または中水を利用する設備を設置 | Z58: =IF(E58="■",1,0) -> 0
E59: ■ | F59: 雨水を浸透させる施設を設置（雨水浸透ます、透水性舗装、地表面の緑化、玉石敷き 等） | U59: ※ | W59: =F59 -> 雨水を浸透させる施設を設置（雨水浸透ます、透水性舗装、地表面の緑化、玉石敷き 等） | Z59: =IF(E59="■",1,0) -> 1
B60: 千代田区低炭素助成制度 | E60: ■ | F60: 申請を検討している（もしくは申請予定） | M60: ※申請対象：延べ面積5,000㎡以下 | U60: ※ | V60: =B60 -> 千代田区低炭素助成制度 | W60: =F60 -> 申請を検討している（もしくは申請予定） | Z60: =IF(E60="■",1,0) -> 1
B61: 備考欄(公開用)
B62: 備考欄（非公開用） | E62: 高効率設備や高断熱を積極的に導入して努力目標を達成した
B63: 建物性能 | C63: 省エネルギー基準 | E63: 設計一次エネルギー消費量（その他を除く） | K63: 4492 | M63: GJ/年 | O63: =IF($O$16>0,1000*K63/$O$16,0) -> 898.4 | Q63: MJ/㎡・年 | V63: ↓xls14_建物性能 | Y63: =$K$63*$Y$75 -> 220.108 | Z63: [t-CO2・年]←計算対象延べ面積の基準値CO2排出量
E64: 基準一次エネルギー消費量（その他を除く） | K64: 7092 | M64: GJ/年 | O64: =IF($O$16>0,1000*K64/$O$16,0) -> 1418.4 | Q64: MJ/㎡・年 | Y64: =$K$64*$Y$75 -> 347.508 | Z64: [t-CO2・年]←計算対象延べ面積の設計値CO2排出量
E65: 一次エネルギー消費削減量 | K65: =ROUNDDOWN(K64-K63,1) -> 2600 | M65: GJ/年 | O65: =IF($O$16>0,1000*K65/$O$16,0) -> 520 | Q65: MJ/㎡・年 | Y65: =ROUNDDOWN($K$65*$Y$75,0) -> 127 | Z65: [t-CO2・年]←計算対象延べ面積の削減量CO2排出量(小数点第一位切り捨て)
E66: BEI（設計値/基準値） | K66: =IF(P66="モデル建物法",IF(AND(($K$63)>0,($K$64)>0),$K$63/$K$64,0),ROUNDUP(IF(AND(($K$63)>0,($K$64)>0),$K$63/$K$64,0),2)) -> 0.63338973 | M66: 計算プログラム | P66: モデル建物法
I67: 一次エネルギー消費量[GJ/年] | M67: 単位床面積当たり[MJ/㎡・年] | Q67: BEI・BPI
I68: 設計値 | K68: 基準 | M68: 設計値 | O68: 基準
E69: PAL* （BPI） | I69: - | K69: - | M69: - | O69: - | Q69: 0.8
E70: 空調 | I70: 2647 | K70: 4569.5 | M70: =IF($O$16>0,1000*I70/$O$16,0) -> 529.4 | O70: =IF($O$16>0,1000*K70/$O$16,0) -> 913.9 | Q70: =IF(P66="モデル建物法",IF($K70>0,$I70/$K70,0),ROUNDUP(IF($K70>0,$I70/$K70,0),2)) -> 0.57927563
E71: 空調以外の機械換気 | I71: 55 | K71: 68.5 | M71: =IF($O$16>0,1000*I71/$O$16,0) -> 11 | O71: =IF($O$16>0,1000*K71/$O$16,0) -> 13.7 | Q71: =IF(P66="モデル建物法",IF($K71>0,$I71/$K71,0),ROUNDUP(IF($K71>0,$I71/$K71,0),2)) -> 0.80291971
E72: 照明 | I72: 1801 | K72: 2285 | M72: =IF($O$16>0,1000*I72/$O$16,0) -> 360.2 | O72: =IF($O$16>0,1000*K72/$O$16,0) -> 457 | Q72: =IF(P66="モデル建物法",IF($K72>0,$I72/$K72,0),ROUNDUP(IF($K72>0,$I72/$K72,0),2)) -> 0.78818381
E73: 給湯 | I73: 81.5 | K73: 65 | M73: =IF($O$16>0,1000*I73/$O$16,0) -> 16.3 | O73: =IF($O$16>0,1000*K73/$O$16,0) -> 13 | Q73: =IF(P66="モデル建物法",IF($K73>0,$I73/$K73,0),ROUNDUP(IF($K73>0,$I73/$K73,0),2)) -> 1.2538462
E74: 昇降機 | I74: 106 | K74: 104 | M74: =IF($O$16>0,1000*I74/$O$16,0) -> 21.2 | O74: =IF($O$16>0,1000*K74/$O$16,0) -> 20.8 | Q74: =IF(P66="モデル建物法",IF($K74>0,$I74/$K74,0),ROUNDUP(IF($K74>0,$I74/$K74,0),2)) -> 1.0192308
E75: 効率化設備創エネルギー量 | I75: -198.5 | M75: =IF($O$16>0,1000*I75/$O$16,0) -> -39.7 | Q75: - | V75: 創エネ量 | W75: =$I$75*$Y$75 -> -9.7265 | Y75: 0.049 | Z75: [t-CO2/GJ]
E76: その他 | I76: 1908 | K76: 1908 | M76: =IF($O$16>0,1000*I76/$O$16,0) -> 381.6 | O76: =IF($O$16>0,1000*K76/$O$16,0) -> 381.6 | Q76: =IF(P66="モデル建物法",IF($K76>0,$I76/$K76,0),ROUNDUP(IF($K76>0,$I76/$K76,0),2)) -> 1 | Y76: ※49.0[kg-CO2/GJ]（千代田区版単位一次エネルギー消費量当りのCO2排出量）
E77: 合計（その他を除く） | I77: =SUM(K70:L75) -> 7092 | K77: =SUM(I70:J75) -> 4492 | M77: =SUM($O$70:$P$75) -> 1418.4 | O77: =SUM($M$70:$N$75) -> 898.4 | Q77: =IF($I77>0,$K77/$I77,0) -> 0.63338973
C78: 電力需要 | E78: 最大電力 | K78: kW
C79: 省エネルギー性能 | E79: 削減率（努力目標：35%) | K79: =IF(AND(($K$63)>0,($K$64)>0),(1-$K$66)*100,0) -> 36.661027 | M79: % | N79: =IF($K$79>=List!$K$2,List!$J$2,List!$J$3) -> 努力目標達成
E80: CO2排出削減量 | K80: =$Y$65 -> 127 | M80: t-CO2・年 | X80: =Y65 -> 127 | Y80: [t-CO2・年]←計算対象延べ面積の削減量CO2排出量(小数点第一位切り捨て)
C81: 削減率35％未満の場合は理由 | E81: □ | F81: 建設コスト | I81: □ | J81: 運用上の制約 | N81: □ | O81: スケルトン施工 | V81: =C81 -> 削減率35％未満の場合は理由 | W81: =F81 -> 建設コスト | X81: =IF(E81="■",1,0) -> 0 | Y81: =J81 -> 運用上の制約 | Z81: =IF(I81="■",1,0) -> 0 | AA81: =O81 -> スケルトン施工 | AC81: =IF(N81="■",1,0) -> 0
E82: □ | F82: その他 （ | T82: ） | W82: =F82 -> その他 （ | X82: =IF(E82="■",1,0) -> 0
E83: =IFERROR(CHOOSE(#REF!,List!$W$12,List!$W$13,List!$W$14),"")
B84: 協議メモ | Q84: 受付欄
B92: 事前協議開始時、事前協議時に、本書を区に提出・協議を実施し、受付印を受けてください。 | T92: =List!$AD$1 -> 2026.10
B93: 事前協議開始時に、”※”で示した項目は、わかる範囲で全て記入してください。
B94: 計画の進捗や協議の経過に応じて、内容を更新してください。
B95: 建物性能の項目は、省エネルギー計算が完了次第記入して提出してください。
B96: モデル建物法等を使用する場合には、「千代田区モデル建物法等計算結果処理シート」を使用し、一次エネルギー消費量を算出してください。
A99: ↓非表示

Sheet 環境評価書
V2: =$AB2 -> ■ | W2: 計画時 | AA2: =W2 -> 計画時 | AB2: =IF(事前協議書!$M$3=環境評価書!$AA2,"■","□") -> ■ | AC2: =IF(AB2="■",2,IF(AB3="■",3,IF(AB4="■",4,0))) -> 2
B3: =IF(事前協議書!$Y$14=1,$AD$4,$AD$3) -> 千代田区建築物環境計画書制度 環境評価書（非住宅） | V3: =$AB3 -> □ | W3: 変更時 | AA3: =W3 -> 変更時 | AB3: =IF(事前協議書!$M$3=環境評価書!$AA3,"■","□") -> □ | AD3: 千代田区建築物環境計画書制度 環境評価書（非住宅）
V4: =$AB4 -> □ | W4: 工事完了時 | AA4: =W4 -> 工事完了時 | AB4: =IF(事前協議書!$M$3=環境評価書!$AA4,"■","□") -> □ | AD4: 千代田区建築物環境計画書制度 環境評価書（複合：非住宅）
B6: 建築物の名称 | F6: =事前協議書!$E$8 -> ○●○●ビル | AM6: 削減率のランク表示
B8: 建物用途 | E8: =$AB$8 -> 事務所, ホテル, 駐輪場 | O8: 敷地面積 | R8: =事前協議書!$O$15 -> 1500 | T8: ㎡ | AA8: =B8 -> 建物用途 | AB8: =_xlfn.TEXTJOIN(", ",TRUE,IF(事前協議書!$X$10=1,事前協議書!$W$10,""),IF(事前協議書!$Z$10=1,事前協議書!$Y$10,""),IF(事前協議書!$AB$10=1,事前協議書!$AA$10,""),IF(事前協議書!$AD$10=1,事前協議書!$AC$10,""),IF(事前協議書!$X$11=1,事前協議書!$W$11,""),IF(事前協議書!$Z$11=1,事前協議書!$Y$11,""),IF(事前協議書!$AB$11=1,事前協議書!$AA$11,""),IF(事前協議書!$AD$11=1,事前協議書!$AC$11,""),IF(事前協議書!$X$12=1,事前協議書!$W$12&事前協議書!$H$12&事前協議書!$T$12,"")) -> 事務所, ホテル, 駐輪場 | AM8: 0
B9: 建築物の所在地 | E9: =事前協議書!$E$9 -> 千代田区九段北○丁目○番地○号 | O9: 建築面積 | R9: =事前協議書!$G$15 -> 1000 | T9: ㎡
O10: 延べ面積 | R10: =事前協議書!$G$16 -> 6000 | T10: ㎡ ： 計算対象 | W10: =事前協議書!$O$16 -> 5000 | Y10: ㎡
O11: 階数 | R11: 地上 | S11: =事前協議書!$F$17 -> 6 | T11: 階 | U11: 地下 | V11: =事前協議書!$K$17 -> 1 | W11: 階
B12: 竣工日 | E12: =事前協議書!$O$13 -> 46630 | O12: 構造 | R12: =$AB$12 -> ＲＣ造 | AA12: =O12 -> 構造 | AB12: =_xlfn.TEXTJOIN(", ",TRUE,IF(事前協議書!$X$18=1,事前協議書!$W$18,""),IF(事前協議書!$Z$18=1,事前協議書!$Y$18,""),IF(事前協議書!$AB$18=1,事前協議書!$AA$18,""),IF(事前協議書!$X$19=1,事前協議書!$W$19,""),IF(事前協議書!$Z$19=1,事前協議書!$Y$19&事前協議書!L19&事前協議書!T19,"")) -> ＲＣ造
B14: 省CO2効果 | AM14: 20 | AN14: #VALUE!
M15: 省エネルギー基準 | AA15: 削減率ランク | AB15: =IF($C$18>=List!$M$3,INDEX(List!$N$2:$N$4,3),IF($C$18>=List!$M$2,INDEX(List!$N$2:$N$4,2),INDEX(List!$N$2:$N$4,1))) -> Grade_mark_Best
C16: 削減率 | G16: =IF(C18>=35,$AN$24,IF(C18<=19,"",$AN$14)) -> #VALUE! | N16: 設計一次エネルギー消費量 | T16: =事前協議書!$K$63 -> 4492 | V16: [GJ/年]
N17: 基準一次エネルギー消費量 | T17: =事前協議書!$K$64 -> 7092 | V17: [GJ/年]
C18: =事前協議書!$K$79 -> 36.661027 | E18: ％ | N18: BEI（設計値/基準値） | T18: =事前協議書!$K$66 -> 0.63338973
B20: =IF($AB$15=INDEX(List!$N$2:$N$4,1),"",VLOOKUP($AB$15,List!$N$2:$O$4,2,FALSE)) -> 特別優良環境建築 | M20: CO2排出量
N21: 設計値 | T21: =ROUNDDOWN(事前協議書!$Y$63,1) -> 220.1 | V21: [t-CO2・年]
N22: 基準値 | T22: =ROUNDDOWN(事前協議書!$Y$64,1) -> 347.5 | V22: [t-CO2・年] | AA22: 千代田区独自係数 | AC22: =事前協議書!$Y$75 -> 0.049 | AD22: [t-CO2/GJ]
N23: 削減量 | T23: =事前協議書!$Y$65 -> 127 | V23: [t-CO2・年] | AA23: =N23 -> 削減量 | AC23: ="削減量"&T23&"t-CO2" -> 削減量127t-CO2
N24: 削減率 | T24: =事前協議書!$K$79 -> 36.661027 | V24: ％ | AM24: 35 | AN24: #VALUE!
AA26: ="CO2排出量[t-CO2・年]" -> CO2排出量[t-CO2・年] | AD26: グラフ内訳用
AB27: 基準値 | AC27: 設計値 | AD27: 基準値 | AE27: 設計値 | AF27: 設計割合％
AA28: 空調 | AB28: =事前協議書!$K70 -> 4569.5 | AC28: =事前協議書!$I70 -> 2647 | AD28: =AB28*$AC$22 -> 223.9055 | AE28: =$T$21*AF28 -> 129.69829 | AF28: =AC28/$AC$34 -> 0.58926981
AA29: 換気 | AB29: =事前協議書!$K71 -> 68.5 | AC29: =事前協議書!$I71 -> 55 | AD29: =AB29*$AC$22 -> 3.3565 | AE29: =$T$21*AF29 -> 2.694902 | AF29: =AC29/$AC$34 -> 0.012243989
AA30: 照明 | AB30: =事前協議書!$K72 -> 2285 | AC30: =事前協議書!$I72 -> 1801 | AD30: =AB30*$AC$22 -> 111.965 | AE30: =$T$21*AF30 -> 88.245793 | AF30: =AC30/$AC$34 -> 0.400935
AA31: 給湯 | AB31: =事前協議書!$K73 -> 65 | AC31: =事前協議書!$I73 -> 81.5 | AD31: =AB31*$AC$22 -> 3.185 | AE31: =$T$21*AF31 -> 3.9933549 | AF31: =AC31/$AC$34 -> 0.018143366
AA32: 昇降機 | AB32: =事前協議書!$K74 -> 104 | AC32: =事前協議書!$I74 -> 106 | AD32: =AB32*$AC$22 -> 5.096 | AE32: =$T$21*AF32 -> 5.1938112 | AF32: =AC32/$AC$34 -> 0.023597507
AA33: 創エネ | AB33: =事前協議書!$K75 -> 0 | AC33: =事前協議書!$I75 -> -198.5 | AD33: =AB33*$AC$22 -> 0 | AE33: =$T$21*AF33 -> -9.7261465 | AF33: =AC33/$AC$34 -> -0.044189671
AA34: 合計 | AB34: =SUM(AB28:AB33) -> 7092 | AC34: =SUM(AC28:AC33) -> 4492 | AD34: =$T$22 -> 347.5 | AE34: =$T$21 -> 220.1
B40: 省CO2設備手法 | N40: 備考欄
B41: =$AC41 -> ■ | C41: 高効率分散熱源 | H41: =$AE41 -> ■ | I41: 人感センサ | N41: =IF(事前協議書!E61="","",事前協議書!E61) | AA41: =C41 -> 高効率分散熱源 | AC41: =事前協議書!$E$31 -> ■ | AD41: =I41 -> 人感センサ | AE41: =事前協議書!$E$35 -> ■
B42: =$AC42 -> □ | C42: 高効率中央熱源 | H42: =$AE42 -> ■ | I42: 明るさセンサ | AA42: =C42 -> 高効率中央熱源 | AC42: =事前協議書!$I$31 -> □ | AD42: =I42 -> 明るさセンサ | AE42: =事前協議書!$E$36 -> ■
B43: =$AC43 -> □ | C43: 高効率空調機(中央熱源) | H43: =$AE43 -> □ | I43: スケジュール制御 | AA43: =C43 -> 高効率空調機(中央熱源) | AC43: =事前協議書!$M$31 -> □ | AD43: =I43 -> スケジュール制御 | AE43: =事前協議書!$E$37 -> □
B44: =$AC44 -> ■ | C44: 変流量制御(中央熱源) | AA44: =C44 -> 変流量制御(中央熱源) | AC44: =事前協議書!$Q$31 -> ■ | AH44: ･･･その他（）に文字がある場合のみ表示
B45: =$AC45 -> □ | C45: 大温度差送水(中央熱源) | AA45: =C45 -> 大温度差送水(中央熱源) | AC45: =事前協議書!$E$32 -> □
B46: =$AC46 -> □ | C46: 変風量制御(中央熱源) | N46: 省CO2建築手法 | AA46: =C46 -> 変風量制御(中央熱源) | AC46: =事前協議書!$I$32 -> □
B47: =$AC47 -> □ | C47: 外気導入量制御 | N47: =$AI47 -> ■ | O47: Low-E複層ガラス | AA47: =C47 -> 外気導入量制御 | AC47: =事前協議書!$M$32 -> □ | AF47: =O47 -> Low-E複層ガラス | AI47: =事前協議書!$E$28 -> ■
B48: =$AC48 -> □ | C48: 外気冷房 | N48: =$AI48 -> □ | O48: 複層ガラス | AA48: =C48 -> 外気冷房 | AC48: =事前協議書!$Q$32 -> □ | AF48: =O48 -> 複層ガラス | AI48: =事前協議書!$I$28 -> □
B49: =$AC49 -> □ | C49: 自然換気（自動制御） | H49: =$AE49 -> □ | I49: 高効率給湯機 | N49: =$AI49 -> ■ | O49: 庇・ルーバー・バルコニー・ブラインド | AA49: =C49 -> 自然換気（自動制御） | AC49: =事前協議書!$M$33 -> □ | AD49: =I49 -> 高効率給湯機 | AE49: =事前協議書!$E$38 -> □ | AF49: =O49 -> 庇・ルーバー・バルコニー・ブラインド | AI49: =事前協議書!$M$28 -> ■
B50: =$AC50 -> □ | C50: 全熱交換器 | H50: =$AE50 -> □ | I50: 自動給湯栓 | N50: =$AI50 -> ■ | O50: 屋根高断熱化 | U50: =$AK50 -> ■ | V50: 壁高断熱化 | AA50: =C50 -> 全熱交換器 | AC50: =事前協議書!$E$33 -> □ | AD50: =I50 -> 自動給湯栓 | AE50: =事前協議書!$I$38 -> □ | AF50: =O50 -> 屋根高断熱化 | AI50: =事前協議書!$E$29 -> ■ | AJ50: =V50 -> 壁高断熱化 | AK50: =事前協議書!$E$30 -> ■
B51: =$AC51 -> ■ | C51: 高効率電動機 | H51: =$AE51 -> □ | I51: 小流量シャワー | N51: 面的エネルギー活用 | AA51: =C51 -> 高効率電動機 | AC51: =事前協議書!$I$33 -> ■ | AD51: =I51 -> 小流量シャワー | AE51: =事前協議書!$M$38 -> □
B52: =$AC52 -> □ | C52: 送風量制御 | H52: =$AE52 -> □ | I52: 給湯配管保温 | N52: =$AI52 -> □ | O52: 地域冷暖房(DHC)の導入 | AA52: =C52 -> 送風量制御 | AC52: =事前協議書!$E$34 -> □ | AD52: =I52 -> 給湯配管保温 | AE52: =事前協議書!$Q$38 -> □ | AF52: =O52 -> 地域冷暖房(DHC)の導入 | AI52: =事前協議書!$E$46 -> □
B53: =$AC53 -> □ | C53: VVVF(回生なし) | H53: =$AE53 -> □ | I53: BEMS | N53: =$AI53 -> □ | O53: 地域冷暖房(DHC)の受入 | AA53: =C53 -> VVVF(回生なし) | AC53: =事前協議書!$E$39 -> □ | AD53: =I53 -> BEMS | AE53: =事前協議書!$E$40 -> □ | AF53: =O53 -> 地域冷暖房(DHC)の受入 | AI53: =事前協議書!$E$47 -> □
B54: =$AC54 -> □ | C54: VVVF(回生あり) | H54: =$AE54 -> □ | I54: その他 | N54: =$AI54 -> □ | O54: 熱融通 | AA54: =C54 -> VVVF(回生あり) | AC54: =事前協議書!$I$39 -> □ | AD54: =I54 -> その他 | AE54: =事前協議書!$E$41 -> □ | AF54: =O54 -> 熱融通 | AI54: =事前協議書!$E$48 -> □
I55: =$AD$55 | N55: =$AI55 -> □ | O55: 電力融通 | AD55: =IF(事前協議書!$H$41="","","（"&事前協議書!$H$41&"）") | AE55: =$AE$54 -> □ | AF55: =O55 -> 電力融通 | AI55: =事前協議書!$I$48 -> □
N56: =$AI56 -> □ | O56: AEMS | AF56: =O56 -> AEMS | AI56: =事前協議書!$M$48 -> □
N57: =$AI57 -> □ | O57: その他 | Q57: =$AJ$57 | AF57: =O57 -> その他 | AI57: =事前協議書!$E$49 -> □ | AJ57: =IF(事前協議書!$H$49="","","（"&事前協議書!$H$49&"）") | AK57: =$AI$57 -> □
B58: 創エネ手法 | N58: 浸水対策
B59: =$AC59 -> ■ | C59: 太陽光発電 | N59: =$AI59 -> ■ | O59: ハザードマップエリア内 | U59: =$AK59 -> ■ | V59: ソフト面の対策 | AA59: =C59 -> 太陽光発電 | AC59: =事前協議書!$E$42 -> ■ | AF59: =O59 -> ハザードマップエリア内 | AI59: =事前協議書!$E$50 -> ■ | AJ59: =V59 -> ソフト面の対策 | AK59: =事前協議書!$E$53 -> ■
B60: =$AC60 -> □ | C60: コージェネ | N60: =$AI60 -> ■ | O60: 浸水リスクの低い場所への電気設備の設置 | AA60: =C60 -> コージェネ | AC60: =事前協議書!$M$42 -> □ | AF60: =O60 -> 浸水リスクの低い場所への電気設備の設置 | AI60: =事前協議書!$E$52 -> ■
B61: =$AC61 -> □ | C61: その他 | N61: =$AI61 -> □ | O61: 出入口等における止水板の設置 | AA61: =C61 -> その他 | AC61: =事前協議書!$E$43 -> □ | AF61: =O61 -> 出入口等における止水板の設置 | AI61: =事前協議書!$M$52 -> □
C62: =$AA$62 | N62: =$AI62 -> □ | O62: その他 | Q62: =$AJ$62 | AA62: =IF(事前協議書!$H$43="","","（"&事前協議書!$H$43&"）") | AC62: =$AC$61 -> □ | AF62: =O62 -> その他 | AI62: =事前協議書!$E$54 -> □ | AJ62: =IF(事前協議書!$H$54="","","（"&事前協議書!$H$54&"）") | AK62: =$AI$62 -> □
B63: 未利用・再生可能エネルギー活用 | N63: 環境負荷低減の取り組み
B64: =$AC64 -> □ | C64: 下水熱 | H64: =$AE64 -> □ | I64: 太陽熱利用 | N64: =$AI64 -> ■ | O64: 緑の量・質の確保、生態系への配慮 | AA64: =C64 -> 下水熱 | AC64: =事前協議書!$E$44 -> □ | AD64: =I64 -> 太陽熱利用 | AE64: =事前協議書!$E$45 -> □ | AF64: =O64 -> 緑の量・質の確保、生態系への配慮 | AI64: =事前協議書!$E$55 -> ■ | AJ64: →建築物上の緑化、壁面の緑化
B65: =$AC65 -> □ | C65: 河川水熱 | H65: =$AE65 -> □ | I65: その他 | N65: =$AI65 -> ■ | O65: 被覆対策 | AA65: =C65 -> 河川水熱 | AC65: =事前協議書!$I$44 -> □ | AD65: =I65 -> その他 | AE65: =事前協議書!$I$45 -> □ | AF65: =O65 -> 被覆対策 | AI65: =IF(OR(事前協議書!$E$55="■",事前協議書!$E$56="■",事前協議書!$E$57="■",事前協議書!$N$57="■"),"■","□") -> ■ | AJ65: →被覆対策の項目すべてが対象
B66: =$AC66 -> □ | C66: 地下鉄排熱 | I66: =$AD$66 | N66: =$AI66 -> ■ | O66: 水循環 | AA66: =C66 -> 地下鉄排熱 | AC66: =事前協議書!$M$44 -> □ | AD66: =IF(事前協議書!$L$45="","","（"&事前協議書!$L$45&"）") | AE66: =$AE$65 -> □ | AF66: =O66 -> 水循環 | AI66: =IF(OR(事前協議書!$E$58="■",事前協議書!$E$59="■"),"■","□") -> ■ | AJ66: →水循環の項目すべてが対象
B67: =$AC67 -> □ | C67: 地中熱 | AA67: =C67 -> 地中熱 | AC67: =事前協議書!$Q$44 -> □
A69: ↓非表示

Sheet 外観写真等貼付
B1: 建築物の外観パースや写真などを下記の白枠内に貼り付けてください。

Sheet 第2号様式 
B2: 第２号様式（第13条、第15条、第16条関係）
K4: 建築物環境計画書
L5: =IF(環境評価書!AC2=2,"(計画)",IF(環境評価書!AC2=3,"(変更)",IF(環境評価書!AC2=4,"(完了)","(計画、変更、完了)"))) -> (計画)
S6: =YEAR(事前協議書!E3) -> 2026 | U6: 年 | V6: =MONTH(事前協議書!E3) -> 4 | W6: 月 | X6: =DAY(事前協議書!E3) -> 1 | Y6: 日
B7: 千代田区長 殿
H8: 届出者（建築主） | L8: 住所 | N8: =事前協議書!E5 -> 千代田区大手町一丁目○番地○号
L10: 氏名 | N10: =事前協議書!E4 -> M株式会社
M14: =IF(L5="(計画)","➀",1) -> ➀ | N14: 第13条第１項の規定による届出をします。
B15: 千代田区地球温暖化対策条例施行規則 | M15: =IF(L5="(変更)","➁",2) -> 2 | N15: 第15条第１項の規定による変更の届出をします。
M16: =IF(L5="(完了)","➂",3) -> 3 | N16: 第16条第１項の規定による完了の届出をします。
B18: 特定建築物の名称 | J18: =事前協議書!E8 -> ○●○●ビル
B19: 特定建築物の所在地 | J19: =事前協議書!E9 -> 千代田区九段北○丁目○番地○号
B20: 設計者 | C20: 氏名 | J20: =事前協議書!E6 -> 株式会社N設計
C21: (法人にあっては名称、代表者の氏名)
C22: 住所 | J22: =事前協議書!E7 -> 千代田区飯田橋一丁目○番地○号
C23: (法人にあっては主たる事務所の所在地)
H24: 名称／住所 | M24: □■設計事務所 千代田区丸の内〇〇
B25: 連絡先 | H25: 部署・担当者氏名 | M25: 設計担当 〇〇 〇〇
H26: 電話番号 | M26: ０３－〇〇〇〇－〇〇〇〇
B27: =事前協議書!C13 -> 工事期間（予定） | H27: 工事着手 | J27: =YEAR(事前協議書!H13) -> 2026 | L27: 年 | M27: =MONTH(事前協議書!H13) -> 5 | N27: 月 | O27: =DAY(事前協議書!H13) -> 1 | P27: 日 | Q27: 工事完了 | S27: =YEAR(事前協議書!O13) -> 2027 | U27: 年 | V27: =MONTH(事前協議書!O13) -> 8 | W27: 月 | X27: =DAY(事前協議書!O13) -> 31 | Y27: 日
B28: ・建築物概要 | H28: 別添「事前協議書」「環境評価書」のとおり | Q28: 建築主の氏名の公表 | V28: 可 ・ 不可
B29: ・環境への配慮のための措置 | Q29: 設計者の氏名の公表 | V29: 可 ・ 不可
C31: 以下は完了（変更）届出時にご記入ください。
B33: 受付番号 | H33: 受付日： | L33: 年 | N33: 月 | P33: 日 | Q33: ／受付番号： | AA33: ←計画時の届出の副本の受付日・番号（変更の届出をしている場合は変更時のもの）
B34: 変更の有無 | H34: 変更前
C36: 有 ・ 無
H37: 変更後
B40: 添付図書 | H40: 別添のとおり
B41: 工事完了日 | N41: 年 | P41: 月 | R41: 日
B42: 添付図書 | H42: 別添のとおり
B43: 特定建築物の管理者 | H43: 名称／住所
H44: 部署・担当者氏名
H45: 電話番号
B47: 職員記入欄 | H47: 受付欄 | Q47: 確認欄

Sheet 第2号様式（事業者連名用別紙）
G3: 建築物環境計画書
H4: =IF(環境評価書!AC2=2,"(計画)",IF(環境評価書!AC2=3,"(変更)",IF(環境評価書!AC2=4,"(完了)","(計画、変更、完了)"))) -> (計画)
L5: =YEAR(事前協議書!E3) -> 2026 | N5: 年 | O5: =MONTH(事前協議書!E3) -> 4 | P5: 月 | Q5: =DAY(事前協議書!E3) -> 1 | R5: 日
B6: 千代田区長 殿
F7: 届出者（建築主） | I7: 住所
I9: 氏名
F13: 届出者（建築主） | I13: 住所
I15: 氏名
F19: 届出者（建築主） | I19: 住所
I21: 氏名
F25: 届出者（建築主） | I25: 住所
I27: 氏名
B33: 職員記入欄 | G33: 受付欄 | M33: 確認欄

Sheet List
B1: 協議の段階 | C1: 建物用途_非住宅 | D1: 建物用途_住宅 | E1: 断熱材CD | F1: 断熱材（ver.30より モデル建物法マニュアル） | G1: 断熱材_備考 | J1: 判定文言 | K1: 目標削減率 | M1: 判定削減率 | N1: ランク表示用 | O1: 文言 | P1: ランクマーク | T1: ※目標削減率、判定削減率の変更対応 | W1: 計算プログラム | Y1: 【様式】 2017/11/09 不要 | AA1: バージョン | AB1: v20 | AC1: 改定年月： | AD1: 2026.10 | AE1: ←[事前協議書]シート記載
A2: 2 | B2: [プルダウンから選択] | C2: 事務所 | D2: 分譲集合住宅 | E2: 0101 | F2: ="モデル"&"_"&モデル建物法_断熱材!D3&"["&モデル建物法_断熱材!E3&"]" -> モデル_グラスウール断熱材１０K[0.05] | J2: 努力目標達成 | K2: 35 | M2: 20 | N2: Grade_mark_Non | O2: なし | T2: 下記のセル値を変更する | W2: モデル建物法 | Y2: 計画書ステータス | AA2: セキュリティメモ | AC2: 対応：2022/07/26～ | AD2: 修正内容は、下部に記載
A3: 2 | B3: 事前協議時 | C3: ホテル | D3: 賃貸集合住宅 | E3: 0102 | F3: ="モデル"&"_"&モデル建物法_断熱材!D4&"["&モデル建物法_断熱材!E4&"]" -> モデル_グラスウール断熱材１２K[0.045] | J3: 努力目標未達 | M3: 35 | N3: Grade_mark_Good | O3: 優良環境建築 | T3: 目標削減率 | U3: =ADDRESS(ROW(List!$K$2),COLUMN(List!$K$2)) -> $K$2 | W3: モデル建物法（小規模版） | Y3: [プルダウンから選択] | AA3: シート名 | AB3: シートの保護 | AC3: シートの非表示 | AD3: 非表示エリア | AE3: 備考
A4: 3 | B4: 計画時 | C4: 病院 | D4: 戸建住宅 | E4: 0103 | F4: ="モデル"&"_"&モデル建物法_断熱材!D5&"["&モデル建物法_断熱材!E5&"]" -> モデル_グラスウール断熱材１６K[0.045] | N4: Grade_mark_Best | O4: 特別優良環境建築 | T4: 判定削減率(優良) | U4: =ADDRESS(ROW(List!$M$2),COLUMN(List!$M$2)) -> $M$2 | W4: 標準入力法・主要室入力法 | Y4: （計 画） | AA4: 事前協議書 | AB4: 要※① | AD4: V列から右、100行から下 | AE4: v29 2019/03/15時点より
A5: 4 | B5: 変更時 | C5: 物販店舗 | D5: 事務所 | E5: 0104 | F5: ="モデル"&"_"&モデル建物法_断熱材!D6&"["&モデル建物法_断熱材!E6&"]" -> モデル_グラスウール断熱材２０K[0.042] | T5: 判定削減率(特優) | U5: =ADDRESS(ROW(List!$M$3),COLUMN(List!$M$3)) -> $M$3 | W5: BEST | Y5: （変 更） | AA5: 環境評価書 | AB5: 要※①② | AD5: AA列から右、69行から下
A6: 5 | B6: 工事完了時 | C6: 学校 | D6: ホテル | E6: 0105 | F6: ="モデル"&"_"&モデル建物法_断熱材!D7&"["&モデル建物法_断熱材!E7&"]" -> モデル_グラスウール断熱材２４K[0.038] | J6: 有無 | W6: 2018/07/02add ⇒2019/02/12 v28 解除 | Y6: （完 了） | AA6: 第2号様式 | AB6: 要※①②② | AE6: 〇オブジェクト使用廃止→②不要（2017/09/13）
C7: 飲食店 | D7: 病院 | E7: 0106 | F7: ="モデル"&"_"&モデル建物法_断熱材!D8&"["&モデル建物法_断熱材!E8&"]" -> モデル_グラスウール断熱材３２K[0.036] | I7: 0 | J7: [プルダウンから選択] | T7: 過去採用マーク | W7: 省エネ基準範囲チェック用 | AE7: →プルダウン版却下により②保護復活(2017/11/09)
C8: 集会所 | D8: 物販店舗 | E8: 0107 | F8: ="モデル"&"_"&モデル建物法_断熱材!D9&"["&モデル建物法_断熱材!E9&"]" -> モデル_グラスウール断熱材４０K[0.036] | I8: 1 | J8: あり | W8: ・許容範囲 | Y8: 届出内容 | AA8: 第4号様式 | AB8: 要※①②② | AE8: 〇オブジェクト使用廃止→②不要（2017/09/13）
B9: 地域地区 | C9: 住宅 | D9: 学校 | E9: 0108 | F9: ="モデル"&"_"&モデル建物法_断熱材!D10&"["&モデル建物法_断熱材!E10&"]" -> モデル_グラスウール断熱材４８K[0.035] | I9: 0 | J9: なし | W9: 0.15 | Y9: [プルダウンから選択] | AE9: →プルダウン版却下により②保護復活(2017/11/09)
A10: 0 | B10: [プルダウンから選択] | C10: 駐輪場 | D10: 飲食店 | E10: 0109 | F10: ="モデル"&"_"&モデル建物法_断熱材!D11&"["&モデル建物法_断熱材!E11&"]" -> モデル_グラスウール断熱材６４K[0.035] | W10: 2018/09/14 0.05⇒0.15変更(2018/11/28v24より再設定の為) | Y10: １ 第13条第１項の規定による届出をします。 | AA10: List | AC10: 要
A11: 1 | B11: 和泉橋地域 | C11: 駐車場 | D11: 集会所 | E11: 0110 | F11: ="モデル"&"_"&モデル建物法_断熱材!D12&"["&モデル建物法_断熱材!E12&"]" -> モデル_グラスウール断熱材８０K[0.033] | J11: 選択 | W11: ・表示文言 | Y11: ２ 第15条第１項の規定による変更の届出をします。 | AA11: xls11_建物概要 | AC11: 要
A12: 2 | B12: 万世橋地域 | C12: その他 | D12: 駐輪場 | E12: 0111 | F12: ="モデル"&"_"&モデル建物法_断熱材!D13&"["&モデル建物法_断熱材!E13&"]" -> モデル_グラスウール断熱材９６K[0.033] | J12: □ | W12: 「基準一次エネルギー消費量合計値（その他を除く）」と「消費先別の一次エネルギー消費量基準値の合計（その他を除く）」の値がことなっていますので、数値を見直してください。 | Y12: ３ 第16条第１項の規定による完了の届出をします。 | AA12: xls12_設備概要 | AC12: 要
A13: 3 | B13: 富士見地域 | C13: 工事種別 | D13: 駐車場 | E13: 0112 | F13: ="モデル"&"_"&モデル建物法_断熱材!D14&"["&モデル建物法_断熱材!E14&"]" -> モデル_高性能グラスウール断熱材１０K[0.047] | J13: ■ | W13: 「設計一次エネルギー消費量合計値（その他を除く）」と「消費先別の一次エネルギー消費量設計値の合計（その他を除く）」の値がことなっていますので、数値を見直してください。 | AA13: xls13_環境対策 | AC13: 要
A14: 4 | B14: 番町地域 | C14: 新築 | D14: その他 | E14: 0113 | F14: ="モデル"&"_"&モデル建物法_断熱材!D15&"["&モデル建物法_断熱材!E15&"]" -> モデル_高性能グラスウール断熱材１２K[0.043] | W14: 設計値および基準値の「一次エネルギー消費量合計値（その他を除く）」と「消費先別の一次エネルギー消費量の合計（その他を除く）」の値がことなっていますので、数値を見直してください。 | Y14: 公表 | AA14: xls14_建物性能 | AC14: 要
A15: 5 | B15: 大丸有・永田町地域 | C15: 増築 | E15: 0114 | F15: ="モデル"&"_"&モデル建物法_断熱材!D16&"["&モデル建物法_断熱材!E16&"]" -> モデル_高性能グラスウール断熱材１４Ｋ[0.038] | Y15: [プルダウンから選択] | AA15: xls15_備考 | AC15: 要
A16: 6 | B16: 神保町地域 | C16: 改築 | E16: 0115 | F16: ="モデル"&"_"&モデル建物法_断熱材!D17&"["&モデル建物法_断熱材!E17&"]" -> モデル_高性能グラスウール断熱材１６K[0.038] | Y16: 可
A17: 7 | B17: 神田公園地域 | E17: 0116 | F17: ="モデル"&"_"&モデル建物法_断熱材!D18&"["&モデル建物法_断熱材!E18&"]" -> モデル_高性能グラスウール断熱材２０K[0.038] | Y17: 不可 | AA17: ブックの保護 | AB17: 要
E18: 0117 | F18: ="モデル"&"_"&モデル建物法_断熱材!D19&"["&モデル建物法_断熱材!E19&"]" -> モデル_高性能グラスウール断熱材２４K[0.036]
B19: 地域冷暖房(DHC)区域 | E19: 0118 | F19: ="モデル"&"_"&モデル建物法_断熱材!D20&"["&モデル建物法_断熱材!E20&"]" -> モデル_高性能グラスウール断熱材２８K[0.036] | Y19: 有無 | AB19: ※ユーザに許可する操作のチェック
A20: 0 | B20: [プルダウンから選択] | E20: 0119 | F20: ="モデル"&"_"&モデル建物法_断熱材!D21&"["&モデル建物法_断熱材!E21&"]" -> モデル_高性能グラスウール断熱材３２K[0.035] | Y20: [プルダウンから選択] | AA20: ① | AB20: ロックされていないセルの選択範囲
A21: 101 | B21: DHC区域内 | E21: 0120 | F21: ="モデル"&"_"&モデル建物法_断熱材!D22&"["&モデル建物法_断熱材!E22&"]" -> モデル_高性能グラスウール断熱材３６K[0.034] | Y21: 有 | AA21: ② | AB21: オブジェクトの編集
A22: 102 | B22: DHC区域に近接 | E22: 0121 | F22: ="モデル"&"_"&モデル建物法_断熱材!D23&"["&モデル建物法_断熱材!E23&"]" -> モデル_高性能グラスウール断熱材３８K[0.034] | Y22: 無
A23: 103 | B23: DHC区域外 | E23: 0122 | F23: ="モデル"&"_"&モデル建物法_断熱材!D24&"["&モデル建物法_断熱材!E24&"]" -> モデル_高性能グラスウール断熱材４０K[0.034] | AB23: 過去2v分を記載
E24: 0123 | F24: ="モデル"&"_"&モデル建物法_断熱材!D25&"["&モデル建物法_断熱材!E25&"]" -> モデル_高性能グラスウール断熱材４８K[0.033] | AB24: v35
B25: 地域冷暖房(DHC)の導入 | E25: 0124 | F25: ="モデル"&"_"&モデル建物法_断熱材!D26&"["&モデル建物法_断熱材!E26&"]" -> モデル_天井用[0.052] | AB25: 対応：2021/03/09 | AC25: 「事前協議開始時」を削除
A26: 0 | B26: [プルダウンから選択] | E26: 0125 | F26: ="モデル"&"_"&モデル建物法_断熱材!D27&"["&モデル建物法_断熱材!E27&"]" -> モデル_屋根•床•壁用[0.04] | AC26: [第4号様式]シート削除
A27: 201 | B27: DHCを導入 | E27: 0126 | F27: ="モデル"&"_"&モデル建物法_断熱材!D28&"["&モデル建物法_断熱材!E28&"]" -> モデル_ロックウール断熱材•マット 24Ｋ以上[0.039] | AB27: 対応：2021/03/23
A28: 202 | B28: DHCを将来導入 | E28: 0127 | F28: ="モデル"&"_"&モデル建物法_断熱材!D29&"["&モデル建物法_断熱材!E29&"]" -> モデル_ロックウール断熱材•マット 30K以上[0.038] | AB28: 照明 | AC28: スケジュール制御に(範囲： )を追加
A29: 203 | B29: 既存DHCから受入 | E29: 0128 | F29: ="モデル"&"_"&モデル建物法_断熱材!D30&"["&モデル建物法_断熱材!E30&"]" -> モデル_ロックウール断熱材•マット 40K以上[0.037] | AB29: ・ | AC29: [環境評価書]シート
A30: 204 | B30: サブプラントを設置 | E30: 0129 | F30: ="モデル"&"_"&モデル建物法_断熱材!D31&"["&モデル建物法_断熱材!E31&"]" -> モデル_ロックウール断熱材•フェルト[0.038] | T30: ランクマークメモ | AC30: □スケジュール制御の下に(範囲： )を行追加
A31: 209 | B31: DHCを導入しない | E31: 0130 | F31: ="モデル"&"_"&モデル建物法_断熱材!D32&"["&モデル建物法_断熱材!E32&"]" -> モデル_ロックウール断熱材•ボード[0.036] | T31: 名前の管理 | U31: 表示させる範囲 | AB31: 換気 | AC31: インバーター制御→変風量制御
E32: 0131 | F32: ="モデル"&"_"&モデル建物法_断熱材!D33&"["&モデル建物法_断熱材!E33&"]" -> モデル_天井用[0.047] | T32: Grade_mark_Non | U32: List!$P$2:$R$12 | AB32: 対応：2021/03/24
B33: 特定電気事業等(特電) | E33: 0132 | F33: ="モデル"&"_"&モデル建物法_断熱材!D34&"["&モデル建物法_断熱材!E34&"]" -> モデル_屋根•床•壁用[0.038] | T33: Grade_mark_Good | U33: List!$P$13:$R$23 | AB33: ・ | AC33: [事前協議書]シート、[環境評価書]シートの省CO2設備手法の文言の修正
A34: 0 | B34: [プルダウンから選択] | E34: 0133 | F34: ="モデル"&"_"&モデル建物法_断熱材!D35&"["&モデル建物法_断熱材!E35&"]" -> モデル_吹付けロックウール[0.064] | T34: Grade_mark_Best | U34: List!$P$24:$R$34 | AB34: 空調 | AC34: 高効率空調機→高効率空調機（中央熱源）
A35: 301 | B35: 特電等を導入 | E35: 0134 | F35: ="モデル"&"_"&モデル建物法_断熱材!D36&"["&モデル建物法_断熱材!E36&"]" -> モデル_天井用•屋根•床•壁用[0.04] | AC35: 変流量制御→変流量制御（中央熱源）
A36: 302 | B36: 特電等を将来導入 | E36: 0135 | F36: ="モデル"&"_"&モデル建物法_断熱材!D37&"["&モデル建物法_断熱材!E37&"]" -> モデル_押出法ポリスチレンフォーム１種[0.04] | P36: 2016/09/27マーク設定 | AC36: 大温度差送水→大温度差送水（中央熱源）
A37: 303 | B37: 特電等を受入 | E37: 0136 | F37: ="モデル"&"_"&モデル建物法_断熱材!D38&"["&モデル建物法_断熱材!E38&"]" -> モデル_押出法ポリスチレンフォーム２種[0.034] | AC37: 変風量制御→変風量制御（中央熱源）
A38: 309 | B38: 導入しない | E38: 0137 | F38: ="モデル"&"_"&モデル建物法_断熱材!D39&"["&モデル建物法_断熱材!E39&"]" -> モデル_押出法ポリスチレンフォーム３種[0.028] | AB38: ・ | AC38: [第2号様式]シート
E39: 0138 | F39: ="モデル"&"_"&モデル建物法_断熱材!D40&"["&モデル建物法_断熱材!E40&"]" -> モデル_A 種ポリエチレンフォーム保温板 1 種[0.042] | AC39: 「氏名が自署の場合は押印省略可（法人の場合を除く。）」追加
B40: 面的エネルギー対策 | E40: 0139 | F40: ="モデル"&"_"&モデル建物法_断熱材!D41&"["&モデル建物法_断熱材!E41&"]" -> モデル_A 種ポリエチレンフォーム保温板 2 種[0.038]
A41: 0 | B41: [プルダウンから選択] | E41: 0140 | F41: ="モデル"&"_"&モデル建物法_断熱材!D42&"["&モデル建物法_断熱材!E42&"]" -> モデル_A 種ポリエチレンフォーム保温板 3 種[0.034] | AB41: v36
A42: 401 | B42: 熱融通 | E42: 0141 | F42: ="モデル"&"_"&モデル建物法_断熱材!D43&"["&モデル建物法_断熱材!E43&"]" -> モデル_ビーズ法ポリスチレンフォーム 1 号[0.034] | AC42: 断熱材修正：安達さん対応済み。コードが過去と異なるのは気にしなくてよい(安達さん確認済)
A43: 402 | B43: 電力融通 | E43: 0142 | F43: ="モデル"&"_"&モデル建物法_断熱材!D44&"["&モデル建物法_断熱材!E44&"]" -> モデル_ビーズ法ポリスチレンフォーム 2 号[0.036] | AB43: 対応：2022/07/26～
A44: 403 | B44: 熱・電力融通 | E44: 0143 | F44: ="モデル"&"_"&モデル建物法_断熱材!D45&"["&モデル建物法_断熱材!E45&"]" -> モデル_ビーズ法ポリスチレンフォーム 3 号[0.038] | AB44: ・ | AC44: [環境評価書]シート
A45: 409 | B45: 導入なし | E45: 0144 | F45: ="モデル"&"_"&モデル建物法_断熱材!D46&"["&モデル建物法_断熱材!E46&"]" -> モデル_ビーズ法ポリスチレンフォーム 4 号[0.041] | AC45: 空調システムの表示復活
A46: 490 | B46: その他 | E46: 0145 | F46: ="モデル"&"_"&モデル建物法_断熱材!D47&"["&モデル建物法_断熱材!E47&"]" -> モデル_硬質ウレタンフォーム 1 種[0.029] | AC46: 面的エネルギーの活用：「AEMS」だけの項目から、複数項目へ変更
E47: 0146 | F47: ="モデル"&"_"&モデル建物法_断熱材!D48&"["&モデル建物法_断熱材!E48&"]" -> モデル_硬質ウレタンフォーム 2 種 1 号[0.023] | AC47: 省CO2対策の概要：削除
B48: AEMS | E48: 0147 | F48: ="モデル"&"_"&モデル建物法_断熱材!D49&"["&モデル建物法_断熱材!E49&"]" -> モデル_硬質ウレタンフォーム 2 種 2 号[0.024] | AC48: 非常時の対応：削除
A49: 0 | B49: [プルダウンから選択] | E49: 0148 | F49: ="モデル"&"_"&モデル建物法_断熱材!D50&"["&モデル建物法_断熱材!E50&"]" -> モデル_硬質ウレタンフォーム 2 種 3 号[0.027] | AC49: 浸水対策：追加
A50: 1 | B50: AEMSを導入 | E50: 0149 | F50: ="モデル"&"_"&モデル建物法_断熱材!D51&"["&モデル建物法_断熱材!E51&"]" -> モデル_硬質ウレタンフォーム 2 種 4 号[0.028] | AC50: 被覆対策：「敷地と建物の被覆対策」と「緑の量・質の確保、生態系への配慮」の項目をまとめた
A51: 9 | B51: 導入なし | E51: 0150 | F51: ="モデル"&"_"&モデル建物法_断熱材!D52&"["&モデル建物法_断熱材!E52&"]" -> モデル_吹付け硬質ウレタンフォーム A 種１[0.034] | AB51: ・ | AC51: [環境評価書]シート
E52: 0151 | F52: ="モデル"&"_"&モデル建物法_断熱材!D53&"["&モデル建物法_断熱材!E53&"]" -> モデル_吹付け硬質ウレタンフォーム A 種１H[0.026] | AC52: 非常時の対応：削除
E53: 0152 | F53: ="モデル"&"_"&モデル建物法_断熱材!D54&"["&モデル建物法_断熱材!E54&"]" -> モデル_吹付け硬質ウレタンフォーム A 種３[0.04] | AC53: 浸水対策：追加
E54: 0153 | F54: ="モデル"&"_"&モデル建物法_断熱材!D55&"["&モデル建物法_断熱材!E55&"]" -> モデル_フェノールフォーム１種[0.022] | AC54: 他
E55: 0154 | F55: ="モデル"&"_"&モデル建物法_断熱材!D56&"["&モデル建物法_断熱材!E56&"]" -> モデル_フェノールフォーム 2 種 1 号[0.036]
E56: 0155 | F56: ="モデル"&"_"&モデル建物法_断熱材!D57&"["&モデル建物法_断熱材!E57&"]" -> モデル_フェノールフォーム 2 種 2 号[0.034]
E57: 0156 | F57: ="モデル"&"_"&モデル建物法_断熱材!D58&"["&モデル建物法_断熱材!E58&"]" -> モデル_フェノールフォーム 2 種 3 号[0.028]
E58: 0157 | F58: ="モデル"&"_"&モデル建物法_断熱材!D59&"["&モデル建物法_断熱材!E59&"]" -> モデル_フェノールフォーム 3 種 1 号[0.035]
E59: 0158 | F59: ="モデル"&"_"&モデル建物法_断熱材!D60&"["&モデル建物法_断熱材!E60&"]" -> モデル_ファイバーマット[0.04]
E60: 0159 | F60: ="モデル"&"_"&モデル建物法_断熱材!D61&"["&モデル建物法_断熱材!E61&"]" -> モデル_ファイバーボード[0.052]
E61: 0201 | F61: ="標準"&"_"&標準入力法_断熱材!C3&"["&標準入力法_断熱材!D3&"]" -> 標準_グラスウール断熱材 10K相当[0.05]
E62: 0202 | F62: ="標準"&"_"&標準入力法_断熱材!C4&"["&標準入力法_断熱材!D4&"]" -> 標準_グラスウール断熱材 16K相当[0.045]
E63: 0203 | F63: ="標準"&"_"&標準入力法_断熱材!C5&"["&標準入力法_断熱材!D5&"]" -> 標準_グラスウール断熱材 20K相当[0.042]
E64: 0204 | F64: ="標準"&"_"&標準入力法_断熱材!C6&"["&標準入力法_断熱材!D6&"]" -> 標準_グラスウール断熱材 24K相当[0.038]
E65: 0205 | F65: ="標準"&"_"&標準入力法_断熱材!C7&"["&標準入力法_断熱材!D7&"]" -> 標準_グラスウール断熱材 32K相当[0.036]
E66: 0206 | F66: ="標準"&"_"&標準入力法_断熱材!C8&"["&標準入力法_断熱材!D8&"]" -> 標準_高性能グラスウール断熱材 16K相当[0.038]
E67: 0207 | F67: ="標準"&"_"&標準入力法_断熱材!C9&"["&標準入力法_断熱材!D9&"]" -> 標準_高性能グラスウール断熱材 24K相当[0.036]
E68: 0208 | F68: ="標準"&"_"&標準入力法_断熱材!C10&"["&標準入力法_断熱材!D10&"]" -> 標準_高性能グラスウール断熱材 32K相当[0.035]
E69: 0209 | F69: ="標準"&"_"&標準入力法_断熱材!C11&"["&標準入力法_断熱材!D11&"]" -> 標準_高性能グラスウール断熱材 40K相当[0.034]
E70: 0210 | F70: ="標準"&"_"&標準入力法_断熱材!C12&"["&標準入力法_断熱材!D12&"]" -> 標準_高性能グラスウール断熱材 48K相当[0.033]
E71: 0211 | F71: ="標準"&"_"&標準入力法_断熱材!C13&"["&標準入力法_断熱材!D13&"]" -> 標準_吹込み用グラスウール 13K相当[0.052]
E72: 0212 | F72: ="標準"&"_"&標準入力法_断熱材!C14&"["&標準入力法_断熱材!D14&"]" -> 標準_吹込み用グラスウール 18K相当[0.052]
... E99: 0239 | F99: ="標準"&"_"&標準入力法_断熱材!C41&"["&標準入力法_断熱材!D41&"]" -> 標準_フェノールフォーム 保温板 1種2号[0.022]
E101: 9000 | F101: （自由記入CD）

Sheet 標準入力法_断熱材
G1: R4.4時点マニュアル
A2: 分類 | B2: 建材番号 | C2: 建材名称 | D2: 熱伝導率 [W/mK] | E2: 容積比熱 [J/LK] | F2: 比熱 [J/gK] | G2: 密度 [g/L]
A3: 繊維系断熱材 | B3: 121 | C3: グラスウール断熱材 10K相当 | D3: 0.05 | E3: 8 | F3: 0.84 | G3: 10
B4: 122 | C4: グラスウール断熱材 16K相当 | D4: 0.045 | E4: 13 | F4: 0.84 | G4: 16
B5: 123 | C5: グラスウール断熱材 20K相当 | D5: 0.042 | E5: 17 | F5: 0.84 | G5: 20
B6: 124 | C6: グラスウール断熱材 24K相当 | D6: 0.038 | E6: 20 | F6: 0.84 | G6: 24
B7: 125 | C7: グラスウール断熱材 32K相当 | D7: 0.036 | E7: 27 | F7: 0.84 | G7: 32
B8: 126 | C8: 高性能グラスウール断熱材 16K相当 | D8: 0.038 | E8: 13 | F8: 0.84 | G8: 16
B9: 127 | C9: 高性能グラスウール断熱材 24K相当 | D9: 0.036 | E9: 20 | F9: 0.84 | G9: 24
B10: 128 | C10: 高性能グラスウール断熱材 32K相当 | D10: 0.035 | E10: 27 | F10: 0.84 | G10: 32
B11: 129 | C11: 高性能グラスウール断熱材 40K相当 | D11: 0.034 | E11: 34 | F11: 0.84 | G11: 40
B12: 130 | C12: 高性能グラスウール断熱材 48K相当 | D12: 0.033 | E12: 40 | F12: 0.84 | G12: 48
B13: 131 | C13: 吹込み用グラスウール 13K相当 | D13: 0.052 | E13: 11 | F13: 0.84 | G13: 13
B14: 132 | C14: 吹込み用グラスウール 18K相当 | D14: 0.052 | E14: 15 | F14: 0.84 | G14: 18
B15: 133 | C15: 吹込み用グラスウール 30K相当 | D15: 0.04 | E15: 25 | F15: 0.84 | G15: 30
... B25: 163 | C25: 吹込み用セルローズファイバー 55K | D25: 0.04 | E25: 103 | F25: 1.88 | G25: 55
A26: 発泡系断熱材 | B26: 181 | C26: 押出法ポリスチレンフォーム 保温板 1種 | D26: 0.04 | E26: 32.5 | F26: 1.3 | G26: 25
B27: 182 | C27: 押出法ポリスチレンフォーム 保温板 2種 | D27: 0.034 | E27: 36.4 | F27: 1.3 | G27: 28
B28: 183 | C28: 押出法ポリスチレンフォーム 保温板 3種 | D28: 0.028 | E28: 40.3 | F28: 1.3 | G28: 31
B29: 184 | C29: A種ポリエチレンフォーム 保温板 1種2号 | D29: 0.042 | E29: 13 | F29: 1.3 | G29: 10
B30: 185 | C30: A種ポリエチレンフォーム 保温板 2種 | D30: 0.038 | E30: 46 | F30: 2.3 | G30: 20
B31: 186 | C31: ビーズ法ポリスチレンフォーム 保温板 特号 | D31: 0.034 | E31: 35.1 | F31: 1.3 | G31: 27
B32: 187 | C32: ビーズ法ポリスチレンフォーム 保温板 1号 | D32: 0.036 | E32: 39 | F32: 1.3 | G32: 30
B33: 188 | C33: ビーズ法ポリスチレンフォーム 保温板 2号 | D33: 0.037 | E33: 32.5 | F33: 1.3 | G33: 25
B34: 189 | C34: ビーズ法ポリスチレンフォーム 保温板 3号 | D34: 0.04 | E34: 26 | F34: 1.3 | G34: 20
B35: 190 | C35: ビーズ法ポリスチレンフォーム 保温板 4号 | D35: 0.043 | E35: 19.5 | F35: 1.3 | G35: 15
B36: 201 | C36: 硬質ウレタンフォーム 保温板 2種1号 | D36: 0.023 | E36: 60 | F36: 1.7 | G36: 35
B37: 202 | C37: 硬質ウレタンフォーム 保温板 2種2号 | D37: 0.024 | E37: 43 | F37: 1.7 | G37: 25
B38: 203 | C38: 吹付け硬質ウレタンフォームA種1 | D38: 0.034 | E38: 61 | F38: 1.7 | G38: 36
... B41: 222 | C41: フェノールフォーム 保温板 1種2号 | D41: 0.022 | E41: 43 | F41: 1.7 | G41: 25

Sheet モデル建物法_断熱材
B2: 大分類 | C2: 小分類 | E2: 熱伝導率 W/(m•K)
A3: 1 | B3: グラスウール断熱材通常品 | C3: ＊ | D3: グラスウール断熱材１０K | E3: 0.05
A4: 2 | D4: グラスウール断熱材１２K | E4: 0.045
A5: 3 | D5: グラスウール断熱材１６K | E5: 0.045
A6: 4 | D6: グラスウール断熱材２０K | E6: 0.042
A7: 5 | D7: グラスウール断熱材２４K | E7: 0.038
A8: 6 | D8: グラスウール断熱材３２K | E8: 0.036
A9: 7 | D9: グラスウール断熱材４０K | E9: 0.036
A10: 8 | D10: グラスウール断熱材４８K | E10: 0.035
A11: 9 | D11: グラスウール断熱材６４K | E11: 0.035
A12: 10 | D12: グラスウール断熱材８０K | E12: 0.033
A13: 11 | D13: グラスウール断熱材９６K | E13: 0.033
A14: 12 | B14: グラスウール断熱材高性能品 | C14: ＊ | D14: 高性能グラスウール断熱材１０K | E14: 0.047
A15: 13 | D15: 高性能グラスウール断熱材１２K | E15: 0.043
A16: 14 | D16: 高性能グラスウール断熱材１４Ｋ | E16: 0.038
A17: 15 | D17: 高性能グラスウール断熱材１６K | E17: 0.038
A18: 16 | D18: 高性能グラスウール断熱材２０K | E18: 0.038
A19: 17 | D19: 高性能グラスウール断熱材２４K | E19: 0.036
A20: 18 | D20: 高性能グラスウール断熱材２８K | E20: 0.036
A21: 19 | D21: 高性能グラスウール断熱材３２K | E21: 0.035
A22: 20 | D22: 高性能グラスウール断熱材３６K | E22: 0.034
A23: 21 | D23: 高性能グラスウール断熱材３８K | E23: 0.034
A24: 22 | D24: 高性能グラスウール断熱材４０K | E24: 0.034
A25: 23 | D25: 高性能グラスウール断熱材４８K | E25: 0.033
A26: 24 | B26: 吹込み用グラスウール断熱材 | C26: ＊ | D26: 天井用 | E26: 0.052
A27: 25 | D27: 屋根•床•壁用 | E27: 0.04
A28: 26 | B28: ロックウール断熱材 | C28: ＊ | D28: ロックウール断熱材•マット 24Ｋ以上 | E28: 0.039
A29: 27 | D29: ロックウール断熱材•マット 30K以上 | E29: 0.038
A30: 28 | D30: ロックウール断熱材•マット 40K以上 | E30: 0.037
A31: 29 | D31: ロックウール断熱材•フェルト | E31: 0.038
A32: 30 | D32: ロックウール断熱材•ボード | E32: 0.036
A33: 31 | B33: 吹込み用ロックウール断熱材 | C33: ＊ | D33: 天井用 | E33: 0.047
A34: 32 | D34: 屋根•床•壁用 | E34: 0.038
A35: 33 | B35: 吹付けロックウール | D35: 吹付けロックウール | E35: 0.064
A36: 34 | B36: 吹込み用セルローズファイバー断熱材 | C36: ＊ | D36: 天井用•屋根•床•壁用 | E36: 0.04
A37: 35 | B37: 押出法ポリスチレンフォーム断熱材 | C37: ＊ | D37: 押出法ポリスチレンフォーム１種 | E37: 0.04
A38: 36 | D38: 押出法ポリスチレンフォーム２種 | E38: 0.034
A39: 37 | D39: 押出法ポリスチレンフォーム３種 | E39: 0.028
A40: 38 | B40: ポリエチレンフォーム断熱材 | C40: ＊ | D40: A 種ポリエチレンフォーム保温板 1 種 | E40: 0.042
A41: 39 | D41: A 種ポリエチレンフォーム保温板 2 種 | E41: 0.038
A42: 40 | D42: A 種ポリエチレンフォーム保温板 3 種 | E42: 0.034
A43: 41 | B43: ビーズ法ポリスチレンフォーム断熱材 | D43: ビーズ法ポリスチレンフォーム 1 号 | E43: 0.034
A44: 42 | D44: ビーズ法ポリスチレンフォーム 2 号 | E44: 0.036
A45: 43 | D45: ビーズ法ポリスチレンフォーム 3 号 | E45: 0.038
A46: 44 | C46: ＊ | D46: ビーズ法ポリスチレンフォーム 4 号 | E46: 0.041
A47: 45 | B47: 硬質ウレタンフォーム断熱材 | C47: ＊ | D47: 硬質ウレタンフォーム 1 種 | E47: 0.029
A48: 46 | D48: 硬質ウレタンフォーム 2 種 1 号 | E48: 0.023
A49: 47 | D49: 硬質ウレタンフォーム 2 種 2 号 | E49: 0.024
A50: 48 | D50: 硬質ウレタンフォーム 2 種 3 号 | E50: 0.027
A51: 49 | D51: 硬質ウレタンフォーム 2 種 4 号 | E51: 0.028
A52: 50 | B52: 吹付け硬質ウレタンフォーム | D52: 吹付け硬質ウレタンフォーム A 種１ | E52: 0.034
A53: 51 | D53: 吹付け硬質ウレタンフォーム A 種１H | E53: 0.026
A54: 52 | C54: ＊ | D54: 吹付け硬質ウレタンフォーム A 種３ | E54: 0.04
A55: 53 | B55: フェノールフォーム断熱材 | D55: フェノールフォーム１種 | E55: 0.022
A56: 54 | C56: ＊ | D56: フェノールフォーム 2 種 1 号 | E56: 0.036
A57: 55 | D57: フェノールフォーム 2 種 2 号 | E57: 0.034
A58: 56 | D58: フェノールフォーム 2 種 3 号 | E58: 0.028
A59: 57 | D59: フェノールフォーム 3 種 1 号 | E59: 0.035
A60: 58 | B60: インシュレーションファイバー断熱材 | D60: ファイバーマット | E60: 0.04
A61: 59 | C61: ＊ | D61: ファイバーボード | E61: 0.052

Sheet xls11_建物概要
A1: 建物ID | B1: 千代田区番号 | C1: 協議段階 | D1: 提出日 | E1: 建築主_氏名 | F1: 建築主_住所 | G1: 設計者_氏名 | H1: 設計者_住所 | I1: 建物_名称 | J1: 建物_所在地 | K1: 地域 | L1: 用途_事務所 | M1: 用途_ホテル | N1: 用途_病院 | O1: 用途_物販店舗 | P1: 用途_学校 | Q1: 用途_飲食店 | R1: 用途_集会所 | S1: 用途_住宅 | T1: 用途_駐輪場 | U1: 用途_駐車場 | V1: 用途_その他 | W1: 用途_その他_内容 | X1: 予定_着手日 | Y1: 予定_竣工日 | Z1: 敷地面積 | AA1: 建築面積 | AB1: 延床面積 | AC1: 延床面積_計算対象 | AD1: 階数_地上 | AE1: 階数_地下 | AF1: 複合建築物 | AG1: 新築 | AH1: 増築 | AI1: 改築
A2: =事前協議書!#REF! -> #REF! | B2: =事前協議書!#REF! -> #REF! | C2: =事前協議書!#REF! -> #REF! | D2: =事前協議書!#REF! -> #REF! | E2: =事前協議書!#REF! -> #REF! | F2: =事前協議書!#REF! -> #REF! | G2: =事前協議書!#REF! -> #REF! | H2: =事前協議書!#REF! -> #REF! | ... J2: =事前協議書!#REF! -> #REF! | L2: =事前協議書!#REF! -> #REF! | M2: =事前協議書!#REF! -> #REF! | N2: =事前協議書!#REF! -> #REF! | O2: =事前協議書!#REF! -> #REF! | P2: =事前協議書!#REF! -> #REF! | Q2: =事前協議書!#REF! -> #REF! | R2: =事前協議書!#REF! -> #REF! | V2: =事前協議書!#REF! -> #REF! | W2: =事前協議書!#REF! -> #REF! | X2: =事前協議書!#REF! -> #REF! | Y2: =事前協議書!#REF! -> #REF! | Z2: =事前協議書!#REF! -> #REF! | AA2: =事前協議書!#REF! -> #REF! | AB2: =事前協議書!#REF! -> #REF! | AC2: =事前協議書!#REF! -> #REF! | ... AI2: =事前協議書!#REF! -> #REF!
A3: =事前協議書!$X$2 -> 2017998 | B3: =事前協議書!$Z$2 -> Demo998 | C3: =事前協議書!$X$3 -> 3 | D3: =事前協議書!$E$3 -> 46113 | E3: =事前協議書!$E$4 -> M株式会社 | F3: =事前協議書!$E$5 -> 千代田区大手町一丁目○番地○号 | G3: =事前協議書!$E$6 -> 株式会社N設計 | H3: =事前協議書!$E$7 -> 千代田区飯田橋一丁目○番地○号 | I3: =事前協議書!$E$8 -> ○●○●ビル | J3: =事前協議書!$E$9 -> 千代田区九段北○丁目○番地○号 | L3: =事前協議書!$X$10 -> 1 | M3: =事前協議書!$AD$10 -> 1 | N3: =事前協議書!$AB$11 -> 0 | O3: =事前協議書!$AB$10 -> 0 | P3: =事前協議書!$Z$11 -> 0 | Q3: =事前協議書!$Z$10 -> 0 | T3: =事前協議書!$X$11 -> 1 | U3: =事前協議書!$AD$11 -> 0 | V3: =事前協議書!$X$12 -> 0 | W3: =事前協議書!$H$12 -> 0 | X3: =事前協議書!$H$13 -> 46143 | Y3: =事前協議書!$O$13 -> 46630 | Z3: =事前協議書!$O$15 -> 1500 | AA3: =事前協議書!$G$15 -> 1000 | AB3: =事前協議書!$G$16 -> 6000 | AC3: =事前協議書!$O$16 -> 5000 | AD3: =事前協議書!$F$17 -> 6 | AE3: =事前協議書!$K$17 -> 1 | AF3: =事前協議書!$Y$14 -> 0 | AG3: =事前協議書!$AE$3 -> 1 | AH3: =事前協議書!$AG$3 -> 0 | AI3: =事前協議書!$AI$3 -> 0
A4: =A2=A3 -> #REF! | B4: =B2=B3 -> #REF! | C4: =C2=C3 -> #REF! | D4: =D2=D3 -> #REF! | E4: =E2=E3 -> #REF! | F4: =F2=F3 -> #REF! | G4: =G2=G3 -> #REF! | H4: =H2=H3 -> #REF! | ... T4: =T2=T3 -> FALSE | V4: =V2=V3 -> #REF! | W4: =W2=W3 -> #REF! | X4: =X2=X3 -> #REF! | Y4: =Y2=Y3 -> #REF! | Z4: =Z2=Z3 -> #REF! | AA4: =AA2=AA3 -> #REF! | AB4: =AB2=AB3 -> #REF! | AC4: =AC2=AC3 -> #REF! | ... AI4: =AI2=AI3 -> #REF!
M5: 事前協議書のフォーマットのセルが、変更の為ＯＫ | O5: 事前協議書のフォーマットのセルが、変更の為ＯＫ | P5: 事前協議書のフォーマットのセルが、変更の為ＯＫ | T5: 追加 | U5: 追加 | W5: 元データ空白

Sheet xls12_設備概要
A1: 建物ID | B1: 協議段階 | C1: 構造_RC造 | D1: 構造_SRC造 | E1: 構造_S造 | F1: 構造_木造 | G1: 構造_その他 | H1: 構造_その他_内容 | I1: 対象面積1_用途 | J1: 対象面積1_延床 | K1: 対象面積2_用途 | L1: 対象面積2_延床 | M1: 対象面積3_用途 | N1: 対象面積3_延床 | O1: 対象面積4_用途 | P1: 対象面積4_延床 | Q1: 制度適用_有無 | R1: 制度適用_内容 | S1: 周辺開発計画_有無 | T1: 周辺開発計画_内容 | U1: 熱源_DHC受入 | V1: 熱源_中央熱源方式 | W1: 熱源_分散熱源_ビルマル | X1: 空調_各階空調機 | Y1: 空調_分散空調_ビルマル | Z1: 空調_中央空調機 | AA1: 空調_その他 | AB1: 空調_その他_内容 | AC1: 受電方式_特別高圧 | AD1: 受電方式_高圧 | AE1: 受電方式_低圧 | AF1: 都市開発諸制度の適用_再開発等促進区を定める地区計画 | AG1: 都市開発諸制度の適用_高度利用地区 | AH1: 都市開発諸制度の適用_特定街区 | AI1: 都市開発諸制度の適用_総合設計 | AJ1: 都市開発諸制度の適用_その他 | AK1: 都市開発諸制度の適用_その他_内容 | AL1: 工事種別_新築 | AM1: 工事種別_増築 | AN1: 工事種別_改築
A2: =事前協議書!#REF! -> #REF! | B2: =事前協議書!#REF! -> #REF! | C2: =事前協議書!#REF! -> #REF! | D2: =事前協議書!#REF! -> #REF! | E2: =事前協議書!#REF! -> #REF! | F2: =事前協議書!#REF! -> #REF! | G2: =事前協議書!#REF! -> #REF! | H2: =事前協議書!#REF! -> #REF! | ... P2: =事前協議書!#REF! -> #REF! | U2: =事前協議書!#REF! -> #REF! | V2: =事前協議書!#REF! -> #REF! | W2: =事前協議書!#REF! -> #REF! | X2: =事前協議書!#REF! -> #REF! | Y2: =事前協議書!#REF! -> #REF! | Z2: =事前協議書!#REF! -> #REF! | AA2: =事前協議書!#REF! -> #REF! | AB2: =事前協議書!#REF! -> #REF! | AF2: =事前協議書!#REF! -> #REF! | AG2: =事前協議書!#REF! -> #REF! | AH2: =事前協議書!#REF! -> #REF! | AI2: =事前協議書!#REF! -> #REF! | AL2: =事前協議書!#REF! -> #REF! | AM2: =事前協議書!#REF! -> #REF! | AN2: =事前協議書!#REF! -> #REF!
A3: =事前協議書!$X$2 -> 2017998 | B3: =事前協議書!$X$3 -> 3 | C3: =事前協議書!$X$18 -> 1 | D3: =事前協議書!$Z$18 -> 0 | E3: =事前協議書!$AB$18 -> 0 | F3: =事前協議書!$X$19 -> 0 | G3: =事前協議書!$Z$19 -> 0 | H3: =事前協議書!$L$19 -> 0 | I3: =事前協議書!$F$20 -> 事務所 | J3: =事前協議書!$I$20 -> 4000 | K3: =事前協議書!$M$20 -> ホテル | L3: =事前協議書!$P$20 -> 1000 | M3: =事前協議書!$F$21 -> 0 | N3: =事前協議書!$I$21 -> 0 | O3: =事前協議書!$M$21 -> 0 | P3: =事前協議書!$P$21 -> 0 | U3: =事前協議書!$AD$24 -> 0 | V3: =事前協議書!$AB$24 -> 0 | W3: =事前協議書!$Z$24 -> 1 | AF3: =事前協議書!$Z$22 -> 0 | AG3: =事前協議書!$AB$22 -> 0 | AH3: =事前協議書!$AD$22 -> 0 | AI3: =事前協議書!$X$23 -> 0 | AJ3: =事前協議書!$Z$23 -> 0 | AK3: =事前協議書!$L$23 -> 0 | AL3: =事前協議書!$AE$3 -> 1 | AM3: =事前協議書!$AG$3 -> 0 | AN3: =事前協議書!$AI$3 -> 0
A4: =A2=A3 -> #REF! | B4: =B2=B3 -> #REF! | C4: =C2=C3 -> #REF! | D4: =D2=D3 -> #REF! | E4: =E2=E3 -> #REF! | F4: =F2=F3 -> #REF! | G4: =G2=G3 -> #REF! | H4: =H2=H3 -> #REF! | ... AN4: =AN2=AN3 -> #REF!
H5: 元データ空白 | M5: 元データ空白 | N5: 元データ空白 | O5: 元データ空白 | P5: 元データ空白 | X5: 25～26行目非表示行(データなし) | Y5: 25～26行目非表示行(データなし) | Z5: 25～26行目非表示行(データなし) | AA5: 25～26行目非表示行(データなし) | AB5: 25～26行目非表示行(データなし) | AJ5: 追加 | AK5: 追加 | AL5: 「xls11_建物概要」に項目ある為不要？ | AM5: 「xls11_建物概要」に項目ある為不要？ | AN5: 「xls11_建物概要」に項目ある為不要？

Sheet xls13_環境対策
A1: 建物ID | B1: 協議段階 | C1: 省CO2目標率 | D1: 目標率_未満時理由 | E1: 省CO2建築手法_LowEガラス | F1: 省CO2建築手法_複層ガラス | G1: 省CO2建築手法_庇ルーバー | H1: 省CO2建築手法_外壁高断熱化 | I1: 省CO2建築手法_屋根高断熱化 | J1: 省CO2建築手法_壁高断熱化 | K1: 省CO2建築手法_外壁高断熱化_屋根CD | L1: 省CO2建築手法_外壁高断熱化_屋根mm | M1: 省CO2建築手法_外壁高断熱化_屋根自由記述 | N1: 省CO2建築手法_外壁高断熱化_壁CD | O1: 省CO2建築手法_外壁高断熱化_壁mm | P1: 省CO2建築手法_外壁高断熱化_壁自由記述 | Q1: 省CO2設備手法_高効率分散熱源 | R1: 省CO2設備手法_高効率中央熱源 | S1: 省CO2設備手法_高効率空調機 | T1: 省CO2設備手法_変流量制御 | U1: 省CO2設備手法_大温度差送水 | V1: 省CO2設備手法_変風量制御 | W1: 省CO2設備手法_外気導入量制御 | X1: 省CO2設備手法_外気冷房 | Y1: 省CO2設備手法_自然換気 | Z1: 省CO2設備手法_全熱交換器 | AA1: 省CO2設備手法_駐車場換気量制御 | AB1: 省CO2設備手法_機械室換気量制御 | AC1: 省CO2設備手法_LED照明 | AD1: 省CO2設備手法_LED照明_範囲 | AE1: 省CO2設備手法_照明制御 | AF1: 省CO2設備手法_照明制御_種類 | AG1: 省CO2設備手法_高効率給湯機 | AH1: 省CO2設備手法_自動給湯栓 | AI1: 省CO2設備手法_小流量シャワー | AJ1: 省CO2設備手法_配管保温仕様1 | AK1: 省CO2設備手法_BEMS | AL1: 省CO2設備手法_見える化装置 | AM1: 省CO2設備手法_その他 | AN1: 省CO2設備手法_その他_内容 | AO1: 創エネ手法_コージェネ | AP1: 創エネ手法_太陽光発電 | AQ1: 創エネ手法_太陽光発電_容量kW | AR1: 創エネ手法_その他 | AS1: 創エネ手法_その他_内容 | AT1: 未利用エネ_下水熱 | AU1: 未利用エネ_河川水熱 | AV1: 未利用エネ_地下鉄排熱 | AW1: 未利用エネ_地中熱 | AX1: 未利用エネ_バイオマス | AY1: 未利用エネ_太陽熱利用 | AZ1: 未利用エネ_その他 | BA1: 未利用エネ_その他_内容 | BB1: DHC区域_区域CD | BC1: DHC区域_区域名称 | BD1: DHC導入_導入CD | BE1: DHC導入_導入しない_理由 | BF1: 特電_導入CD | BG1: 面的_エネ対策CD | BH1: 面的_その他_内容→CO列で参照に変更 | BI1: AEMS_導入CD | BJ1: 地域CO2取組_CD | BK1: 地域CO2取組_内容 | BL1: 地域CO2削減目標_CD | BM1: 地域CO2削減目標_per | BN1: 省CO2対策の概要 | BO1: 非常時対応_発電機 | BP1: 非常時対応_その他 | BQ1: 非常時対応_その他_内容 | BR1: オゾン層保護_破壊物質_不使用 | BS1: オゾン層保護_温暖化係数小_使用 | BT1: 被覆対策_被覆材 | BU1: 被覆対策_屋上壁面緑化 | BV1: 被覆対策_高反射率塗料 | BW1: 水循環_雨水利用設備 | BX1: 水循環_雨水浸透施設 | BY1: 生態系配慮_敷地内緑化 | BZ1: 省CO2設備手法_高効率電動機 | CA1: 省CO2設備手法_インバータ制御 | CB1: 省CO2設備手法_送風量制御 | CC1: 省CO2設備手法_人感センサ | CD1: 省CO2設備手法_人感センサ_範囲 | CE1: 省CO2設備手法_明るさセンサ | CF1: 省CO2設備手法_明るさセンサ_範囲 | CG1: 省CO2設備手法_スケジュール | CH1: 省CO2設備手法_照度補正 | CI1: 省CO2設備手法_自動給湯栓 | CJ1: 省CO2設備手法_小流量シャワー | CK1: 省CO2設備手法_スケジュール_範囲 | CL1: 面的_DHC導入 | CM1: 面的_DHC導入_区域名称 | CN1: 面的_DHC受入 | CO1: 面的_DHC受入_区域名称 | CP1: 面的_熱融通 | CQ1: 面的_電力融通 | CR1: 面的_AEMS | CS1: 面的_その他 | CT1: 面的_その他_内容 | CU1: 洪水ハザード_エリア内 | CV1: 洪水ハザード_エリア外 | CW1: 浸水深_0.5m未満 | CX1: 浸水深_3m未満 | CY1: 浸水深_5m未満 | CZ1: 浸水深_5m以上 | DA1: 浸水対策_浸水リスクの低い場所への電気設備の設置 | DB1: 浸水対策_出入口等における止水板の設置 | DC1: 浸水対策_その他 | DD1: 浸水対策_その他_内容 | DE1: 浸水対策＿ソフト面対策 | DF1: 浸水対策＿ソフト面対策内容 | DG1: 備考欄 | DH1: 昇降機_交流帰還制御 | DI1: 昇降機_VVVF（回生なし） | DJ1: 昇降機_VVVF（回生あり）
A2: =事前協議書!#REF! -> #REF! | B2: =事前協議書!#REF! -> #REF! | E2: =事前協議書!#REF! -> #REF! | F2: =事前協議書!#REF! -> #REF! | G2: =事前協議書!#REF! -> #REF! | H2: =事前協議書!#REF! -> #REF! | K2: =事前協議書!#REF! -> #REF! | L2: =事前協議書!#REF! -> #REF! | M2: =事前協議書!#REF! -> #REF! | N2: =事前協議書!#REF! -> #REF! | O2: =事前協議書!#REF! -> #REF! | P2: =事前協議書!#REF! -> #REF! | Q2: =事前協議書!#REF! -> #REF! | R2: =事前協議書!#REF! -> #REF! | ... Z2: =事前協議書!#REF! -> #REF! | AC2: =事前協議書!#REF! -> #REF! | AD2: =事前協議書!#REF! -> #REF! | AG2: =事前協議書!#REF! -> #REF! | AH2: =事前協議書!#REF! -> #REF! | AI2: =事前協議書!#REF! -> #REF! | AJ2: =事前協議書!#REF! -> #REF! | AK2: =事前協議書!#REF! -> #REF! | AM2: =事前協議書!#REF! -> #REF! | AN2: =事前協議書!#REF! -> #REF! | AO2: =事前協議書!#REF! -> #REF! | AP2: =事前協議書!#REF! -> #REF! | AQ2: =事前協議書!#REF! -> #REF! | AR2: =事前協議書!#REF! -> #REF! | AS2: =事前協議書!#REF! -> #REF! | AT2: =事前協議書!#REF! -> #REF! | ... AW2: =事前協議書!#REF! -> #REF! | AY2: =事前協議書!#REF! -> #REF! | AZ2: =事前協議書!#REF! -> #REF! | BA2: =事前協議書!#REF! -> #REF! | BT2: =事前協議書!#REF! -> #REF! | BU2: =事前協議書!#REF! -> #REF! | BV2: =事前協議書!#REF! -> #REF! | BW2: =事前協議書!#REF! -> #REF! | BX2: =事前協議書!#REF! -> #REF! | BY2: =事前協議書!#REF! -> #REF! | BZ2: =事前協議書!#REF! -> #REF! | CB2: =事前協議書!#REF! -> #REF! | CC2: =事前協議書!#REF! -> #REF! | CD2: =事前協議書!#REF! -> #REF! | CE2: =事前協議書!#REF! -> #REF! | CF2: =事前協議書!#REF! -> #REF! | CG2: =事前協議書!#REF! -> #REF! | CH2: =事前協議書!#REF! -> #REF! | CI2: =事前協議書!#REF! -> #REF! | ... DJ2: =事前協議書!#REF! -> #REF!
A3: =事前協議書!$X$2 -> 2017998 | B3: =事前協議書!$X$3 -> 3 | E3: =事前協議書!$Y$28 -> 1 | F3: =事前協議書!$AA$28 -> 0 | G3: =事前協議書!$AE$28 -> 1 | I3: =事前協議書!$Y$29 -> 1 | J3: =事前協議書!$Y$30 -> 1 | K3: =事前協議書!$AA$29 -> 0235 | L3: =事前協議書!$S$29 -> 80 | M3: =事前協議書!$K$29 -> 標準_硬質ウレタンフォーム 保温板 2種2号[0.024] | N3: =事前協議書!$AA$30 -> 0235 | O3: =事前協議書!$S$30 -> 50 | P3: =事前協議書!$K$30 -> 標準_硬質ウレタンフォーム 保温板 2種2号[0.024] | Q3: =事前協議書!$Y$31 -> 1 | R3: =事前協議書!$AB$31 -> 0 | S3: =事前協議書!$AE$31 -> 0 | T3: =事前協議書!$AH$31 -> 1 | U3: =事前協議書!$Y$32 -> 0 | V3: =事前協議書!$AB$32 -> 0 | W3: =事前協議書!$AE$32 -> 0 | X3: =事前協議書!$AH$32 -> 0 | Y3: =事前協議書!$AE$33 -> 0 | Z3: =事前協議書!$Y$33 -> 0 | AG3: =事前協議書!$Y$38 -> 0 | AJ3: =事前協議書!$AH$38 -> 0 | AK3: =事前協議書!$Y$40 -> 0 | AM3: =事前協議書!$Y$41 -> 0 | AN3: =事前協議書!$H$41 -> 0 | AO3: =事前協議書!$AB$42 -> 0 | AP3: =事前協議書!$Y$42 -> 1 | AQ3: =事前協議書!$H$42 -> 20 | AR3: =事前協議書!$Y$43 -> 0 | AS3: =事前協議書!$H$43 -> 0 | AT3: =事前協議書!$Y$44 -> 0 | AU3: =事前協議書!$AB$44 -> 0 | AV3: =事前協議書!$AE$44 -> 0 | AW3: =事前協議書!$AH$44 -> 0 | AY3: =事前協議書!$Y$45 -> 0 | AZ3: =事前協議書!$AB$45 -> 0 | BA3: =事前協議書!$L$45 -> 0 | BT3: =事前協議書!$Z$57 -> 0 | BU3: =事前協議書!$Z$55 -> 1 | BV3: =事前協議書!$AC$57 -> 0 | BW3: =事前協議書!$Z$58 -> 0 | BX3: =事前協議書!$Z$59 -> 1 | BY3: =事前協議書!$Z$56 -> 1 | BZ3: =事前協議書!$AB$33 -> 1 | CB3: =事前協議書!$AB$34 -> 0 | CC3: =事前協議書!$Y$35 -> 1 | CD3: =事前協議書!$I$35 -> トイレ | CE3: =事前協議書!$Y$36 -> 1 | CF3: =事前協議書!$I$36 -> 共用部 | CG3: =事前協議書!$Y$37 -> 0 | CI3: =事前協議書!$AB$38 -> 0 | CJ3: =事前協議書!$AE$38 -> 0 | CK3: =事前協議書!$J$37 -> 0 | CL3: =事前協議書!$Y$46 -> 0 | CM3: =事前協議書!$L$46 -> 0 | CN3: =事前協議書!$Y$47 -> 0 | CO3: =事前協議書!$L$47 -> 0 | CP3: =事前協議書!$Y$48 -> 0 | CQ3: =事前協議書!$AB$48 -> 0 | CR3: =事前協議書!$AE$48 -> 0 | CS3: =事前協議書!$Y$49 -> 0 | CT3: =事前協議書!$H$49 -> 0 | CU3: =事前協議書!$Y$50 -> 1 | CV3: =事前協議書!$AB$50 -> 0 | CW3: =事前協議書!$Y$51 -> 1 | CX3: =事前協議書!$AB$51 -> 0 | CY3: =事前協議書!$AE$51 -> 0 | CZ3: =事前協議書!$AH$51 -> 0 | DA3: =事前協議書!$Z$52 -> 1 | DB3: =事前協議書!$AD$52 -> 0 | DC3: =事前協議書!$Y$54 -> 0 | DD3: =事前協議書!$H$54 -> 0 | DE3: =事前協議書!$Y$53 -> 1 | DF3: =事前協議書!$J$53 -> 入居者へ浸水リスクの周知、訓練の実施、土のう袋の準備 | DG3: =事前協議書!$E$61 -> 0 | DI3: =事前協議書!$Y$39 -> 0 | DJ3: =事前協議書!$AB$39 -> 0
A4: =A2=A3 -> #REF! | B4: =B2=B3 -> #REF! | C4: =C2=C3 -> TRUE | D4: =D2=D3 -> TRUE | E4: =E2=E3 -> #REF! | F4: =F2=F3 -> #REF! | G4: =G2=G3 -> #REF! | H4: =H2=H3 -> #REF! | ... DJ4: =DJ2=DJ3 -> #REF!
H5: 項目なし （IとJ列に変更） | I5: 追加 | J5: 追加 | L5: 数値同じの為OK | M5: 元データ空白 | O5: 数値同じの為OK | P5: 元データ空白 | AC5: 新フォーマットに項目なし | AD5: 新フォーマットに項目なし | AH5: 重複（CJ列に同項目あり） | AI5: 重複（CJ列に同項目あり） | AN5: 元データ空白 | AO5: 事前協議書のフォーマットのセルが、変更の為ＯＫ | AP5: 事前協議書のフォーマットのセルが、変更の為ＯＫ | AQ5: 元データ空白 | AS5: 元データ空白 | BA5: 元データ空白 | BT5: 参照先が移動になっている | BU5: 参照先が移動になっている | BX5: 元データが参照先違い | CH5: 新フォーマットに項目なし | CK5: 元データ空白 | CM5: 元データ空白 | CO5: 元データ空白 | CT5: 元データ空白 | DD5: 元データ空白 | DG5: 元データ空白

Sheet xls14_建物性能
A1: 建物ID | B1: 協議段階 | C1: 基準一次エネ消費量_GJ_年 | D1: 基準一次エネ消費量_MJ_m2年 | E1: 設計一次エネ消費量_GJ_年 | F1: 設計一次エネ消費量_MJ_m2年 | G1: 一次エネ消費削減量_GJ_年 | H1: 一次エネ消費削減量_MJ_m2年 | I1: BEI | J1: 計算プログラム | K1: PAL_基準_MJ_m2年 | L1: PAL_設計値_MJ_m2年 | M1: PAL_BPI | N1: 空調_一次エネ_基準_GJ_年 | O1: 空調_一次エネ_設計値_GJ_年 | P1: 空調_一次エネ_基準_MJ_m2年 | Q1: 空調_一次エネ_設計値_MJ_m2年 | R1: 空調_BEI | S1: 空調以外_一次エネ_基準_GJ_年 | T1: 空調以外_一次エネ_設計値_GJ_年 | U1: 空調以外_一次エネ_基準_MJ_m2年 | V1: 空調以外_一次エネ_設計値_MJ_m2年 | W1: 空調以外_BEI | X1: 照明_一次エネ_基準_GJ_年 | Y1: 照明_一次エネ_設計値_GJ_年 | Z1: 照明_一次エネ_基準_MJ_m2年 | AA1: 照明_一次エネ_設計値_MJ_m2年 | AB1: 照明_BEI | AC1: 給湯_一次エネ_基準_GJ_年 | AD1: 給湯_一次エネ_設計値_GJ_年 | AE1: 給湯_一次エネ_基準_MJ_m2年 | AF1: 給湯_一次エネ_設計値_MJ_m2年 | AG1: 給湯_BEI | AH1: 昇降機_一次エネ_基準_GJ_年 | AI1: 昇降機_一次エネ_設計値_GJ_年 | AJ1: 昇降機_一次エネ_基準_MJ_m2年 | AK1: 昇降機_一次エネ_設計値_MJ_m2年 | AL1: 昇降機_BEI | AM1: 効率化創エネ量_一次エネ_設計値_GJ_年 | AN1: 効率化創エネ量_一次エネ_設計値_MJ_m2年 | AO1: その他_一次エネ_基準_GJ_年 | AP1: その他_一次エネ_設計値_GJ_年 | AQ1: その他_一次エネ_基準_MJ_m2年 | AR1: その他_一次エネ_設計値_MJ_m2年 | AS1: その他_BEI | AT1: 電力需要_最大kW | AU1: 省エネ性能_削減率 | AV1: 省エネ性能_結果 | AW1: 省エネ性能_CO2排出削減量_tCO2年 | AX1: 35%削減未達理由_コスト | AY1: 35%削減未達理由_運用上の制約 | AZ1: 35%削減未達理由_その他 | BA1: 35%削減未達理由_その他_内容 | BB1: 35%削減未達理由_スケルトン施工 | BC1: 千代田区低炭素助成制度申請予定
A2: =事前協議書!#REF! -> #REF! | B2: =事前協議書!#REF! -> #REF! | C2: =事前協議書!#REF! -> #REF! | D2: =事前協議書!#REF! -> #REF! | E2: =事前協議書!#REF! -> #REF! | F2: =事前協議書!#REF! -> #REF! | G2: =事前協議書!#REF! -> #REF! | H2: =事前協議書!#REF! -> #REF! | ... AY2: =事前協議書!#REF! -> #REF! | BB2: =事前協議書!#REF! -> #REF! | BC2: =事前協議書!#REF! -> #REF!
A3: =事前協議書!$X$2 -> 2017998 | B3: =事前協議書!$X$3 -> 3 | C3: =事前協議書!$K$64 -> 7092 | D3: =事前協議書!$O$64 -> 1418.4 | E3: =事前協議書!$K$63 -> 4492 | F3: =事前協議書!$O$63 -> 898.4 | G3: =事前協議書!$K$65 -> 2600 | H3: =事前協議書!$O$65 -> 520 | I3: =事前協議書!$K$66 -> 0.63338973 | J3: =事前協議書!$P$66 -> モデル建物法 | K3: =事前協議書!$O$69 -> - | L3: =事前協議書!$M$69 -> - | M3: =事前協議書!$Q$69 -> 0.8 | N3: =事前協議書!$K$70 -> 4569.5 | O3: =事前協議書!$I$70 -> 2647 | P3: =事前協議書!$O$70 -> 913.9 | Q3: =事前協議書!$M$70 -> 529.4 | R3: =事前協議書!$Q$70 -> 0.57927563 | S3: =事前協議書!$K$71 -> 68.5 | T3: =事前協議書!$I$71 -> 55 | U3: =事前協議書!$O$71 -> 13.7 | V3: =事前協議書!$M$71 -> 11 | W3: =事前協議書!$Q$71 -> 0.80291971 | X3: =事前協議書!$K$72 -> 2285 | Y3: =事前協議書!$I$72 -> 1801 | Z3: =事前協議書!$O$72 -> 457 | AA3: =事前協議書!$M$72 -> 360.2 | AB3: =事前協議書!$Q$72 -> 0.78818381 | AC3: =事前協議書!$K$73 -> 65 | AD3: =事前協議書!$I$73 -> 81.5 | AE3: =事前協議書!$O$73 -> 13 | AF3: =事前協議書!$M$73 -> 16.3 | AG3: =事前協議書!$Q$73 -> 1.2538462 | AH3: =事前協議書!$K$74 -> 104 | AI3: =事前協議書!$I$74 -> 106 | AJ3: =事前協議書!$O$74 -> 20.8 | AK3: =事前協議書!$M$74 -> 21.2 | AL3: =事前協議書!$Q$74 -> 1.0192308 | AM3: =事前協議書!$I$75 -> -198.5 | AN3: =事前協議書!$M$75 -> -39.7 | AO3: =事前協議書!$K$76 -> 1908 | AP3: =事前協議書!$I$76 -> 1908 | AQ3: =事前協議書!$O$76 -> 381.6 | AR3: =事前協議書!$M$76 -> 381.6 | AS3: =事前協議書!$Q$76 -> 1 | AU3: =事前協議書!$K$79 -> 36.661027 | AV3: =事前協議書!$N$79 -> 努力目標達成 | AW3: =事前協議書!$K$80 -> 127 | AX3: =事前協議書!$X$81 -> 0 | AY3: =事前協議書!$Z$81 -> 0 | AZ3: =事前協議書!$X$82 -> 0 | BA3: =事前協議書!$H$82 -> 0 | BB3: =事前協議書!$AC$81 -> 0 | BC3: =事前協議書!$Z$60 -> 1
A4: =A2=A3 -> #REF! | B4: =B2=B3 -> #REF! | C4: =C2=C3 -> #REF! | D4: =D2=D3 -> #REF! | E4: =E2=E3 -> #REF! | F4: =F2=F3 -> #REF! | G4: =G2=G3 -> #REF! | H4: =H2=H3 -> #REF! | ... AY4: =AY2=AY3 -> #REF! | BB4: =BB2=BB3 -> #REF! | BC4: =BC2=BC3 -> #REF!
C5: 事前協議書のフォーマットのセルが、変更の為ＯＫ | D5: 事前協議書のフォーマットのセルが、変更の為ＯＫ | E5: 事前協議書のフォーマットのセルが、変更の為ＯＫ | F5: 事前協議書のフォーマットのセルが、変更の為ＯＫ | K5: 元データ空白 | L5: 元データ空白 | M5: 元データ空白 | AT5: 新フォーマットに項目なし | AZ5: 追加 | BA5: 追加

Sheet xls15_備考
A1: 建物ID | B1: 協議段階 | C1: 協議メモ | D1: 完了欄 | E1: 受付欄
A2: =事前協議書!#REF! -> #REF! | B2: =事前協議書!#REF! -> #REF! | C2: =事前協議書!#REF! -> #REF! | E2: =事前協議書!#REF! -> #REF!
