Workbook
Name Val_NotSelected: List!$J$12
Name 図形: INDIRECT(環境評価書!$AB$17)
Name 非表示: 仕様基準時の表示!$B$16:$T$27
Name 表示: 仕様基準時の表示!$B$4:$T$15

Sheet 事前協議書
B2: 千代田区建築物環境計画書制度 事前協議書（住宅） | W2: 建物ID | X2: 2017999 | Y2: 千代田区番号 | Z2: Demo999
B3: 提出日 | I3: 協議の段階 | M3: 事前協議時 | R3: 工事種別 | S3: 新築 | U3: ※ | V3: ↓xls11_建物概要 | W3: =I3 -> 協議の段階 | X3: {=_xlfn.IFS(M3="事前協議時",2,M3="計画時",3,M3="変更時",4,M3="工事完了時",5)} -> 2 | Y3: →（事前協議時:2,計画時:3,変更時:4,工事完了時:5） | AC3: =R3 -> 工事種別 | AD3: 新築 | AE3: =IF($S$3=AD3,1,0) -> 1 | AF3: 増築 | AG3: =IF($S$3=AF3,1,0) -> 0 | AH3: 改築 | AI3: =IF($S$3=AH3,1,0) -> 0
B4: 建築主 | C4: 氏名 | U4: ※
C5: 住所 | U5: ※
B6: 設計者 | C6: 氏名 | U6: ※
C7: 住所 | U7: ※
B8: 建築計画 | C8: 建築物の名称 | U8: ※
C9: 建築物の所在地 | U9: ※
C10: 用途 | E10: □ | F10: 分譲集合住宅 | I10: □ | J10: 賃貸集合住宅 | M10: □ | N10: 戸建住宅（複合ビルの一戸を含む） | U10: ※ | V10: =C10 -> 用途 | W10: =F10 -> 分譲集合住宅 | X10: =IF(E10="■",1,0) -> 0 | Y10: =J10 -> 賃貸集合住宅 | Z10: =IF(I10="■",1,0) -> 0 | AA10: =N10 -> 戸建住宅（複合ビルの一戸を含む） | AD10: =IF(M10="■",1,0) -> 0
E11: □ | F11: 事務所 | I11: □ | J11: ホテル | M11: □ | N11: 病院 | Q11: □ | R11: 物販店舗 | U11: ※
E12: □ | F12: 学校 | I12: □ | J12: 飲食店 | M12: □ | N12: 集会所 | Q12: □ | R12: その他 | U12: ※
C13: =IF($X$3=5,"工事期間","工事期間（予定）") -> 工事期間（予定） | E13: 工事着手 | M13: 竣工日 | U13: ※
C14: 複合建築物 | E14: □ | F14: 非住宅と住宅の複合建築物 | U14: ※ | V14: =C14 -> 複合建築物 | W14: =F14 -> 非住宅と住宅の複合建築物 | Y14: =IF(E14="■",1,0) -> 0
C15: 建築面積／敷地面積 | E15: 建築面積 | J15: ㎡ | L15: 敷地面積 | P15: ㎡ | U15: ※
C16: 延べ面積 | E16: 延べ面積 | I16: ㎡ | J16: 計算書対象床面積の合計（共用部計算省略時は専有部面積を入力） | T16: ㎡ | U16: ※
C17: 階数 | E17: 地上 | G17: 階 | J17: 地下 | L17: 階 | O17: 総戸数 | Q17: 戸 | U17: ※
C18: 構造 | E18: □ | F18: ＲＣ造 | I18: □ | J18: ＳＲＣ造 | M18: □ | N18: S造 | U18: ※ | V18: ↓xls12_設備概要 | W18: =F18 -> ＲＣ造 | X18: =IF(E18="■",1,0) -> 0 | Y18: =J18 -> ＳＲＣ造 | Z18: =IF(I18="■",1,0) -> 0 | AA18: =N18 -> S造 | AB18: =IF(M18="■",1,0) -> 0
E19: □ | F19: 木造 | I19: □ | J19: その他 （ | T19: ） | U19: ※ | W19: =F19 -> 木造 | X19: =IF(E19="■",1,0) -> 0 | Y19: =J19 -> その他 （ | Z19: =IF(I19="■",1,0) -> 0
C20: 用途別床面積の合計 （計算対象部分） | E20: 用途： | K20: ㎡ | L20: 用途： | R20: ㎡ | U20: ※
E21: 用途： | K21: ㎡ | L21: 用途： | R21: ㎡ | U21: ※
C22: 都市開発諸制度等の適用 | E22: □ | F22: 再開発等促進区を定める地区計画 | L22: □ | M22: 高度利用地区 | Q22: □ | R22: 特定街区 | U22: ※ | V22: =C22 -> 都市開発諸制度等の適用 | W22: =F22 -> 再開発等促進区を定める地区計画 | Z22: =IF(E22="■",1,0) -> 0 | AA22: =M22 -> 高度利用地区 | AB22: =IF(L22="■",1,0) -> 0 | AC22: =R22 -> 特定街区 | AD22: =IF(Q22="■",1,0) -> 0
E23: □ | F23: 総合設計 | I23: □ | J23: その他 （ | T23: ） | U23: ※ | W23: =F23 -> 総合設計 | X23: =IF(E23="■",1,0) -> 0 | Y23: =J23 -> その他 （ | Z23: =IF(I23="■",1,0) -> 0
B24: 専用部 設備概要 | C24: 空調システム | E24: □ | F24: なし（入居者設置） | I24: □ | J24: 個別エアコン | M24: □ | N24: セントラルエアコン | Q24: □ | R24: 床暖房 | U24: ※ | V24: =C24 -> 空調システム | W24: =F24 -> なし（入居者設置） | Y24: =IF(E24="■",1,0) -> 0 | Z24: =J24 -> 個別エアコン | AB24: =IF(I24="■",1,0) -> 0 | AC24: =N24 -> セントラルエアコン | AE24: =IF(M24="■",1,0) -> 0 | AF24: =R24 -> 床暖房 | AH24: =IF(Q24="■",1,0) -> 0
C25: 給湯システム | E25: □ | F25: ガス給湯機 | I25: □ | J25: ヒートポンプ給湯機 | M25: □ | N25: 電気温水器 | U25: ※ | V25: =C25 -> 給湯システム | W25: =F25 -> ガス給湯機 | Y25: =IF(E25="■",1,0) -> 0 | Z25: =J25 -> ヒートポンプ給湯機 | AB25: =IF(I25="■",1,0) -> 0 | AC25: =N25 -> 電気温水器 | AE25: =IF(M25="■",1,0) -> 0
E26: □ | F26: その他 （ | T26: ） | U26: ※ | W26: =F26 -> その他 （ | Y26: =IF(E26="■",1,0) -> 0
B27: 共用部 設備概要 | C27: 空調システム | E27: □ | F27: マルチエアコン | I27: □ | J27: 個別エアコン | M27: □ | N27: なし | U27: ※ | V27: =C27 -> 空調システム | W27: =F27 -> マルチエアコン | Y27: =IF(E27="■",1,0) -> 0 | Z27: =J27 -> 個別エアコン | AB27: =IF(I27="■",1,0) -> 0 | AC27: =N27 -> なし | AE27: =IF(M27="■",1,0) -> 0
C28: 昇降機 | E28: □ | F28: エレベーター | I28: □ | J28: エスカレーター | U28: ※ | W28: =F28 -> エレベーター | Y28: =IF(E28="■",1,0) -> 0 | Z28: =J28 -> エスカレーター | AB28: =IF(I28="■",1,0) -> 0
C29: 受電方式 | E29: □ | F29: 特別高圧 | I29: □ | J29: 高圧 | N29: □ | O29: 低圧 | U29: ※ | Y29: =IF(E29="■",1,0) -> 0
B30: 採用する 省CO2対策 | C30: 省CO2建築手法 | E30: □ | F30: Low-E複層ガラス | I30: □ | J30: 複層ガラス | M30: □ | N30: 二重サッシ | P30: □ | Q30: 庇・ルーバー・バルコニー | U30: ※ | V30: ↓xls13_環境対策 | W30: =F30 -> Low-E複層ガラス | Y30: =IF(E30="■",1,0) -> 0 | Z30: =J30 -> 複層ガラス | AB30: =IF(I30="■",1,0) -> 0 | AC30: =N30 -> 二重サッシ | AE30: =IF(M30="■",1,0) -> 0 | AF30: =Q30 -> 庇・ルーバー・バルコニー | AH30: =IF(P30="■",1,0) -> 0
E31: □ | F31: 屋根高断熱化 （屋根断熱材： | R31: を | T31: mm） | U31: ※ | V31: =C30 -> 省CO2建築手法 | W31: =F31 -> 屋根高断熱化 （屋根断熱材： | Y31: =IF(E31="■",1,0) -> 0 | Z31: CD | AA31: =IF($K31="",0,_xlfn.XLOOKUP($K31,List!$F$1:$F$40,List!$E$1:$E$40,List!$E$42)) -> 0
E32: □ | F32: 壁高断熱化 （壁断熱材： | R32: を | T32: mm） | U32: ※ | W32: =F32 -> 壁高断熱化 （壁断熱材： | Y32: =IF(E32="■",1,0) -> 0 | Z32: CD | AA32: =IF($K32="",0,_xlfn.XLOOKUP($K32,List!$F$1:$F$40,List!$E$1:$E$40,List!$E$42)) -> 0
C33: 省CO2設備手法 ※高効率分散熱源、全熱交換器においては過半以上で採用とする。その他の項目は一部採用とする。 | D33: 空調 | E33: □ | F33: 高効率エアコン：区分（い）等 | M33: □ | N33: 小能力時高効率型コンプレッサー | U33: ※ | V33: =D33 -> 空調 | W33: =F33 -> 高効率エアコン：区分（い）等 | Y33: =IF(E33="■",1,0) -> 0 | Z33: =N33 -> 小能力時高効率型コンプレッサー | AB33: =IF(M33="■",1,0) -> 0
D34: 換気 | E34: □ | F34: 駐車場換気量制御 | I34: □ | J34: 機械室換気量制御 | M34: □ | N34: 全熱交換器 | Q34: □ | R34: 自然換気(自動制御) | U34: ※ | V34: =D34 -> 換気 | W34: =F34 -> 駐車場換気量制御 | Y34: =IF(E34="■",1,0) -> 0 | Z34: =J34 -> 機械室換気量制御 | AB34: =IF(I34="■",1,0) -> 0 | AC34: =N34 -> 全熱交換器 | AE34: =IF(M34="■",1,0) -> 0 | AF34: =R34 -> 自然換気(自動制御) | AH34: =IF(Q34="■",1,0) -> 0
E35: □ | F35: 高効率電動機 | I35: □ | J35: 径の太いダクト | M35: □ | N35: DCモータ | U35: ※ | W35: =F35 -> 高効率電動機 | Y35: =IF(E35="■",1,0) -> 0 | Z35: =J35 -> 径の太いダクト | AB35: =IF(I35="■",1,0) -> 0 | AC35: =N35 -> DCモータ | AE35: =IF(M35="■",1,0) -> 0
D36: 照明 | E36: □ | F36: 人感センサ | H36: （範囲： | T36: ） | U36: ※ | V36: =D36 -> 照明 | W36: =F36 -> 人感センサ | Y36: =IF(E36="■",1,0) -> 0
E37: □ | F37: 明るさセンサ | H37: （範囲： | T37: ） | U37: ※ | W37: =F37 -> 明るさセンサ | Y37: =IF(E37="■",1,0) -> 0
E38: □ | F38: スケジュール制御 | I38: （範囲： | T38: ） | U38: ※ | W38: =F38 -> スケジュール制御 | Y38: =IF(E38="■",1,0) -> 0
D39: 給湯 | E39: □ | F39: 高効率給湯機 | I39: □ | J39: 手元止水 | M39: □ | N39: 小流量シャワー | Q39: □ | R39: 水優先吐水 | U39: ※ | V39: =D39 -> 給湯 | W39: =F39 -> 高効率給湯機 | Y39: =IF(E39="■",1,0) -> 0 | Z39: =J39 -> 手元止水 | AB39: =IF(I39="■",1,0) -> 0 | AC39: =N39 -> 小流量シャワー | AE39: =IF(M39="■",1,0) -> 0 | AF39: =R39 -> 水優先吐水 | AH39: =IF(Q39="■",1,0) -> 0
E40: □ | F40: 高断熱浴槽 | I40: □ | J40: ヘッダー方式(13A以下) | U40: ※ | W40: =F40 -> 高断熱浴槽 | Y40: =IF(E40="■",1,0) -> 0 | Z40: =J40 -> ヘッダー方式(13A以下) | AB40: =IF(I40="■",1,0) -> 0
D41: 昇降機 | E41: □ | F41: VVVF（回生なし） | I41: □ | J41: VVVF（回生あり） | U41: ※ | V41: =D41 -> 昇降機 | W41: =F41 -> VVVF（回生なし） | Y41: =IF(E41="■",1,0) -> 0 | Z41: =J41 -> VVVF（回生あり） | AB41: =IF(I41="■",1,0) -> 0
D42: その他 | E42: □ | F42: HEMS | U42: ※ | W42: =F42 -> HEMS | Y42: =IF(E42="■",1,0) -> 0
E43: □ | F43: その他 （ | T43: ） | U43: ※ | W43: =F43 -> その他 （ | Y43: =IF(E43="■",1,0) -> 0
C44: 創エネ手法 | E44: □ | F44: 太陽光発電 | J44: kW | M44: □ | N44: コージェネ | U44: ※ | V44: =C44 -> 創エネ手法 | W44: =F44 -> 太陽光発電 | Y44: =IF(E44="■",1,0) -> 0 | Z44: =N44 -> コージェネ | AB44: =IF(M44="■",1,0) -> 0
E45: □ | F45: その他 （ | T45: ） | U45: ※ | W45: =F45 -> その他 （ | Y45: =IF(E45="■",1,0) -> 0
C46: 未利用・再生可能エネルギーの活用 | E46: □ | F46: 下水熱 | I46: □ | J46: 河川水熱 | M46: □ | N46: 地下鉄排熱 | Q46: □ | R46: 地中熱 | U46: ※ | V46: =C46 -> 未利用・再生可能エネルギーの活用 | W46: =F46 -> 下水熱 | Y46: =IF(E46="■",1,0) -> 0 | Z46: =J46 -> 河川水熱 | AB46: =IF(I46="■",1,0) -> 0 | AC46: =N46 -> 地下鉄排熱 | AE46: =IF(M46="■",1,0) -> 0 | AF46: =R46 -> 地中熱 | AH46: =IF(Q46="■",1,0) -> 0
E47: □ | F47: 太陽熱利用 | I47: □ | J47: その他 （ | T47: ） | U47: ※ | W47: =F47 -> 太陽熱利用 | Y47: =IF(E47="■",1,0) -> 0 | Z47: =J47 -> その他 （ | AB47: =IF(I47="■",1,0) -> 0
C48: 面的エネルギーの活用 | E48: □ | F48: 地域冷暖房(DHC)の受入 | J48: （区域名称： | T48: ） | U48: ※ | V48: =C48 -> 面的エネルギーの活用 | W48: =F48 -> 地域冷暖房(DHC)の受入 | Y48: =IF(E48="■",1,0) -> 0
E49: □ | F49: AEMS（エリアエネルギーマネジメントシステム） | U49: ※ | W49: =F49 -> AEMS（エリアエネルギーマネジメントシステム） | Y49: =IF(E49="■",1,0) -> 0
E50: □ | F50: その他 （ | T50: ） | U50: ※ | W50: =F50 -> その他 （ | Y50: =IF(E50="■",1,0) -> 0
B51: 浸水対策 | C51: ハザードマップ | E51: □ | F51: ハザードエリア内 | I51: □ | J51: ハザードエリア外 | U51: ※ | V51: =C51 -> ハザードマップ | W51: =F51 -> ハザードエリア内 | Y51: =IF(E51="■",1,0) -> 0 | Z51: =J51 -> ハザードエリア外 | AB51: =IF(I51="■",1,0) -> 0
C52: 浸水深（エリア内時記入） | E52: □ | F52: 0.5m未満 | I52: □ | J52: 3m未満 | M52: □ | N52: 5m未満 | Q52: □ | R52: 5m以上 | U52: ※ | V52: =C52 -> 浸水深（エリア内時記入） | W52: =F52 -> 0.5m未満 | Y52: =IF(E52="■",1,0) -> 0 | Z52: =J52 -> 3m未満 | AB52: =IF(I52="■",1,0) -> 0 | AC52: =N52 -> 5m未満 | AE52: =IF(M52="■",1,0) -> 0 | AF52: =R52 -> 5m以上 | AH52: =IF(Q52="■",1,0) -> 0
C53: 実施する浸水対策 | E53: □ | F53: 浸水リスクの低い場所への電気設備の設置 | M53: □ | N53: 出入口等における止水板の設置 | U53: ※ | V53: =C53 -> 実施する浸水対策 | W53: =F53 -> 浸水リスクの低い場所への電気設備の設置 | Z53: =IF(E53="■",1,0) -> 0 | AA53: =N53 -> 出入口等における止水板の設置 | AD53: =IF(M53="■",1,0) -> 0
E54: □ | F54: ソフト面の対策 | I54: （ | T54: ） | U54: ※ | W54: =F54 -> ソフト面の対策 | Y54: =IF(E54="■",1,0) -> 0
E55: □ | F55: その他 （ | T55: ） | U55: ※ | W55: =F55 -> その他 （ | Y55: =IF(E55="■",1,0) -> 0
B56: 被覆対策 | C56: 緑の量、質の確保 生態系への配慮 | E56: □ | F56: 建築物上の緑化、壁面の緑化 | U56: ※ | V56: =C56 -> 緑の量、質の確保 生態系への配慮 | W56: =F56 -> 建築物上の緑化、壁面の緑化 | Z56: =IF(E56="■",1,0) -> 0
E57: □ | F57: 千代田区緑化推進要綱の基準を満足 | M57: ※対象：敷地面積250㎡以上 | U57: ※ | W57: =F57 -> 千代田区緑化推進要綱の基準を満足 | Z57: =IF(E57="■",1,0) -> 0
E58: □ | F58: 地表面または屋上に保水性の高い被覆材を採用 | N58: □ | O58: 屋上に高反射率塗料を塗布 | U58: ※ | W58: =F58 -> 地表面または屋上に保水性の高い被覆材を採用 | Z58: =IF(E58="■",1,0) -> 0 | AA58: =O58 -> 屋上に高反射率塗料を塗布 | AC58: =IF(N58="■",1,0) -> 0
B59: 水循環 | E59: □ | F59: 雨水または中水を利用する設備を設置 | U59: ※ | V59: =B59 -> 水循環 | W59: =F59 -> 雨水または中水を利用する設備を設置 | Z59: =IF(E59="■",1,0) -> 0
E60: □ | F60: 雨水を浸透させる施設を設置（雨水浸透ます、透水性舗装、地表面の緑化、玉石敷き 等） | U60: ※ | W60: =F60 -> 雨水を浸透させる施設を設置（雨水浸透ます、透水性舗装、地表面の緑化、玉石敷き 等） | Z60: =IF(E60="■",1,0) -> 0
B61: 千代田区低炭素助成制度 | E61: □ | F61: 申請を検討している（もしくは申請予定） | M61: ※申請対象：延べ面積5,000㎡以下 | U61: ※ | V61: =B61 -> 千代田区低炭素助成制度 | W61: =F61 -> 申請を検討している（もしくは申請予定） | Z61: =IF(E61="■",1,0) -> 0
B62: 備考欄(公開用)
B63: 備考欄（非公開用）
B64: 建物性能 | C64: 省エネルギー基準 | E64: 設計一次エネルギー消費量（その他を除く） | M64: GJ/年 | O64: =IF($R$16>0,1000*K64/$R$16,0) -> 0 | Q64: MJ/㎡・年 | V64: ↓xls14_建物性能
E65: 基準一次エネルギー消費量（その他を除く） | M65: GJ/年 | O65: =IF($R$16>0,1000*K65/$R$16,0) -> 0 | Q65: MJ/㎡・年 | Y65: =$K$64*$Y$78 -> 0 | Z65: [t-CO2・年]←計算対象延床面積の基準値CO2排出量
E66: 一次エネルギー消費削減量 | K66: =ROUNDDOWN(K65-K64,1) -> 0 | M66: GJ/年 | O66: =IF($R$16>0,1000*K66/$R$16,0) -> 0 | Q66: MJ/㎡・年 | Y66: =$K$65*$Y$78 -> 0 | Z66: [t-CO2・年]←計算対象延床面積の設計値CO2排出量
E67: BEI（設計値/基準値） | K67: =ROUNDUP(IF(AND(($K$64)>0,($K$65)>0),$K$64/$K$65,0),2) -> 0 | P67: 共用部計算： | Y67: =ROUNDDOWN($K$66*$Y$78,0) -> 0 | Z67: [t-CO2・年]←計算対象延床面積の削減量CO2排出量(小数点第1位切り捨て)
E68: UA値：（住戸全体平均） | M68: W/（㎡・K) | O68: ηAC
I69: BEI代表住戸 | L69: BEI最大住戸 | O69: 共用部
E70: UA値：（対象床面積）
E71: 一次エネルギー消費量[GJ/年・戸] | I71: 設計値 | J71: 基準値 | K71: BEI | L71: 設計値 | M71: 基準値 | N71: BEI | O71: 一次エネルギー消費量[GJ/年] | R71: 設計値 | S71: 基準値 | T71: BEI
E72: 暖房 | K72: =IFERROR(ROUNDUP(IF($J72<>0,$I72/$J72,""),2),"") | N72: =IFERROR(ROUNDUP(IF($M72<>0,$L72/$M72,""),2),"") | O72: 空調 | T72: =IFERROR(ROUNDUP(IF($S72<>0,$R72/$S72,""),2),"")
E73: 冷房 | K73: =IFERROR(ROUNDUP(IF($J73<>0,$I73/$J73,""),2),"") | N73: =IFERROR(ROUNDUP(IF($M73<>0,$L73/$M73,""),2),"") | O73: 換気 | T73: =IFERROR(ROUNDUP(IF($S73<>0,$R73/$S73,""),2),"")
E74: 換気 | K74: =IFERROR(ROUNDUP(IF($J74<>0,$I74/$J74,""),2),"") | N74: =IFERROR(ROUNDUP(IF($M74<>0,$L74/$M74,""),2),"") | O74: 照明 | T74: =IFERROR(ROUNDUP(IF($S74<>0,$R74/$S74,""),2),"")
E75: 給湯 | K75: =IFERROR(ROUNDUP(IF($J75<>0,$I75/$J75,""),2),"") | N75: =IFERROR(ROUNDUP(IF($M75<>0,$L75/$M75,""),2),"") | O75: 給湯 | T75: =IFERROR(ROUNDUP(IF($S75<>0,$R75/$S75,""),2),"")
E76: 照明 | K76: =IFERROR(ROUNDUP(IF($J76<>0,$I76/$J76,""),2),"") | N76: =IFERROR(ROUNDUP(IF($M76<>0,$L76/$M76,""),2),"") | O76: 昇降機 | T76: =IFERROR(ROUNDUP(IF($S76<>0,$R76/$S76,""),2),"")
E77: 太陽光発電等による削減量 | O77: 効率化設備創エネルギー量
E78: その他 | K78: =IFERROR(ROUNDUP(IF($J78<>0,$I78/$J78,""),2),"") | N78: =IFERROR(ROUNDUP(IF($M78<>0,$L78/$M78,""),2),"") | O78: その他 | T78: =IFERROR(ROUNDUP(IF($S78<>0,$R78/$S78,""),2),"") | V78: 創エネ量 | W78: =$I$75*$Y$78 -> 0 | Y78: 0.049 | Z78: [t-CO2/GJ]
E79: 合計（その他を除く） | I79: =ROUNDUP(SUM(I72:I$77),1) -> 0 | J79: =ROUNDUP(SUM(J72:J$77),1) -> 0 | K79: =IFERROR(ROUNDUP(IF($J79<>0,$I79/$J79,""),2),"") | L79: =ROUNDUP(SUM(L72:L$77),1) -> 0 | M79: =ROUNDUP(SUM(M72:M$77),1) -> 0 | N79: =IFERROR(ROUNDUP(IF($M79<>0,$L79/$M79,""),2),"") | O79: 合計（その他を除く） | R79: =ROUNDUP(SUM(R72:R$77),1) -> 0 | S79: =ROUNDUP(SUM(S72:S$77),1) -> 0 | T79: =IFERROR(ROUNDUP(IF($S79<>0,$R79/$S79,""),2),"") | Y79: ※49.0[kg-CO2/GJ]（千代田区版単位一次エネルギー消費量当りのCO2排出量）
C80: 電力需要 | E80: 最大電力 | K80: kW
C81: 省エネルギー性能 | E81: 削減率（努力目標20%) | K81: =IF(AND(($K$64)>0,($K$65)>0),(1-$K$67)*100,0) -> 0 | M81: % | N81: =IF($K$81>=List!$K$2,List!$J$2,List!$J$3) -> 努力目標未達
E82: CO2排出削減量 | K82: =$X$82 -> 0 | M82: t-CO2・年 | X82: =Y67 -> 0 | Y82: [t-CO2・年]←計算対象延べ面積の削減量CO2排出量(小数点第一位切り捨て)
C83: 削減率20％未満の場合は理由 | E83: □ | F83: 建設コスト | I83: □ | J83: 運用上の制約 | N83: □ | O83: 仕様基準(一次エネ) | V83: =C83 -> 削減率20％未満の場合は理由 | W83: =F83 -> 建設コスト | X83: =IF(E83="■",1,0) -> 0 | Y83: =J83 -> 運用上の制約 | Z83: =IF(I83="■",1,0) -> 0 | AA83: =O83 -> 仕様基準(一次エネ) | AC83: =IF(N83="■",1,0) -> 0
E84: □ | F84: その他 （ | T84: ） | W84: =F84 -> その他 （ | X84: =IF(E84="■",1,0) -> 0
B86: 協議メモ | Q86: 受付欄
B94: 事前協議開始時、事前協議時に、本書を区に提出・協議を実施し、受付印を受けてください。 | T94: =List!$AD$1 -> 2026.10
B95: 事前協議開始時に、”※”で示した項目は、わかる範囲で全て記入してください。
B96: 計画の進捗や協議の経過に応じて、内容を更新してください。
B97: 建物性能の項目は、省エネルギー計算が完了次第記入して提出してください。
B98: 住宅のCO2削減目標は、経過措置として20％としております。
A102: ↓非表示

Sheet 環境評価書
V2: =$AB2 -> □ | W2: 計画時 | AA2: =W2 -> 計画時 | AB2: =IF(事前協議書!$M$3=環境評価書!$AA2,"■","□") -> □ | AC2: =IF(AB2="■",2,IF(AB3="■",3,IF(AB4="■",4,0))) -> 0
B3: =IF(事前協議書!$Y$14=1,$AD$4,$AD$3) -> 千代田区建築物環境計画書制度 環境評価書（住宅） | V3: =$AB3 -> □ | W3: 変更時 | AA3: =W3 -> 変更時 | AB3: =IF(事前協議書!$M$3=環境評価書!$AA3,"■","□") -> □ | AD3: 千代田区建築物環境計画書制度 環境評価書（住宅）
V4: =$AB4 -> □ | W4: 工事完了時 | AA4: =W4 -> 工事完了時 | AB4: =IF(事前協議書!$M$3=環境評価書!$AA4,"■","□") -> □ | AD4: 千代田区建築物環境計画書制度 環境評価書（複合：住宅）
B6: 建築物の名称 | F6: =事前協議書!$E$8 -> 0 | AN6: 削減率のランク表示
B8: 建物用途 | E8: =$AB$8 | O8: 敷地面積 | R8: =事前協議書!M15 -> 0 | T8: ㎡ | AA8: =B8 -> 建物用途 | AB8: =_xlfn.TEXTJOIN(", ",TRUE,IF(事前協議書!$X$10=1,事前協議書!$W$10,""),IF(事前協議書!$Z$10=1,事前協議書!$Y$10,""),IF(事前協議書!$AD$10=1,事前協議書!$AA$10,"")) | AN8: 0
B9: 建築物の所在地 | E9: =事前協議書!$E$9 -> 0 | O9: 建築面積 | R9: =事前協議書!$G$15 -> 0 | T9: ㎡
O10: 延べ面積 | R10: =事前協議書!$G$16 -> 0 | T10: ㎡ ： 計算対象 | W10: =事前協議書!$R$16 -> 0 | Y10: ㎡
O11: 階数 | R11: 地上 | S11: =事前協議書!$F$17 -> 0 | T11: 階 | U11: 地下 | V11: =事前協議書!$K$17 -> 0 | W11: 階
B12: 竣工日 | E12: =事前協議書!$O$13 -> 0 | O12: 構造、総戸数 | R12: =$AB$12 | X12: =事前協議書!$P$17 -> 0 | Y12: 戸 | AA12: =O12 -> 構造、総戸数 | AB12: =_xlfn.TEXTJOIN(", ",TRUE,IF(事前協議書!$X$18=1,事前協議書!$W$18,""),IF(事前協議書!$Z$18=1,事前協議書!$Y$18,""),IF(事前協議書!$AB$18=1,事前協議書!$AA$18,""),IF(事前協議書!$X$19=1,事前協議書!$W$19,""),IF(事前協議書!$Z$19=1,事前協議書!$Y$19&事前協議書!L19&事前協議書!T19,""))
B14: 省CO2効果 | AN14: 20 | AO14: #VALUE!
M15: 省エネルギー基準 | AA15: 削減率ランク | AB15: =IF($C$18>=List!$M$3,INDEX(List!$N$2:$N$4,3),IF($C$18>=List!$M$2,INDEX(List!$N$2:$N$4,2),INDEX(List!$N$2:$N$4,1))) -> Grade_mark_Non
C16: 削減率 | G16: =IF(C18>=35,$AO$24,IF(C18<=19,"",$AO$14)) | N16: 設計一次エネルギー消費量 | T16: =事前協議書!$K$64 -> 0 | V16: [GJ/年]
N17: 基準一次エネルギー消費量 | T17: =事前協議書!$K$65 -> 0 | V17: [GJ/年] | AA17: 仕様基準 | AB17: =IF(事前協議書!AC83=1,"表示","非表示") -> 非表示
C18: =事前協議書!$K$81 -> 0 | E18: ％ | N18: BEI（設計値/基準値） | T18: =事前協議書!$K$67 -> 0
N19: 共用部の計算 | T19: =事前協議書!Q67 -> 0
B20: =IF($AB$15=INDEX(List!$N$2:$N$4,1),"",VLOOKUP($AB$15,List!$N$2:$O$4,2,FALSE)) | M20: CO2排出量
N21: 設計値 | T21: =ROUNDDOWN(事前協議書!$Y$65,1) -> 0 | V21: [t-CO2・年]
N22: 基準値 | T22: =ROUNDDOWN(事前協議書!$Y$66,1) -> 0 | V22: [t-CO2・年] | AA22: 千代田区独自係数 | AC22: =事前協議書!$Y$78 -> 0.049 | AD22: [t-CO2/GJ]
N23: 削減量 | T23: =事前協議書!$Y$67 -> 0 | V23: [t-CO2・年] | AA23: =N23 -> 削減量 | AC23: ="削減量"&T23&"t-CO2" -> 削減量0t-CO2
N24: 削減率 | T24: =事前協議書!$K$81 -> 0 | V24: ％ | AN24: 35 | AO24: #VALUE!
B26: 外皮性能 | AA26: ="CO2排出量[t-CO2・年]" -> CO2排出量[t-CO2・年] | AD26: 共用部計算実施 | AE26: =IF(事前協議書!$Q$67="対象",1,0) -> 0 | AF26: BEI代表住戸 | AI26: 共用部CO2排出量
B27: UA値（住戸全体平均） | H27: =事前協議書!K68 -> 0 | J27: ［W/㎡・K］ | AB27: BEI代表住戸 | AD27: 共用部 | AF27: グラフ内訳用 | AI27: 基準値 | AJ27: =事前協議書!$S$79*$AE$26 -> 0 | AK27: =$AJ27*$AC$22 -> 0 | AL27: [t-CO2・年]
B28: ηAC | H28: =事前協議書!P68 -> 0 | AB28: 基準値 | AC28: 設計値 | AD28: 基準値 | AE28: 設計値 | AF28: 基準値 | AG28: 設計値 | AI28: 設計値 | AJ28: =事前協議書!$R$79*$AE$26 -> 0 | AK28: =$AJ28*$AC$22 -> 0 | AL28: [t-CO2・年]
AA29: 空調 | AB29: =事前協議書!$J$72+事前協議書!$J$73 -> 0 | AC29: =事前協議書!$I$72+事前協議書!$I$73 -> 0 | AD29: =事前協議書!$S$72*$AC$22*$AE$26 -> 0 | AE29: =事前協議書!$R$72*$AC$22*$AE$26 -> 0 | AF29: =IF($AJ$34<0,0,$AJ$34*(AB29/$AB$35))+AD29 -> #DIV/0! | AG29: =IF($AK$34<0,0,$AK$34*(AC29/$AC$35))+AE29 -> #DIV/0! | AI29: 創エネ | AJ29: =事前協議書!$R$77 -> 0 | AK29: =$AJ29*$AC$22 -> 0 | AL29: [t-CO2・年]
AA30: 換気 | AB30: =事前協議書!$J$74 -> 0 | AC30: =事前協議書!$I$74 -> 0 | AD30: =事前協議書!$S$73*$AC$22*$AE$26 -> 0 | AE30: =事前協議書!$R$73*$AC$22*$AE$26 -> 0 | AF30: =IF($AJ$34<0,0,$AJ$34*(AB30/$AB$35))+AD30 -> #DIV/0! | AG30: =IF($AK$34<0,0,$AK$34*(AC30/$AC$35))+AE30 -> #DIV/0!
AA31: 照明 | AB31: =事前協議書!$J$76 -> 0 | AC31: =事前協議書!$I$76 -> 0 | AD31: =事前協議書!$S$74*$AC$22*$AE$26 -> 0 | AE31: =事前協議書!$R$74*$AC$22*$AE$26 -> 0 | AF31: =IF($AJ$34<0,0,$AJ$34*(AB31/$AB$35))+AD31 -> #DIV/0! | AG31: =IF($AK$34<0,0,$AK$34*(AC31/$AC$35))+AE31 -> #DIV/0! | AJ31: 基準値 | AK31: 設計値
AA32: 給湯 | AB32: =事前協議書!$J$75 -> 0 | AC32: =事前協議書!$I$75 -> 0 | AD32: =事前協議書!$S$75*$AC$22*$AE$26 -> 0 | AE32: =事前協議書!$R$75*$AC$22*$AE$26 -> 0 | AF32: =IF($AJ$34<0,0,$AJ$34*(AB32/$AB$35))+AD32 -> #DIV/0! | AG32: =IF($AK$34<0,0,$AK$34*(AC32/$AC$35))+AE32 -> #DIV/0! | AI32: 棒グラフ全体 | AJ32: =$T$22 -> 0 | AK32: =$T$21 -> 0
AA33: 昇降機 | AD33: =事前協議書!$S$76*$AC$22*$AE$26 -> 0 | AE33: =事前協議書!$R$76*$AC$22*$AE$26 -> 0 | AF33: =IF($AJ$34<0,0,$AJ$34*(AB33/$AB$35))+AD33 -> #DIV/0! | AG33: =IF($AK$34<0,0,$AK$34*(AC33/$AC$35))+AE33 -> #DIV/0! | AI33: 棒グラフ共用部 | AJ33: =$AK$27 -> 0 | AK33: =$AK$28 -> 0
AA34: 創エネ | AC34: =事前協議書!$I$77 -> 0 | AD34: =事前協議書!$S$77*$AC$22*$AE$26 -> 0 | AE34: =事前協議書!$R$77*$AC$22*$AE$26 -> 0 | AF34: =IF($AJ$34<0,0,$AJ$34*(AB34/$AB$35))+AD34 -> #DIV/0! | AG34: =IF($AK$34<0,0,$AK$34*(AC34/$AC$35))+AE34 -> #DIV/0! | AI34: 棒グラフ専有部 | AJ34: =AJ32-AJ33 -> 0 | AK34: =AK32-AK33 -> 0
AA35: 合計 | AB35: =SUM(AB29:AB34) -> 0 | AC35: =SUM(AC29:AC34) -> 0 | AD35: =SUM(AD29:AD34) -> 0 | AE35: =SUM(AE29:AE34) -> 0 | AF35: =$T$22 -> 0 | AG35: =$T$21 -> 0
B40: 省CO2設備手法 | N40: 備考欄
B41: =$AC41 -> □ | C41: 高効率エアコン | H41: =$AE41 -> □ | I41: 高効率給湯機 | N41: =IF(事前協議書!E62="","",事前協議書!E62) | AA41: =C41 -> 高効率エアコン | AC41: =事前協議書!$E$33 -> □ | AD41: =I41 -> 高効率給湯機 | AE41: =事前協議書!$E$39 -> □
B42: =$AC42 -> □ | C42: 小能力時高効率型コンプレッサー | H42: =$AE42 -> □ | I42: 手元止水 | AA42: =C42 -> 小能力時高効率型コンプレッサー | AC42: =事前協議書!$M$33 -> □ | AD42: =I42 -> 手元止水 | AE42: =事前協議書!$I$39 -> □
B43: =$AC43 -> □ | C43: 駐車場換気量制御 | H43: =$AE43 -> □ | I43: 小流量シャワー | AA43: =C43 -> 駐車場換気量制御 | AC43: =事前協議書!$E$34 -> □ | AD43: =I43 -> 小流量シャワー | AE43: =事前協議書!$M$39 -> □
B44: =$AC44 -> □ | C44: 機械室換気量制御 | H44: =$AE44 -> □ | I44: 水優先吐水 | AA44: =C44 -> 機械室換気量制御 | AC44: =事前協議書!$I$34 -> □ | AD44: =I44 -> 水優先吐水 | AE44: =事前協議書!$Q$39 -> □
B45: =$AC45 -> □ | C45: 全熱交換器 | H45: =$AE45 -> □ | I45: 高断熱浴槽 | AA45: =C45 -> 全熱交換器 | AC45: =事前協議書!$M$34 -> □ | AD45: =I45 -> 高断熱浴槽 | AE45: =事前協議書!$E$40 -> □
B46: =$AC46 -> □ | C46: 自然換気（自動制御） | H46: =$AE46 -> □ | I46: ヘッダ方式(13A以下) | N46: 省CO2建築手法 | AA46: =C46 -> 自然換気（自動制御） | AC46: =事前協議書!$Q$34 -> □ | AD46: =I46 -> ヘッダ方式(13A以下) | AE46: =事前協議書!$I$40 -> □
B47: =$AC47 -> □ | C47: 高効率電動機 | H47: =$AE47 -> □ | I47: HEMS | N47: =$AI47 -> □ | O47: Low-E複層ガラス | AA47: =C47 -> 高効率電動機 | AC47: =事前協議書!$E$35 -> □ | AD47: =I47 -> HEMS | AE47: =事前協議書!$E$42 -> □ | AF47: =O47 -> Low-E複層ガラス | AI47: =事前協議書!$E$30 -> □
B48: =$AC48 -> □ | C48: 径の太いダクト | H48: =$AE48 -> □ | I48: その他 | N48: =$AI48 -> □ | O48: 複層ガラス | AA48: =C48 -> 径の太いダクト | AC48: =事前協議書!$I$35 -> □ | AD48: =I48 -> その他 | AE48: =事前協議書!$E$43 -> □ | AF48: =O48 -> 複層ガラス | AI48: =事前協議書!$I$30 -> □
B49: =$AC49 -> □ | C49: DCモータ | I49: =$AD$49 | N49: =$AI49 -> □ | O49: 二重サッシ | AA49: =C49 -> DCモータ | AC49: =事前協議書!$M$35 -> □ | AD49: =IF(事前協議書!$H$43="","","（"&事前協議書!$H$43&"）") | AE49: =$AE$48 -> □ | AF49: =O49 -> 二重サッシ | AI49: =事前協議書!$M$30 -> □
N50: =$AI50 -> □ | O50: 庇・ルーバー・バルコニー | AF50: =O50 -> 庇・ルーバー・バルコニー | AI50: =事前協議書!$P$30 -> □
B51: =$AC51 -> □ | C51: 人感センサ | N51: =$AI51 -> □ | O51: 屋根高断熱化 | U51: =$AK51 -> □ | V51: 壁高断熱化 | AA51: =C51 -> 人感センサ | AC51: =事前協議書!$E$36 -> □ | AF51: =O51 -> 屋根高断熱化 | AI51: =事前協議書!$E$31 -> □ | AJ51: =V51 -> 壁高断熱化 | AK51: =事前協議書!$E$32 -> □
B52: =$AC52 -> □ | C52: 明るさセンサ | N52: 面的エネルギー活用 | AA52: =C52 -> 明るさセンサ | AC52: =事前協議書!$E$37 -> □
B53: =$AC53 -> □ | C53: スケジュール制御 | N53: =$AI53 -> □ | O53: 地域冷暖房(DHC)の受入 | AA53: =C53 -> スケジュール制御 | AC53: =事前協議書!$E$38 -> □ | AF53: =O53 -> 地域冷暖房(DHC)の受入 | AI53: =事前協議書!$E$48 -> □
B54: =$AC54 -> □ | C54: VVVF(回生なし) | N54: =$AI54 -> □ | O54: AEMS | AA54: =C54 -> VVVF(回生なし) | AC54: =事前協議書!$E$41 -> □ | AF54: =O54 -> AEMS | AI54: =事前協議書!$E$49 -> □
B55: =$AC55 -> □ | C55: VVVF(回生あり) | N55: =$AI55 -> □ | O55: その他 | AA55: =C55 -> VVVF(回生あり) | AC55: =事前協議書!$I$41 -> □ | AF55: =O55 -> その他 | AI55: =事前協議書!$E$50 -> □
O56: =AF56 | AF56: =IF(事前協議書!$H$50="","","（"&事前協議書!$H$50&"）") | AI56: =$AI$55 -> □
B57: 創エネ手法 | N57: 浸水対策
B58: =$AC58 -> □ | C58: コージェネ | N58: =$AI58 -> □ | O58: ハザードエリア内 | U58: =$AK58 -> □ | V58: ソフト面の対策 | AA58: =C58 -> コージェネ | AC58: =事前協議書!$M$44 -> □ | AF58: =O58 -> ハザードエリア内 | AI58: =事前協議書!$E$51 -> □ | AJ58: =V58 -> ソフト面の対策 | AK58: =事前協議書!$E$54 -> □
B59: =$AC59 -> □ | C59: 太陽光発電 | N59: =$AI59 -> □ | O59: 浸水リスクの低い場所への電気設備の設置 | AA59: =C59 -> 太陽光発電 | AC59: =事前協議書!$E$44 -> □ | AF59: =O59 -> 浸水リスクの低い場所への電気設備の設置 | AI59: =事前協議書!$E$53 -> □
B60: =$AC60 -> □ | C60: その他 | N60: =$AI60 -> □ | O60: 出入口等における止水板の設置 | AA60: =C60 -> その他 | AC60: =事前協議書!$E$45 -> □ | AF60: =O60 -> 出入口等における止水板の設置 | AI60: =事前協議書!$M$53 -> □
C61: =$AA$61 | N61: =$AI61 -> □ | O61: その他 | Q61: =AJ61 | AA61: =IF(事前協議書!$H$45="","","（"&事前協議書!$H$45&"）") | AC61: =$AC$60 -> □ | AF61: =O61 -> その他 | AI61: =事前協議書!$E$55 -> □ | AJ61: =IF(事前協議書!$H$55="","","（"&事前協議書!$H$55&"）") | AK61: =AI61 -> □
B62: 未利用・再生可能エネルギー活用 | N62: 環境負荷低減の取り組み
B63: =$AC63 -> □ | C63: 下水熱 | H63: =$AE63 -> □ | I63: 太陽熱利用 | N63: =$AI63 -> □ | O63: 緑の量・質の確保、生態系への配慮 | AA63: =C63 -> 下水熱 | AC63: =事前協議書!$E$46 -> □ | AD63: =I63 -> 太陽熱利用 | AE63: =事前協議書!$E$47 -> □ | AF63: =O63 -> 緑の量・質の確保、生態系への配慮 | AI63: =事前協議書!$E$56 -> □ | AJ63: →建築物上の緑化、壁面の緑化
B64: =$AC64 -> □ | C64: 河川水熱 | H64: =$AE64 -> □ | I64: その他 | N64: =$AI64 -> □ | O64: 被覆対策 | AA64: =C64 -> 河川水熱 | AC64: =事前協議書!$I$46 -> □ | AD64: =I64 -> その他 | AE64: =事前協議書!$I$47 -> □ | AF64: =O64 -> 被覆対策 | AI64: =IF(OR(事前協議書!$E$56="■",事前協議書!$E$57="■",事前協議書!$E$58="■",事前協議書!$N$58="■"),"■","□") -> □ | AJ64: →被覆対策の項目すべてが対象
B65: =$AC65 -> □ | C65: 地下鉄排熱 | I65: =$AD$65 | N65: =$AI65 -> □ | O65: 水循環 | AA65: =C65 -> 地下鉄排熱 | AC65: =事前協議書!$M$46 -> □ | AD65: =IF(事前協議書!$L$47="","","（"&事前協議書!$L$47&"）") | AE65: =$AE$64 -> □ | AF65: =O65 -> 水循環 | AI65: =IF(OR(事前協議書!$E$59="■",事前協議書!$E$60="■"),"■","□") -> □ | AJ65: →水循環の項目すべてが対象
B66: =$AC66 -> □ | C66: 地中熱 | AA66: =C66 -> 地中熱 | AC66: =事前協議書!$Q$46 -> □
A69: ↓非表示

Sheet 外観写真等貼付
B1: 建築物の外観パースや写真などを下記の白枠内に貼り付けてください。

Sheet 仕様基準時の表示

Sheet 第2号様式 
B2: 第２号様式（第13条、第15条、第16条関係）
K4: 建築物環境計画書
L5: =IF(環境評価書!AC2=2,"(計画)",IF(環境評価書!AC2=3,"(変更)",IF(環境評価書!AC2=4,"(完了)","(計画、変更、完了)"))) -> (計画、変更、完了)
S6: =YEAR(事前協議書!E3) -> 1900 | U6: 年 | V6: =MONTH(事前協議書!E3) -> 1 | W6: 月 | X6: =DAY(事前協議書!E3) -> 0 | Y6: 日
B7: 千代田区長 殿
H8: 届出者（建築主） | L8: 住所 | N8: =事前協議書!E5 -> 0
L10: 氏名 | N10: =事前協議書!E4 -> 0
M14: =IF(L5="(計画)","➀",1) -> 1 | N14: 第13条第１項の規定による届出をします。
B15: 千代田区地球温暖化対策条例施行規則 | M15: =IF(L5="(変更)","➁",2) -> 2 | N15: 第15条第１項の規定による変更の届出をします。
M16: =IF(L5="(完了)","➂",3) -> 3 | N16: 第16条第１項の規定による完了の届出をします。
B18: 特定建築物の名称 | J18: =事前協議書!E8 -> 0
B19: 特定建築物の所在地 | J19: =事前協議書!E9 -> 0
B20: 設計者 | C20: 氏名 | J20: =事前協議書!E6 -> 0
C21: (法人にあっては名称、代表者の氏名)
C22: 住所 | J22: =事前協議書!E7 -> 0
C23: (法人にあっては主たる事務所の所在地)
H24: 名称／住所
B25: 連絡先 | H25: 部署・担当者氏名
H26: 電話番号
B27: 工事期間（予定） | H27: 工事着手 | J27: =YEAR(事前協議書!H13) -> 1900 | L27: 年 | M27: =MONTH(事前協議書!H13) -> 1 | N27: 月 | O27: =DAY(事前協議書!H13) -> 0 | P27: 日 | Q27: 工事完了 | S27: =YEAR(事前協議書!O13) -> 1900 | U27: 年 | V27: =MONTH(事前協議書!O13) -> 1 | W27: 月 | X27: =DAY(事前協議書!O13) -> 0 | Y27: 日
B28: ・建築物概要 | H28: 別添「事前協議書」「環境評価書」のとおり | Q28: 建築主の氏名の公表 | V28: 可 ・ 不可
B29: ・環境への配慮のための措置 | Q29: 設計者の氏名の公表 | V29: 可 ・ 不可
C31: 以下は完了（変更）届出時にご記入ください。
B33: 受付番号 | H33: 受付日： | L33: 年 | N33: 月 | P33: 日 | Q33: ／受付番号： | AA33: ←計画時の届出の副本の受付日・番号（変更の届出をしている場合は変更時のもの）
B34: 変更の有無 | H34: 変更前
C36: 有 ・ 無
H37: 変更後
B40: 添付図書 | H40: 別添のとおり
B41: 工事完了日 | N41: 年 | P41: 月 | R41: 日
B42: 添付図書 | H42: 別添のとおり
B43: 特定建築物の管理者 | H43: 名称／住所
H44: 部署・担当者氏名
H45: 電話番号
B47: 職員記入欄 | H47: 受付欄 | Q47: 確認欄

Sheet 第2号様式（事業者連名用別紙）
G3: 建築物環境計画書
H4: =IF(環境評価書!AC2=2,"(計画)",IF(環境評価書!AC2=3,"(変更)",IF(環境評価書!AC2=4,"(完了)","(計画、変更、完了)"))) -> (計画、変更、完了)
L5: =YEAR(事前協議書!$E$3) -> 1900 | N5: 年 | O5: =MONTH(事前協議書!$E$3) -> 1 | P5: 月 | Q5: =DAY(事前協議書!$E$3) -> 0 | R5: 日
B6: 千代田区長 殿
F7: 届出者（建築主） | I7: 住所
I9: 氏名
F13: 届出者（建築主） | I13: 住所
I15: 氏名
F19: 届出者（建築主） | I19: 住所
I21: 氏名
F25: 届出者（建築主） | I25: 住所
I27: 氏名
B33: 職員記入欄 | G33: 受付欄 | M33: 確認欄

Sheet List
B1: 協議の段階 | C1: 建物用途_非住宅 | D1: 建物用途_住宅 | E1: 断熱材CD | F1: 断熱材（ver.40より モデル建物法マニュアル） | G1: 断熱材_備考 | J1: 判定文言 | K1: 目標削減率 | M1: 判定削減率 | N1: ランク表示用 | O1: 文言 | R1: ランクマーク | V1: ※目標削減率、判定削減率の変更対応 | Y1: 【様式】 2017/11/09 不要 | AA1: バージョン | AB1: v20 | AC1: 改定年月： | AD1: 2026.10 | AE1: ←[事前協議書]シート記載
A2: 2 | B2: [プルダウンから選択] | C2: 事務所 | D2: 分譲集合住宅 | E2: 0201 | F2: =標準入力法_断熱材!C3&"["&標準入力法_断熱材!D3&"]" -> グラスウール断熱材 10K相当[0.05] | J2: 努力目標達成 | K2: 20 | M2: 20 | N2: Grade_mark_Non | O2: なし | V2: 下記のセル値を変更する | Y2: 計画書ステータス | AA2: セキュリティメモ | AC2: 対応：2022/07/28～ | AD2: 修正内容は、下部に記載
A3: 2 | B3: 事前協議時 | C3: ホテル | D3: 賃貸集合住宅 | E3: 0202 | F3: =標準入力法_断熱材!C4&"["&標準入力法_断熱材!D4&"]" -> グラスウール断熱材 16K相当[0.045] | J3: 努力目標未達 | M3: 35 | N3: Grade_mark_Good | O3: 優良環境建築 | V3: 目標削減率 | W3: =ADDRESS(ROW(List!$K$2),COLUMN(List!$K$2)) -> $K$2 | Y3: [プルダウンから選択] | AA3: シート名 | AB3: シートの保護 | AC3: シートの非表示 | AD3: 非表示エリア | AE3: 備考
A4: 3 | B4: 計画時 | C4: 病院 | D4: 戸建住宅 | E4: 0203 | F4: =標準入力法_断熱材!C5&"["&標準入力法_断熱材!D5&"]" -> グラスウール断熱材 20K相当[0.042] | K4: ↑2016/9/9 | N4: Grade_mark_Best | O4: 特別優良環境建築 | V4: 判定削減率(優良) | W4: =ADDRESS(ROW(List!$M$2),COLUMN(List!$M$2)) -> $M$2 | Y4: （計 画） | AA4: 事前協議書 | AB4: 要※① | AD4: V列から右、96行から下
A5: 4 | B5: 変更時 | C5: 物販店舗 | D5: その他 | E5: 0204 | F5: =標準入力法_断熱材!C6&"["&標準入力法_断熱材!D6&"]" -> グラスウール断熱材 24K相当[0.038] | K5: 35⇒20修正 | V5: 判定削減率(特優) | W5: =ADDRESS(ROW(List!$M$3),COLUMN(List!$M$3)) -> $M$3 | Y5: （変 更） | AA5: 環境評価書 | AB5: 要※①② | AD5: AA列から右、69行から下
A6: 5 | B6: 工事完了時 | C6: 学校 | E6: 0205 | F6: =標準入力法_断熱材!C7&"["&標準入力法_断熱材!D7&"]" -> グラスウール断熱材 32K相当[0.036] | J6: 有無 | K6: 千代田区佐﨑氏 | Y6: （完 了） | AA6: 第2号様式 | AB6: 要※①②② | AE6: 〇オブジェクト使用廃止→②不要（2017/09/13）
C7: 飲食店 | E7: 0206 | F7: =標準入力法_断熱材!C8&"["&標準入力法_断熱材!D8&"]" -> 高性能グラスウール断熱材 16K相当[0.038] | I7: 0 | J7: [プルダウンから選択] | V7: 過去採用マーク | AE7: →プルダウン版却下により②保護復活(2017/11/09)
C8: 集会所 | E8: 0207 | F8: =標準入力法_断熱材!C9&"["&標準入力法_断熱材!D9&"]" -> 高性能グラスウール断熱材 24K相当[0.036] | I8: 1 | J8: あり | Y8: 届出内容 | AA8: 第4号様式 | AB8: 要※①②② | AE8: 〇オブジェクト使用廃止→②不要（2017/09/13）
B9: 地域地区 | C9: 住宅 | E9: 0208 | F9: =標準入力法_断熱材!C10&"["&標準入力法_断熱材!D10&"]" -> 高性能グラスウール断熱材 32K相当[0.035] | I9: 0 | J9: なし | Y9: [プルダウンから選択] | AE9: →プルダウン版却下により②保護復活(2017/11/09)
A10: 0 | B10: [プルダウンから選択] | C10: 駐輪場 | E10: 0209 | F10: =標準入力法_断熱材!C11&"["&標準入力法_断熱材!D11&"]" -> 高性能グラスウール断熱材 40K相当[0.034] | Y10: １ 第13条第１項の規定による届出をします。 | AA10: List | AC10: 要
A11: 1 | B11: 和泉橋地域 | C11: その他 | E11: 0210 | F11: =標準入力法_断熱材!C12&"["&標準入力法_断熱材!D12&"]" -> 高性能グラスウール断熱材 48K相当[0.033] | J11: 選択 | Y11: ２ 第15条第１項の規定による変更の届出をします。 | AA11: xls01_建物概要 | AC11: 要
A12: 2 | B12: 万世橋地域 | E12: 0211 | F12: =標準入力法_断熱材!C13&"["&標準入力法_断熱材!D13&"]" -> 吹込み用グラスウール 13K相当[0.052] | J12: □ | Y12: ３ 第16条第１項の規定による完了の届出をします。 | AA12: xls02_設備概要 | AC12: 要
A13: 3 | B13: 富士見地域 | C13: 工事種別 | E13: 0212 | F13: =標準入力法_断熱材!C14&"["&標準入力法_断熱材!D14&"]" -> 吹込み用グラスウール 18K相当[0.052] | J13: ■ | AA13: xls03_環境対策 | AC13: 要
A14: 4 | B14: 番町地域 | C14: 新築 | E14: 0213 | F14: =標準入力法_断熱材!C15&"["&標準入力法_断熱材!D15&"]" -> 吹込み用グラスウール 30K相当[0.04] | Y14: 公表 | AA14: xls04_建物性能 | AC14: 要
A15: 5 | B15: 大丸有・永田町地域 | C15: 増築 | E15: 0214 | F15: =標準入力法_断熱材!C16&"["&標準入力法_断熱材!D16&"]" -> 吹込み用グラスウール 35K相当[0.04] | Y15: [プルダウンから選択] | AA15: xls05_備考 | AC15: 要
A16: 6 | B16: 神保町地域 | C16: 改築 | E16: 0215 | F16: =標準入力法_断熱材!C17&"["&標準入力法_断熱材!D17&"]" -> 吹付けロックウール[0.064] | Y16: 可
A17: 7 | B17: 神田公園地域 | E17: 0216 | F17: =標準入力法_断熱材!C18&"["&標準入力法_断熱材!D18&"]" -> ロックウール断熱材（マット）[0.038] | Y17: 不可 | AA17: ブックの保護 | AB17: 要
E18: 0217 | F18: =標準入力法_断熱材!C19&"["&標準入力法_断熱材!D19&"]" -> ロックウール断熱材（フェルト）[0.038]
B19: 地域冷暖房(DHC)区域 | C19: ↓【非住宅】で使用 | E19: 0218 | F19: =標準入力法_断熱材!C20&"["&標準入力法_断熱材!D20&"]" -> ロックウール断熱材（ボード）[0.036] | Y19: 有無 | AB19: ※ユーザに許可する操作のチェック
A20: 0 | B20: [プルダウンから選択] | E20: 0219 | F20: =標準入力法_断熱材!C21&"["&標準入力法_断熱材!D21&"]" -> 吹込み用ロックウール 25K相当[0.047] | Y20: [プルダウンから選択] | AA20: ① | AB20: ロックされていないセルの選択範囲
A21: 101 | B21: DHC区域内 | E21: 0220 | F21: =標準入力法_断熱材!C22&"["&標準入力法_断熱材!D22&"]" -> 吹込み用ロックウール 65K相当[0.039] | Y21: 有 | AA21: ② | AB21: オブジェクトの編集
A22: 102 | B22: DHC区域に近接 | E22: 0221 | F22: =標準入力法_断熱材!C23&"["&標準入力法_断熱材!D23&"]" -> 吹込み用セルローズファイバー 25K[0.04] | Y22: 無
A23: 103 | B23: DHC区域外 | E23: 0222 | F23: =標準入力法_断熱材!C24&"["&標準入力法_断熱材!D24&"]" -> 吹込み用セルローズファイバー 45K[0.04] | AB23: 過去2v分を記載
E24: 0223 | F24: =標準入力法_断熱材!C25&"["&標準入力法_断熱材!D25&"]" -> 吹込み用セルローズファイバー 55K[0.04] | AB24: v35
B25: 地域冷暖房(DHC)の導入 | E25: 0224 | F25: =標準入力法_断熱材!C26&"["&標準入力法_断熱材!D26&"]" -> 押出法ポリスチレンフォーム 保温板 1種[0.04] | AB25: 対応：2021/03/09 | AC25: 「事前協議開始時」を削除
A26: 0 | B26: [プルダウンから選択] | E26: 0225 | F26: =標準入力法_断熱材!C27&"["&標準入力法_断熱材!D27&"]" -> 押出法ポリスチレンフォーム 保温板 2種[0.034] | AC26: [第4号様式]シート削除
A27: 201 | B27: DHCを導入 | E27: 0226 | F27: =標準入力法_断熱材!C28&"["&標準入力法_断熱材!D28&"]" -> 押出法ポリスチレンフォーム 保温板 3種[0.028] | AB27: 対応：2021/03/23 | AC27: [事前協議書]シート
A28: 202 | B28: DHCを将来導入 | E28: 0227 | F28: =標準入力法_断熱材!C29&"["&標準入力法_断熱材!D29&"]" -> A種ポリエチレンフォーム 保温板 1種2号[0.042] | AC28: 照明：スケジュール制御の(範囲： )を追加
A29: 203 | B29: 既存DHCから受入 | E29: 0228 | F29: =標準入力法_断熱材!C30&"["&標準入力法_断熱材!D30&"]" -> A種ポリエチレンフォーム 保温板 2種[0.038] | AC29: [環境評価書]シート
A30: 204 | B30: サブプラントを設置 | E30: 0229 | F30: =標準入力法_断熱材!C31&"["&標準入力法_断熱材!D31&"]" -> ビーズ法ポリスチレンフォーム 保温板 特号[0.034] | V30: ランクマークメモ | AC30: □スケジュール制御の下に(範囲： )を行追加
A31: 209 | B31: DHCを導入しない | E31: 0230 | F31: =標準入力法_断熱材!C32&"["&標準入力法_断熱材!D32&"]" -> ビーズ法ポリスチレンフォーム 保温板 1号[0.036] | V31: 名前の管理 | W31: 表示させる範囲 | AB31: 対応：2021/03/24 | AC31: [第2号様式]シート
E32: 0231 | F32: =標準入力法_断熱材!C33&"["&標準入力法_断熱材!D33&"]" -> ビーズ法ポリスチレンフォーム 保温板 2号[0.037] | V32: Grade_mark_Non | W32: List!$P$2:$R$12 | AC32: 「氏名が自署の場合は押印省略可（法人の場合を除く。）」追加
B33: 特定電気事業等(特電) | E33: 0232 | F33: =標準入力法_断熱材!C34&"["&標準入力法_断熱材!D34&"]" -> ビーズ法ポリスチレンフォーム 保温板 3号[0.04] | V33: Grade_mark_Good | W33: List!$P$13:$R$23
A34: 0 | B34: [プルダウンから選択] | E34: 0233 | F34: =標準入力法_断熱材!C35&"["&標準入力法_断熱材!D35&"]" -> ビーズ法ポリスチレンフォーム 保温板 4号[0.043] | V34: Grade_mark_Best | W34: List!$P$24:$R$34 | AB34: v36
A35: 301 | B35: 特電等を導入 | E35: 0234 | F35: =標準入力法_断熱材!C36&"["&標準入力法_断熱材!D36&"]" -> 硬質ウレタンフォーム 保温板 2種1号[0.023] | AC35: 断熱材修正：安達さん対応済み。コードが過去と異なるのは気にしなくてよい(安達さん確認済)
A36: 302 | B36: 特電等を将来導入 | E36: 0235 | F36: =標準入力法_断熱材!C37&"["&標準入力法_断熱材!D37&"]" -> 硬質ウレタンフォーム 保温板 2種2号[0.024] | R36: 2016/09/27マーク設定 | AB36: 対応：2022/07/28～ | AC36: 面的エネルギーの活用：「AEMS」だけの項目から、複数項目へ変更
A37: 303 | B37: 特電等を受入 | E37: 0236 | F37: =標準入力法_断熱材!C38&"["&標準入力法_断熱材!D38&"]" -> 吹付け硬質ウレタンフォームA種1[0.034] | AC37: 省CO2対策の概要：削除
A38: 309 | B38: 導入しない | E38: 0237 | F38: =標準入力法_断熱材!C39&"["&標準入力法_断熱材!D39&"]" -> 吹付け硬質ウレタンフォームA種3[0.04] | AC38: 非常時の対応：削除
E39: 0238 | F39: =標準入力法_断熱材!C40&"["&標準入力法_断熱材!D40&"]" -> フェノールフォーム 保温板 1種1号[0.022] | AC39: 浸水対策：追加
B40: 面的エネルギー対策 | E40: 0239 | F40: =標準入力法_断熱材!C41&"["&標準入力法_断熱材!D41&"]" -> フェノールフォーム 保温板 1種2号[0.022] | AC40: 被覆対策：「敷地と建物の被覆対策」と「緑の量・質の確保、生態系への配慮」の項目をまとめた
A41: 0 | B41: [プルダウンから選択] | AC41: 他
A42: 401 | B42: 熱融通 | E42: 9000 | F42: （自由記入CD）
A43: 402 | B43: 電力融通
A44: 403 | B44: 熱・電力融通 | E44: ※住宅においては非住宅のような断熱材リストは存在しないため、標準のリストを参考値として入力し、近い値を選択。
A45: 409 | B45: 導入なし | E45: 標準かモデルかの判別は特にしない。
A46: 490 | B46: その他 | C46: ↑【非住宅】で使用
B48: AEMS
A49: 0 | B49: [プルダウンから選択]
A50: 1 | B50: AEMSを導入
A51: 9 | B51: 導入なし | C51: 2019/03/04mod 2→9(prg対応済)
B54: 共用部計算
A55: 0 | B55: [プルダウンから選択]
A56: 1 | B56: 対象
A57: 2 | B57: 対象外

Sheet 標準入力法_断熱材
G1: R4.4時点マニュアル
A2: 分類 | B2: 建材番号 | C2: 建材名称 | D2: 熱伝導率 [W/mK] | E2: 容積比熱 [J/LK] | F2: 比熱 [J/gK] | G2: 密度 [g/L]
A3: 繊維系断熱材 | B3: 121 | C3: グラスウール断熱材 10K相当 | D3: 0.05 | E3: 8 | F3: 0.84 | G3: 10
B4: 122 | C4: グラスウール断熱材 16K相当 | D4: 0.045 | E4: 13 | F4: 0.84 | G4: 16
B5: 123 | C5: グラスウール断熱材 20K相当 | D5: 0.042 | E5: 17 | F5: 0.84 | G5: 20
B6: 124 | C6: グラスウール断熱材 24K相当 | D6: 0.038 | E6: 20 | F6: 0.84 | G6: 24
B7: 125 | C7: グラスウール断熱材 32K相当 | D7: 0.036 | E7: 27 | F7: 0.84 | G7: 32
B8: 126 | C8: 高性能グラスウール断熱材 16K相当 | D8: 0.038 | E8: 13 | F8: 0.84 | G8: 16
B9: 127 | C9: 高性能グラスウール断熱材 24K相当 | D9: 0.036 | E9: 20 | F9: 0.84 | G9: 24
B10: 128 | C10: 高性能グラスウール断熱材 32K相当 | D10: 0.035 | E10: 27 | F10: 0.84 | G10: 32
B11: 129 | C11: 高性能グラスウール断熱材 40K相当 | D11: 0.034 | E11: 34 | F11: 0.84 | G11: 40
B12: 130 | C12: 高性能グラスウール断熱材 48K相当 | D12: 0.033 | E12: 40 | F12: 0.84 | G12: 48
B13: 131 | C13: 吹込み用グラスウール 13K相当 | D13: 0.052 | E13: 11 | F13: 0.84 | G13: 13
B14: 132 | C14: 吹込み用グラスウール 18K相当 | D14: 0.052 | E14: 15 | F14: 0.84 | G14: 18
B15: 133 | C15: 吹込み用グラスウール 30K相当 | D15: 0.04 | E15: 25 | F15: 0.84 | G15: 30
... B25: 163 | C25: 吹込み用セルローズファイバー 55K | D25: 0.04 | E25: 103 | F25: 1.88 | G25: 55
A26: 発泡系断熱材 | B26: 181 | C26: 押出法ポリスチレンフォーム 保温板 1種 | D26: 0.04 | E26: 32.5 | F26: 1.3 | G26: 25
B27: 182 | C27: 押出法ポリスチレンフォーム 保温板 2種 | D27: 0.034 | E27: 36.4 | F27: 1.3 | G27: 28
B28: 183 | C28: 押出法ポリスチレンフォーム 保温板 3種 | D28: 0.028 | E28: 40.3 | F28: 1.3 | G28: 31
B29: 184 | C29: A種ポリエチレンフォーム 保温板 1種2号 | D29: 0.042 | E29: 13 | F29: 1.3 | G29: 10
B30: 185 | C30: A種ポリエチレンフォーム 保温板 2種 | D30: 0.038 | E30: 46 | F30: 2.3 | G30: 20
B31: 186 | C31: ビーズ法ポリスチレンフォーム 保温板 特号 | D31: 0.034 | E31: 35.1 | F31: 1.3 | G31: 27
B32: 187 | C32: ビーズ法ポリスチレンフォーム 保温板 1号 | D32: 0.036 | E32: 39 | F32: 1.3 | G32: 30
B33: 188 | C33: ビーズ法ポリスチレンフォーム 保温板 2号 | D33: 0.037 | E33: 32.5 | F33: 1.3 | G33: 25
B34: 189 | C34: ビーズ法ポリスチレンフォーム 保温板 3号 | D34: 0.04 | E34: 26 | F34: 1.3 | G34: 20
B35: 190 | C35: ビーズ法ポリスチレンフォーム 保温板 4号 | D35: 0.043 | E35: 19.5 | F35: 1.3 | G35: 15
B36: 201 | C36: 硬質ウレタンフォーム 保温板 2種1号 | D36: 0.023 | E36: 60 | F36: 1.7 | G36: 35
B37: 202 | C37: 硬質ウレタンフォーム 保温板 2種2号 | D37: 0.024 | E37: 43 | F37: 1.7 | G37: 25
B38: 203 | C38: 吹付け硬質ウレタンフォームA種1 | D38: 0.034 | E38: 61 | F38: 1.7 | G38: 36
... B41: 222 | C41: フェノールフォーム 保温板 1種2号 | D41: 0.022 | E41: 43 | F41: 1.7 | G41: 25

Sheet モデル建物法_断熱材
B1: ※住宅様式では使用せず | E1: R4.4時点マニュアル
B2: 大分類 | C2: 小分類 | E2: 熱伝導率 W/(m•K)
A3: 1 | B3: グラスウール断熱材通常品 | C3: ＊ | D3: グラスウール断熱材１０K | E3: 0.05
A4: 2 | D4: グラスウール断熱材１２K | E4: 0.045
A5: 3 | D5: グラスウール断熱材１６K | E5: 0.045
A6: 4 | D6: グラスウール断熱材２０K | E6: 0.042
A7: 5 | D7: グラスウール断熱材２４K | E7: 0.038
A8: 6 | D8: グラスウール断熱材３２K | E8: 0.036
A9: 7 | D9: グラスウール断熱材４０K | E9: 0.036
A10: 8 | D10: グラスウール断熱材４８K | E10: 0.035
A11: 9 | D11: グラスウール断熱材６４K | E11: 0.035
A12: 10 | D12: グラスウール断熱材８０K | E12: 0.033
A13: 11 | D13: グラスウール断熱材９６K | E13: 0.033
A14: 12 | B14: グラスウール断熱材高性能品 | C14: ＊ | D14: 高性能グラスウール断熱材１０K | E14: 0.047
A15: 13 | D15: 高性能グラスウール断熱材１２K | E15: 0.043
A16: 14 | D16: 高性能グラスウール断熱材１４Ｋ | E16: 0.038
A17: 15 | D17: 高性能グラスウール断熱材１６K | E17: 0.038
A18: 16 | D18: 高性能グラスウール断熱材２０K | E18: 0.038
A19: 17 | D19: 高性能グラスウール断熱材２４K | E19: 0.036
A20: 18 | D20: 高性能グラスウール断熱材２８K | E20: 0.036
A21: 19 | D21: 高性能グラスウール断熱材３２K | E21: 0.035
A22: 20 | D22: 高性能グラスウール断熱材３６K | E22: 0.034
A23: 21 | D23: 高性能グラスウール断熱材３８K | E23: 0.034
A24: 22 | D24: 高性能グラスウール断熱材４０K | E24: 0.034
A25: 23 | D25: 高性能グラスウール断熱材４８K | E25: 0.033
A26: 24 | B26: 吹込み用グラスウール断熱材 | C26: ＊ | D26: 天井用 | E26: 0.052
A27: 25 | D27: 屋根•床•壁用 | E27: 0.04
A28: 26 | B28: ロックウール断熱材 | C28: ＊ | D28: ロックウール断熱材•マット 24Ｋ以上 | E28: 0.039
A29: 27 | D29: ロックウール断熱材•マット 30K以上 | E29: 0.038
A30: 28 | D30: ロックウール断熱材•マット 40K以上 | E30: 0.037
A31: 29 | D31: ロックウール断熱材•フェルト | E31: 0.038
A32: 30 | D32: ロックウール断熱材•ボード | E32: 0.036
A33: 31 | B33: 吹込み用ロックウール断熱材 | C33: ＊ | D33: 天井用 | E33: 0.047
A34: 32 | D34: 屋根•床•壁用 | E34: 0.038
A35: 33 | B35: 吹付けロックウール | D35: 吹付けロックウール | E35: 0.064
A36: 34 | B36: 吹込み用セルローズファイバー断熱材 | C36: ＊ | D36: 天井用•屋根•床•壁用 | E36: 0.04
A37: 35 | B37: 押出法ポリスチレンフォーム断熱材 | C37: ＊ | D37: 押出法ポリスチレンフォーム１種 | E37: 0.04
A38: 36 | D38: 押出法ポリスチレンフォーム２種 | E38: 0.034
A39: 37 | D39: 押出法ポリスチレンフォーム３種 | E39: 0.028
A40: 38 | B40: ポリエチレンフォーム断熱材 | C40: ＊ | D40: A 種ポリエチレンフォーム保温板 1 種 | E40: 0.042
A41: 39 | D41: A 種ポリエチレンフォーム保温板 2 種 | E41: 0.038
A42: 40 | D42: A 種ポリエチレンフォーム保温板 3 種 | E42: 0.034
A43: 41 | B43: ビーズ法ポリスチレンフォーム断熱材 | D43: ビーズ法ポリスチレンフォーム 1 号 | E43: 0.034
A44: 42 | D44: ビーズ法ポリスチレンフォーム 2 号 | E44: 0.036
A45: 43 | D45: ビーズ法ポリスチレンフォーム 3 号 | E45: 0.038
A46: 44 | C46: ＊ | D46: ビーズ法ポリスチレンフォーム 4 号 | E46: 0.041
A47: 45 | B47: 硬質ウレタンフォーム断熱材 | C47: ＊ | D47: 硬質ウレタンフォーム 1 種 | E47: 0.029
A48: 46 | D48: 硬質ウレタンフォーム 2 種 1 号 | E48: 0.023
A49: 47 | D49: 硬質ウレタンフォーム 2 種 2 号 | E49: 0.024
A50: 48 | D50: 硬質ウレタンフォーム 2 種 3 号 | E50: 0.027
A51: 49 | D51: 硬質ウレタンフォーム 2 種 4 号 | E51: 0.028
A52: 50 | B52: 吹付け硬質ウレタンフォーム | D52: 吹付け硬質ウレタンフォーム A 種１ | E52: 0.034
A53: 51 | D53: 吹付け硬質ウレタンフォーム A 種１H | E53: 0.026
A54: 52 | C54: ＊ | D54: 吹付け硬質ウレタンフォーム A 種３ | E54: 0.04
A55: 53 | B55: フェノールフォーム断熱材 | D55: フェノールフォーム１種 | E55: 0.022
A56: 54 | C56: ＊ | D56: フェノールフォーム 2 種 1 号 | E56: 0.036
A57: 55 | D57: フェノールフォーム 2 種 2 号 | E57: 0.034
A58: 56 | D58: フェノールフォーム 2 種 3 号 | E58: 0.028
A59: 57 | D59: フェノールフォーム 3 種 1 号 | E59: 0.035
A60: 58 | B60: インシュレーションファイバー断熱材 | D60: ファイバーマット | E60: 0.04
A61: 59 | C61: ＊ | D61: ファイバーボード | E61: 0.052

Sheet xls01_建物概要
A1: 建物ID | B1: 千代田区番号 | C1: 協議段階 | D1: 提出日 | E1: 建築主_氏名 | F1: 建築主_住所 | G1: 設計者_氏名 | H1: 設計者_住所 | I1: 建物_名称 | J1: 建物_所在地 | K1: 地域 | L1: 用途_分譲集合住宅 | M1: 用途_賃貸集合住宅 | N1: 用途_戸建住宅 | O1: 用途_事務所 | P1: 用途_ホテル | Q1: 用途_病院 | R1: 用途_物販店舗 | S1: 用途_学校 | T1: 用途_飲食店 | U1: 用途_集会所 | V1: 用途_その他 | W1: 予定_着手日 | X1: 予定_竣工日 | Y1: 敷地面積 | Z1: 建築面積 | AA1: 延床面積 | AB1: 延床面積_計算対象 | AC1: 階数_地上 | AD1: 階数_地下 | AE1: 総戸数 | AF1: 複合建築物 | AG1: 新築 | AH1: 増築 | AI1: 改築
A2: =事前協議書!#REF! -> #REF! | B2: =事前協議書!#REF! -> #REF! | C2: =事前協議書!#REF! -> #REF! | D2: =事前協議書!#REF! -> #REF! | E2: =事前協議書!#REF! -> #REF! | F2: =事前協議書!#REF! -> #REF! | G2: =事前協議書!#REF! -> #REF! | H2: =事前協議書!#REF! -> #REF! | ... J2: =事前協議書!#REF! -> #REF! | L2: =事前協議書!#REF! -> #REF! | M2: =事前協議書!#REF! -> #REF! | N2: =事前協議書!#REF! -> #REF! | W2: =事前協議書!#REF! -> #REF! | X2: =事前協議書!#REF! -> #REF! | Y2: =事前協議書!#REF! -> #REF! | Z2: =事前協議書!#REF! -> #REF! | AA2: =事前協議書!#REF! -> #REF! | AB2: =事前協議書!#REF! -> #REF! | AC2: =事前協議書!#REF! -> #REF! | AD2: =事前協議書!#REF! -> #REF! | ... AI2: =事前協議書!#REF! -> #REF!
A3: =事前協議書!$X$2 -> 2017999 | B3: =事前協議書!$Z$2 -> Demo999 | C3: =事前協議書!$X$3 -> 2 | D3: =事前協議書!$E$3 -> 0 | E3: =事前協議書!$E$4 -> 0 | F3: =事前協議書!$E$5 -> 0 | G3: =事前協議書!$E$6 -> 0 | H3: =事前協議書!$E$7 -> 0 | I3: =事前協議書!$E$8 -> 0 | J3: =事前協議書!$E$9 -> 0 | L3: =事前協議書!$X$10 -> 0 | M3: =事前協議書!$Z$10 -> 0 | N3: =事前協議書!$AD$10 -> 0 | W3: =事前協議書!$H$13 -> 0 | X3: =事前協議書!$O$13 -> 0 | Y3: =事前協議書!$M$15 -> 0 | Z3: =事前協議書!$G$15 -> 0 | AA3: =事前協議書!$G$16 -> 0 | AB3: =事前協議書!$R$16 -> 0 | AC3: =事前協議書!$F$17 -> 0 | AD3: =事前協議書!$K$17 -> 0 | AE3: =事前協議書!$P$17 -> 0 | AF3: =事前協議書!$Y$14 -> 0 | AG3: =事前協議書!$AE$3 -> 1 | AH3: =事前協議書!$AG$3 -> 0 | AI3: =事前協議書!$AI$3 -> 0
A4: =A2=A3 -> #REF! | B4: =B2=B3 -> #REF! | C4: =C2=C3 -> #REF! | D4: =D2=D3 -> #REF! | E4: =E2=E3 -> #REF! | F4: =F2=F3 -> #REF! | G4: =G2=G3 -> #REF! | H4: =H2=H3 -> #REF! | ... AI4: =AI2=AI3 -> #REF!

Sheet xls02_設備概要
A1: 建物ID | B1: 協議段階 | C1: 構造_RC造 | D1: 構造_SRC造 | E1: 構造_S造 | F1: 構造_木造 | G1: 構造_その他 | H1: 構造_その他_内容 | I1: 対象面積1_用途 | J1: 対象面積1_延床 | K1: 対象面積2_用途 | L1: 対象面積2_延床 | M1: 対象面積3_用途 | N1: 対象面積3_延床 | O1: 対象面積4_用途 | P1: 対象面積4_延床 | Q1: 制度適用_有無 | R1: 制度適用_内容 | S1: 周辺開発計画_有無 | T1: 周辺開発計画_内容 | U1: 専用_空調_なし | V1: 専用_空調_個別エアコン | W1: 専用_空調_セントラルエアコン | X1: 専用_給湯_ガス給湯機 | Y1: 専用_給湯_ヒートポンプ給湯機 | Z1: 専用_給湯_電気温水器 | AA1: 専用_給湯_その他 | AB1: 専用_給湯_その他_内容 | AC1: 共用_空調_マルチエアコン | AD1: 共用_空調_個別エアコン | AE1: 共用_空調_なし | AF1: 共用_昇降機_エレベーター | AG1: 共用_昇降機_エスカレーター | AH1: 共用_受電方式_特別高圧 | AI1: 共用_受電方式_高圧 | AJ1: 共用_受電方式_低圧 | AK1: 専用_空調_床暖房 | AL1: 都市開発諸制度の適用_再開発等促進区を定める地区計画 | AM1: 都市開発諸制度の適用_高度利用地区 | AN1: 都市開発諸制度の適用_特定街区 | AO1: 都市開発諸制度の適用_総合設計 | AP1: 都市開発諸制度の適用_その他 | AQ1: 都市開発諸制度の適用_その他_内容 | AR1: 工事種別_新築 | AS1: 工事種別_増築 | AT1: 工事種別_改築
A2: =事前協議書!#REF! -> #REF! | B2: =事前協議書!#REF! -> #REF! | C2: =事前協議書!#REF! -> #REF! | D2: =事前協議書!#REF! -> #REF! | E2: =事前協議書!#REF! -> #REF! | F2: =事前協議書!#REF! -> #REF! | G2: =事前協議書!#REF! -> #REF! | H2: =事前協議書!#REF! -> #REF! | ... P2: =事前協議書!#REF! -> #REF! | U2: =事前協議書!#REF! -> #REF! | V2: =事前協議書!#REF! -> #REF! | W2: =事前協議書!#REF! -> #REF! | X2: =事前協議書!#REF! -> #REF! | Y2: =事前協議書!#REF! -> #REF! | Z2: =事前協議書!#REF! -> #REF! | AA2: =事前協議書!#REF! -> #REF! | AB2: =事前協議書!#REF! -> #REF! | ... AG2: =事前協議書!#REF! -> #REF! | AK2: =事前協議書!#REF! -> #REF! | AL2: =事前協議書!#REF! -> #REF! | AM2: =事前協議書!#REF! -> #REF! | AN2: =事前協議書!#REF! -> #REF! | AO2: =事前協議書!#REF! -> #REF! | AR2: =事前協議書!#REF! -> #REF! | AS2: =事前協議書!#REF! -> #REF! | AT2: =事前協議書!#REF! -> #REF!
A3: =事前協議書!X2 -> 2017999 | B3: =事前協議書!$X$3 -> 2 | C3: =事前協議書!$X$18 -> 0 | D3: =事前協議書!$Z$18 -> 0 | E3: =事前協議書!$AB$18 -> 0 | F3: =事前協議書!$X$19 -> 0 | G3: =事前協議書!$Z$19 -> 0 | H3: =事前協議書!$L$19 -> 0 | I3: =事前協議書!$F$20 -> 0 | J3: =事前協議書!$I$20 -> 0 | K3: =事前協議書!$M$20 -> 0 | L3: =事前協議書!$P$20 -> 0 | M3: =事前協議書!$F$21 -> 0 | N3: =事前協議書!$I$21 -> 0 | O3: =事前協議書!$M$21 -> 0 | P3: =事前協議書!$P$21 -> 0 | U3: =事前協議書!$Y$24 -> 0 | V3: =事前協議書!$AB$24 -> 0 | W3: =事前協議書!$AE$24 -> 0 | X3: =事前協議書!$Y$25 -> 0 | Y3: =事前協議書!$AB$25 -> 0 | Z3: =事前協議書!$AE$25 -> 0 | AA3: =事前協議書!$Y$26 -> 0 | AB3: =事前協議書!$H$26 -> 0 | AC3: =事前協議書!$Y$27 -> 0 | AD3: =事前協議書!$AB$27 -> 0 | AE3: =事前協議書!$AE$27 -> 0 | AF3: =事前協議書!$Y$28 -> 0 | AG3: =事前協議書!$AB$28 -> 0 | AK3: =事前協議書!$AH$24 -> 0 | AL3: =事前協議書!$Z$22 -> 0 | AM3: =事前協議書!$AB$22 -> 0 | AN3: =事前協議書!$AD$22 -> 0 | AO3: =事前協議書!$X$23 -> 0 | AP3: =事前協議書!$Z$23 -> 0 | AQ3: =事前協議書!$L$23 -> 0 | AR3: =事前協議書!$AE$3 -> 1 | AS3: =事前協議書!$AG$3 -> 0 | AT3: =事前協議書!$AI$3 -> 0
A4: =A2=A3 -> #REF! | B4: =B2=B3 -> #REF! | C4: =C2=C3 -> #REF! | D4: =D2=D3 -> #REF! | E4: =E2=E3 -> #REF! | F4: =F2=F3 -> #REF! | G4: =G2=G3 -> #REF! | H4: =H2=H3 -> #REF! | ... AT4: =AT2=AT3 -> #REF!
H5: 元データ空白 | M5: 元データ空白 | N5: 元データ空白 | O5: 元データ空白 | P5: 元データ空白 | AP5: 追加 | AQ5: 追加 | AR5: 「xls11_建物概要」に項目ある為不要？ | AS5: 「xls11_建物概要」に項目ある為不要？ | AT5: 「xls11_建物概要」に項目ある為不要？

Sheet xls03_環境対策
A1: 建物ID | B1: 協議段階 | C1: 省CO2目標率 | D1: 目標率_未満時理由 | E1: 省CO2建築手法_Low-Eガラス | F1: 省CO2建築手法_複層ガラス | G1: 省CO2建築手法_二重サッシ | H1: 省CO2建築手法_庇ルーバー | I1: 省CO2建築手法_外壁高断熱化 | J1: 省CO2建築手法_屋根高断熱化 | K1: 省CO2建築手法_壁高断熱化 | L1: 省CO2建築手法_外壁高断熱化_屋根CD | M1: 省CO2建築手法_外壁高断熱化_屋根mm | N1: 省CO2建築手法_外壁高断熱化_屋根自由記述 | O1: 省CO2建築手法_外壁高断熱化_壁CD | P1: 省CO2建築手法_外壁高断熱化_壁mm | Q1: 省CO2建築手法_外壁高断熱化_壁自由記述 | R1: 省CO2設備手法_高効率エアコン | S1: 省CO2建築手法_小能力時高効率型コンプレッサー | T1: 省CO2設備手法_全熱交換器 | U1: 省CO2設備手法_自然換気 | V1: 省CO2設備手法_LED照明 | W1: 省CO2設備手法_LED照明_範囲 | X1: 省CO2設備手法_照明制御 | Y1: 省CO2設備手法_照明制御_種類 | Z1: 省CO2設備手法_高効率給湯機 | AA1: 省CO2設備手法_HEMS | AB1: 省CO2設備手法_見える化装置 | AC1: 省CO2設備手法_その他 | AD1: 省CO2設備手法_その他_内容 | AE1: 創エネ手法_コージェネ | AF1: 創エネ手法_太陽光発電 | AG1: 創エネ手法_太陽光発電_容量kW | AH1: 創エネ手法_その他 | AI1: 創エネ手法_その他_内容 | AJ1: 未利用エネ_下水熱 | AK1: 未利用エネ_河川水熱 | AL1: 未利用エネ_地下鉄排熱 | AM1: 未利用エネ_地中熱 | AN1: 未利用エネ_バイオマス | AO1: 未利用エネ_太陽熱利用 | AP1: 未利用エネ_その他 | AQ1: 未利用エネ_その他_内容 | AR1: AEMS_導入CD | AS1: 地域CO2取組_CD | AT1: 地域CO2取組_内容 | AU1: 地域CO2削減目標_CD | AV1: 地域CO2削減目標_per | AW1: 省CO2対策の概要 | AX1: 非常時対応_発電機 | AY1: 非常時対応_その他 | AZ1: 非常時対応_その他_内容 | BA1: オゾン層保護_破壊物質_不使用 | BB1: オゾン層保護_温暖化係数小_使用 | BC1: 被覆対策_被覆材 | BD1: 被覆対策_屋上壁面緑化 | BE1: 被覆対策_高反射率塗料 | BF1: 水循環_雨水利用設備 | BG1: 水循環_雨水浸透施設 | BH1: 生態系配慮_敷地内緑化 | BI1: 省CO2設備手法_駐車場換気 | BJ1: 省CO2設備手法_機械室換気 | BK1: 省CO2設備手法_全熱交換器 | BL1: 省CO2設備手法_自然換気 | BM1: 省CO2設備手法_高効率電動機 | BN1: 省CO2設備手法_径の太いダクト | BO1: 省CO2設備手法_DCモータ | BP1: 省CO2設備手法_人感センサ | BQ1: 省CO2設備手法_人感センサ_範囲 | BR1: 省CO2設備手法_明るさセンサ | BS1: 省CO2設備手法_明るさセンサ_範囲 | BT1: 省CO2設備手法_スケジュール | BU1: 省CO2設備手法_スケジュール_範囲 | BV1: 初期照度補正 | BW1: 省CO2設備手法_手元止水 | BX1: 省CO2設備手法_水優先吐水 | BY1: 省CO2設備手法_高効率電動機 | BZ1: 省CO2設備手法_小流量シャワー | CA1: 省CO2設備手法_高断熱浴槽 | CB1: 省CO2設備手法_給湯ヘッダ方式 | CC1: 省CO2設備手法_VVVF(回生なし) | CD1: 省CO2設備手法_VVVF（回生あり） | CE1: HEMS_見える化装置 | CF1: 面的_DHC受入 | CG1: 面的_DHC受入_区域名称 | CH1: 面的_AEMS | CI1: 面的_その他 | CJ1: 面的_その他_内容 | CK1: 洪水ハザード_エリア内 | CL1: 洪水ハザード_エリア外 | CM1: 浸水深_0.5m未満 | CN1: 浸水深_3m未満 | CO1: 浸水深_5m未満 | CP1: 浸水深_5m以上 | CQ1: 浸水対策_浸水リスクの低い場所への電気設備の設置 | CR1: 浸水対策_出入口等における止水板の設置 | CS1: 浸水対策_ソフト面の対策 | CT1: 浸水対策_ソフト面の対策_内容 | CU1: 浸水対策_その他 | CV1: 浸水対策_その他_内容 | CW1: 備考欄
A2: =事前協議書!#REF! -> #REF! | B2: =事前協議書!#REF! -> #REF! | E2: =事前協議書!#REF! -> #REF! | F2: =事前協議書!#REF! -> #REF! | G2: =事前協議書!#REF! -> #REF! | H2: =事前協議書!#REF! -> #REF! | I2: =事前協議書!#REF! -> #REF! | L2: =事前協議書!#REF! -> #REF! | M2: =事前協議書!#REF! -> #REF! | N2: =事前協議書!#REF! -> #REF! | O2: =事前協議書!#REF! -> #REF! | P2: =事前協議書!#REF! -> #REF! | Q2: =事前協議書!#REF! -> #REF! | R2: =事前協議書!#REF! -> #REF! | T2: =事前協議書!#REF! -> #REF! | U2: =事前協議書!#REF! -> #REF! | V2: =事前協議書!#REF! -> #REF! | W2: =事前協議書!#REF! -> #REF! | Z2: =事前協議書!#REF! -> #REF! | AA2: =事前協議書!#REF! -> #REF! | AC2: =事前協議書!#REF! -> #REF! | AD2: =事前協議書!#REF! -> #REF! | AE2: =事前協議書!#REF! -> #REF! | AF2: =事前協議書!#REF! -> #REF! | AG2: =事前協議書!#REF! -> #REF! | AH2: =事前協議書!#REF! -> #REF! | AI2: =事前協議書!#REF! -> #REF! | AJ2: =事前協議書!#REF! -> #REF! | ... AM2: =事前協議書!#REF! -> #REF! | AO2: =事前協議書!#REF! -> #REF! | AP2: =事前協議書!#REF! -> #REF! | AQ2: =事前協議書!#REF! -> #REF! | BC2: =事前協議書!#REF! -> #REF! | BE2: =事前協議書!#REF! -> #REF! | BF2: =事前協議書!#REF! -> #REF! | BG2: =事前協議書!#REF! -> #REF! | BH2: =事前協議書!#REF! -> #REF! | BI2: =事前協議書!#REF! -> #REF! | BJ2: =事前協議書!#REF! -> #REF! | BK2: =事前協議書!#REF! -> #REF! | BL2: =事前協議書!#REF! -> #REF! | ... BT2: =事前協議書!#REF! -> #REF! | BW2: =事前協議書!#REF! -> #REF! | BX2: =事前協議書!#REF! -> #REF! | BY2: =事前協議書!#REF! -> #REF! | BZ2: =事前協議書!#REF! -> #REF! | CA2: =事前協議書!#REF! -> #REF! | CB2: =事前協議書!#REF! -> #REF! | CC2: =事前協議書!#REF! -> #REF! | CD2: =事前協議書!#REF! -> #REF! | ... CR2: =事前協議書!#REF! -> #REF! | CU2: =事前協議書!#REF! -> #REF! | CV2: =事前協議書!#REF! -> #REF! | CW2: =事前協議書!#REF! -> #REF!
A3: =事前協議書!$X$2 -> 2017999 | B3: =事前協議書!$X$3 -> 2 | E3: =事前協議書!$Y$30 -> 0 | F3: =事前協議書!$AB$30 -> 0 | G3: =事前協議書!$AE$30 -> 0 | H3: =事前協議書!$AH$30 -> 0 | J3: =事前協議書!$Y$31 -> 0 | K3: =事前協議書!$Y$32 -> 0 | L3: =事前協議書!$AA$31 -> 0 | M3: =事前協議書!$S$31 -> 0 | N3: =事前協議書!$K$31 -> 0 | O3: =事前協議書!$AA$32 -> 0 | P3: =事前協議書!$S$32 -> 0 | Q3: =事前協議書!$K$32 -> 0 | R3: =事前協議書!$Y$33 -> 0 | S3: =事前協議書!$AB$33 -> 0 | T3: =事前協議書!$AE$34 -> 0 | U3: =事前協議書!$AH$34 -> 0 | Z3: =事前協議書!$Y$39 -> 0 | AA3: =事前協議書!$Y$42 -> 0 | AC3: =事前協議書!$Y$43 -> 0 | AD3: =事前協議書!$H$43 -> 0 | AE3: =事前協議書!$AB$44 -> 0 | AF3: =事前協議書!$Y$44 -> 0 | AG3: =事前協議書!$H$44 -> 0 | AH3: =事前協議書!$Y$45 -> 0 | AI3: =事前協議書!$H$45 -> 0 | AJ3: =事前協議書!$Y$46 -> 0 | AK3: =事前協議書!$AB$46 -> 0 | AL3: =事前協議書!$AE$46 -> 0 | AM3: =事前協議書!$AH$46 -> 0 | AO3: =事前協議書!$Y$47 -> 0 | AP3: =事前協議書!$AB$47 -> 0 | AQ3: =事前協議書!$L$47 -> 0 | BC3: =事前協議書!$Z$58 -> 0 | BD3: =事前協議書!$Z$56 -> 0 | BE3: =事前協議書!$AC$58 -> 0 | BF3: =事前協議書!$Z$59 -> 0 | BG3: =事前協議書!$Z$60 -> 0 | BH3: =事前協議書!$Z$57 -> 0 | BI3: =事前協議書!$Y$34 -> 0 | BJ3: =事前協議書!$AB$34 -> 0 | BN3: =事前協議書!$AB$35 -> 0 | BO3: =事前協議書!$AE$35 -> 0 | BP3: =事前協議書!$Y$36 -> 0 | BQ3: =事前協議書!$I$36 -> 0 | BR3: =事前協議書!$Y$37 -> 0 | BS3: =事前協議書!$I$37 -> 0 | BT3: =事前協議書!$Y$38 -> 0 | BU3: =事前協議書!$J$38 -> 0 | BW3: =事前協議書!AB$39 -> 0 | BX3: =事前協議書!$AH$39 -> 0 | BY3: =事前協議書!$Y$35 -> 0 | BZ3: =事前協議書!$AE$39 -> 0 | CA3: =事前協議書!$Y$40 -> 0 | CB3: =事前協議書!$AB$40 -> 0 | CC3: =事前協議書!$Y$41 -> 0 | CD3: =事前協議書!$AB$41 -> 0 | CF3: =事前協議書!$Y$48 -> 0 | CG3: =事前協議書!$L$48 -> 0 | CH3: =事前協議書!$Y$49 -> 0 | CI3: =事前協議書!$Y$50 -> 0 | CJ3: =事前協議書!$H$50 -> 0 | CK3: =事前協議書!$Y$51 -> 0 | CL3: =事前協議書!$AB$51 -> 0 | CM3: =事前協議書!$Y$52 -> 0 | CN3: =事前協議書!$AB$52 -> 0 | CO3: =事前協議書!$AE$52 -> 0 | CP3: =事前協議書!$AH$52 -> 0 | CQ3: =事前協議書!$Z$53 -> 0 | CR3: =事前協議書!$AD$53 -> 0 | CS3: =事前協議書!$Y$54 -> 0 | CT3: =事前協議書!$J$54 -> 0 | CU3: =事前協議書!$Y$55 -> 0 | CV3: =事前協議書!$H$55 -> 0 | CW3: =事前協議書!$E$62 -> 0
A4: =A2=A3 -> #REF! | B4: =B2=B3 -> #REF! | C4: =C2=C3 -> TRUE | D4: =D2=D3 -> TRUE | E4: =E2=E3 -> #REF! | F4: =F2=F3 -> #REF! | G4: =G2=G3 -> #REF! | H4: =H2=H3 -> #REF! | ... CW4: =CW2=CW3 -> #REF!
I5: 項目なし （IとJ列に変更） | J5: 追加 | K5: 追加 | L5: 元データとCD番号が違った為OK | M5: 数値同じの為OK | O5: 元データとCD番号が違った為OK | P5: 数値同じの為OK | S5: 追加 | V5: 新フォーマットに項目なし | W5: 新フォーマットに項目なし | AD5: 元データ空白 | AI5: 元データ空白 | AQ5: 元データ空白 | BK5: 重複（T列に同項目あり） | BL5: 重複（U列に同項目あり） | BM5: 重複（BX列に同項目あり） | BU5: 追加 | CE5: 重複（AA列に同項目あり） | CS5: 追加 | CT5: 追加 | CV5: 元データ空白

Sheet xls04_建物性能
A1: 建物ID | B1: 協議段階 | C1: 基準一次エネ消費量_GJ_年 | D1: 基準一次エネ消費量_MJ_m2年 | E1: 設計一次エネ消費量_GJ_年 | F1: 設計一次エネ消費量_MJ_m2年 | G1: 一次エネ消費削減量_GJ_年 | H1: 一次エネ消費削減量_MJ_m2年 | I1: BEI | J1: 住戸_代表_UA値 | K1: 住戸_代表_対象床面積_m2 | L1: 住戸_代表_暖房_一次エネ_基準_GJ_年戸 | M1: 住戸_代表_暖房_一次エネ_設計値_GJ_年戸 | N1: 住戸_代表_暖房_BEI | O1: 住戸_代表_冷房_一次エネ_基準_GJ_年戸 | P1: 住戸_代表_冷房_一次エネ_設計値_GJ_年戸 | Q1: 住戸_代表_冷房_BEI | R1: 住戸_代表_換気_一次エネ_基準_GJ_年戸 | S1: 住戸_代表_換気_一次エネ_設計値_GJ_年戸 | T1: 住戸_代表_換気_BEI | U1: 住戸_代表_給湯_一次エネ_基準_GJ_年戸 | V1: 住戸_代表_給湯_一次エネ_設計値_GJ_年戸 | W1: 住戸_代表_給湯_BEI | X1: 住戸_代表_照明_一次エネ_基準_GJ_年戸 | Y1: 住戸_代表_照明_一次エネ_設計値_GJ_年戸 | Z1: 住戸_代表_照明_BEI | AA1: 住戸_代表_削減量_一次エネ_設計値_GJ_年戸 | AB1: 住戸_代表_その他_一次エネ_基準_GJ_年戸 | AC1: 住戸_代表_その他_一次エネ_設計値_GJ_年戸 | AD1: 住戸_代表_その他_BEI | AE1: 住戸_代表_合計_除その他_一次エネ_基準_GJ_年戸 | AF1: 住戸_代表_合計_除その他_一次エネ_設計値_GJ_年戸 | AG1: 住戸_代表_合計_除その他_BEI | AH1: 住戸_最大_UA値 | AI1: 住戸_最大_対象床面積_m2 | AJ1: 住戸_最大_暖房_一次エネ_基準_GJ_年戸 | AK1: 住戸_最大_暖房_一次エネ_設計値_GJ_年戸 | AL1: 住戸_最大_暖房_BEI | AM1: 住戸_最大_冷房_一次エネ_基準_GJ_年戸 | AN1: 住戸_最大_冷房_一次エネ_設計値_GJ_年戸 | AO1: 住戸_最大_冷房_BEI | AP1: 住戸_最大_換気_一次エネ_基準_GJ_年戸 | AQ1: 住戸_最大_換気_一次エネ_設計値_GJ_年戸 | AR1: 住戸_最大_換気_BEI | AS1: 住戸_最大_給湯_一次エネ_基準_GJ_年戸 | AT1: 住戸_最大_給湯_一次エネ_設計値_GJ_年戸 | AU1: 住戸_最大_給湯_BEI | AV1: 住戸_最大_照明_一次エネ_基準_GJ_年戸 | AW1: 住戸_最大_照明_一次エネ_設計値_GJ_年戸 | AX1: 住戸_最大_照明_BEI | AY1: 住戸_最大_削減量_一次エネ_設計値_GJ_年戸 | AZ1: 住戸_最大_その他_一次エネ_基準_GJ_年戸 | BA1: 住戸_最大_その他_一次エネ_設計値_GJ_年戸 | BB1: 住戸_最大_その他_BEI | BC1: 住戸_最大_合計_除その他_一次エネ_基準_GJ_年戸 | BD1: 住戸_最大_合計_除その他_一次エネ_設計値_GJ_年戸 | BE1: 住戸_最大_合計_除その他_BEI | BF1: 共用_PAL_BPI | BG1: 共用_対象床面積_m2 | BH1: 共用_空調_一次エネ_基準_GJ_年 | BI1: 共用_空調_一次エネ_設計値_GJ_年 | BJ1: 共用_空調_BEI | BK1: 共用_換気_一次エネ_基準_GJ_年 | BL1: 共用_換気_一次エネ_設計値_GJ_年 | BM1: 共用_換気_BEI | BN1: 共用_照明_一次エネ_基準_GJ_年 | BO1: 共用_照明_一次エネ_設計値_GJ_年 | BP1: 共用_照明_BEI | BQ1: 共用_給湯_一次エネ_基準_GJ_年 | BR1: 共用_給湯_一次エネ_設計値_GJ_年 | BS1: 共用_給湯_BEI | BT1: 共用_昇降機_一次エネ_基準_GJ_年 | BU1: 共用_昇降機_一次エネ_設計値_GJ_年 | BV1: 共用_昇降機_BEI | BW1: 共用_効率化創エネ量_一次エネ_設計値_GJ_年 | BX1: 共用_その他_一次エネ_基準_GJ_年 | BY1: 共用_その他_一次エネ_設計値_GJ_年 | BZ1: 共用_その他_BEI | CA1: 共用_合計_除その他_一次エネ_基準_GJ_年 | CB1: 共用_合計_除その他_一次エネ_設計値_GJ_年 | CC1: 共用_合計_除その他_BEI | CD1: 電力需要_最大kW | CE1: 省エネ性能_削減率 | CF1: 省エネ性能_結果 | CG1: 省エネ性能_CO2排出削減量_tCO2年 | CH1: 建物全体Ua値 | CI1: ηAC | CJ1: 35%削減未達理由_コスト | CK1: 35%削減未達理由_運用上の制約 | CL1: 35%削減未達理由_仕様基準（一次エネ） | CM1: 20%削減未達理由_その他 | CN1: 20%削減未達理由_その他_内容 | CO1: 千代田区低炭素助成制度申請予定
A2: =事前協議書!#REF! -> #REF! | B2: =事前協議書!#REF! -> #REF! | C2: =事前協議書!#REF! -> #REF! | D2: =事前協議書!#REF! -> #REF! | E2: =事前協議書!#REF! -> #REF! | F2: =事前協議書!#REF! -> #REF! | G2: =事前協議書!#REF! -> #REF! | H2: =事前協議書!#REF! -> #REF! | ... BE2: =事前協議書!#REF! -> #REF! | BH2: =事前協議書!#REF! -> #REF! | BI2: =事前協議書!#REF! -> #REF! | BJ2: =事前協議書!#REF! -> #REF! | BK2: =事前協議書!#REF! -> #REF! | BL2: =事前協議書!#REF! -> #REF! | BM2: =事前協議書!#REF! -> #REF! | BN2: =事前協議書!#REF! -> #REF! | BO2: =事前協議書!#REF! -> #REF! | ... CG2: =事前協議書!#REF! -> #REF! | CH2: =事前協議書!$K$68 -> 0 | CI2: =事前協議書!$P$68 -> 0 | CJ2: =事前協議書!#REF! -> #REF! | CK2: =事前協議書!#REF! -> #REF! | CL2: =事前協議書!#REF! -> #REF! | CO2: =事前協議書!#REF! -> #REF!
A3: =事前協議書!$X$2 -> 2017999 | B3: =事前協議書!$X$3 -> 2 | C3: =事前協議書!$K$65 -> 0 | D3: =事前協議書!$O$65 -> 0 | E3: =事前協議書!$K$64 -> 0 | F3: =事前協議書!$O$64 -> 0 | G3: =事前協議書!$K$66 -> 0 | H3: =事前協議書!$O$66 -> 0 | I3: =事前協議書!$K$67 -> 0 | J3: =事前協議書!$I$70 -> 0 | K3: =事前協議書!$J$70 -> 0 | L3: =事前協議書!$J$72 -> 0 | M3: =事前協議書!$I$72 -> 0 | N3: =事前協議書!$K$72 | O3: =事前協議書!$J$73 -> 0 | P3: =事前協議書!$I$73 -> 0 | Q3: =事前協議書!$K$73 | R3: =事前協議書!$J$74 -> 0 | S3: =事前協議書!$I$74 -> 0 | T3: =事前協議書!$K$74 | U3: =事前協議書!$J$75 -> 0 | V3: =事前協議書!$I$75 -> 0 | W3: =事前協議書!$K$75 | X3: =事前協議書!$J$76 -> 0 | Y3: =事前協議書!$I$76 -> 0 | Z3: =事前協議書!$K$76 | AA3: =事前協議書!$I$77 -> 0 | AB3: =事前協議書!$J$78 -> 0 | AC3: =事前協議書!$I$78 -> 0 | AD3: =事前協議書!$K$78 | AE3: =事前協議書!$J$79 -> 0 | AF3: =事前協議書!$I$79 -> 0 | AG3: =事前協議書!$K$79 | AH3: =事前協議書!$L$70 -> 0 | AI3: =事前協議書!$M$70 -> 0 | AJ3: =事前協議書!$M$72 -> 0 | AK3: =事前協議書!$L$72 -> 0 | AL3: =事前協議書!$N$72 | AM3: =事前協議書!$M$73 -> 0 | AN3: =事前協議書!$L$73 -> 0 | AO3: =事前協議書!$N$73 | AP3: =事前協議書!$M$74 -> 0 | AQ3: =事前協議書!$L$74 -> 0 | AR3: =事前協議書!$N$74 | AS3: =事前協議書!$M$75 -> 0 | AT3: =事前協議書!$L$75 -> 0 | AU3: =事前協議書!$N$75 | AV3: =事前協議書!$M$76 -> 0 | AW3: =事前協議書!$L$76 -> 0 | AX3: =事前協議書!$N$76 | AY3: =事前協議書!$L$77 -> 0 | AZ3: =事前協議書!$M$78 -> 0 | BA3: =事前協議書!$L$78 -> 0 | BB3: =事前協議書!$N$78 | BC3: =事前協議書!$M$79 -> 0 | BD3: =事前協議書!$L$79 -> 0 | BE3: =事前協議書!$N$79 | BH3: =事前協議書!$S$72 -> 0 | BI3: =事前協議書!$R$72 -> 0 | BJ3: =事前協議書!$T$72 | BK3: =事前協議書!$S$73 -> 0 | BL3: =事前協議書!$R$73 -> 0 | BM3: =事前協議書!$T$73 | BN3: =事前協議書!$S$74 -> 0 | BO3: =事前協議書!$R$74 -> 0 | BP3: =事前協議書!$T$74 | BQ3: =事前協議書!$S$75 -> 0 | BR3: =事前協議書!$R$75 -> 0 | BS3: =事前協議書!$T$75 | BT3: =事前協議書!$S$76 -> 0 | BU3: =事前協議書!$R$76 -> 0 | BV3: =事前協議書!$T$76 | BW3: =事前協議書!$R$77 -> 0 | BX3: =事前協議書!$S$78 -> 0 | BY3: =事前協議書!$R$78 -> 0 | BZ3: =事前協議書!$T$78 | CA3: =事前協議書!$S$79 -> 0 | CB3: =事前協議書!$R$79 -> 0 | CC3: =事前協議書!$T$79 | CE3: =事前協議書!$K$81 -> 0 | CF3: =事前協議書!$N$81 -> 努力目標未達 | CG3: =事前協議書!$K$82 -> 0 | CH3: =事前協議書!$K$68 -> 0 | CI3: =事前協議書!$P$68 -> 0 | CJ3: =事前協議書!$X$83 -> 0 | CK3: =事前協議書!$Z$83 -> 0 | CL3: =事前協議書!$AC$83 -> 0 | CM3: =事前協議書!$X$84 -> 0 | CN3: =事前協議書!$H$84 -> 0 | CO3: =事前協議書!$Z$61 -> 0
A4: =A2=A3 -> #REF! | B4: =B2=B3 -> #REF! | C4: =C2=C3 -> #REF! | D4: =D2=D3 -> #REF! | E4: =E2=E3 -> #REF! | F4: =F2=F3 -> #REF! | G4: =G2=G3 -> #REF! | H4: =H2=H3 -> #REF! | ... CO4: =CO2=CO3 -> #REF!
C5: 事前協議書のフォーマットのセルが、変更の為ＯＫ | D5: 事前協議書のフォーマットのセルが、変更の為ＯＫ | E5: 事前協議書のフォーマットのセルが、変更の為ＯＫ | F5: 事前協議書のフォーマットのセルが、変更の為ＯＫ | CD5: 80行非表示の行 | CM5: 追加 | CN5: 追加

Sheet xls05_備考
A1: 建物ID | B1: 協議段階 | C1: 協議メモ | D1: 完了欄 | E1: 受付欄 | F1: 備考欄（公開用） | G1: 備考欄（非公開）
A2: =事前協議書!#REF! -> #REF! | B2: =事前協議書!#REF! -> #REF! | C2: =事前協議書!#REF! -> #REF! | E2: =事前協議書!#REF! -> #REF! | F2: =事前協議書!$E$62 -> 0 | G2: =事前協議書!$E$63 -> 0
